BEGIN:VCALENDAR
VERSION:2.0
PRODID:-//Udadisi - ECPv6.15.13//NONSGML v1.0//EN
CALSCALE:GREGORIAN
METHOD:PUBLISH
X-ORIGINAL-URL:https://udadisi.com
X-WR-CALDESC:Events for Udadisi
REFRESH-INTERVAL;VALUE=DURATION:PT1H
X-Robots-Tag:noindex
X-PUBLISHED-TTL:PT1H
BEGIN:VTIMEZONE
TZID:Africa/Dar_es_Salaam
BEGIN:STANDARD
TZOFFSETFROM:+0300
TZOFFSETTO:+0300
TZNAME:EAT
DTSTART:20250101T000000
END:STANDARD
END:VTIMEZONE
BEGIN:VEVENT
DTSTART;VALUE=DATE:20260316
DTEND;VALUE=DATE:20260317
DTSTAMP:20260423T144017
CREATED:20260306T093657Z
LAST-MODIFIED:20260306T093657Z
UID:14689-1773619200-1773705599@udadisi.com
SUMMARY:CFA: Consultancy to Conduct an Impact Study of the African Women’s Leadership Institute (AWLI)
DESCRIPTION:
URL:https://udadisi.com/event/cfa-consultancy-to-conduct-an-impact-study-of-the-african-womens-leadership-institute-awli/
CATEGORIES:Application,Consultancy
ATTACH;FMTTYPE=image/jpeg:https://udadisi.com/wp-content/uploads/2026/03/AWLI.jpg
END:VEVENT
END:VCALENDAR