BEGIN:VCALENDAR
VERSION:2.0
PRODID:-//Udadisi - ECPv6.15.13//NONSGML v1.0//EN
CALSCALE:GREGORIAN
METHOD:PUBLISH
X-ORIGINAL-URL:https://udadisi.com
X-WR-CALDESC:Events for Udadisi
REFRESH-INTERVAL;VALUE=DURATION:PT1H
X-Robots-Tag:noindex
X-PUBLISHED-TTL:PT1H
BEGIN:VTIMEZONE
TZID:Africa/Dar_es_Salaam
BEGIN:STANDARD
TZOFFSETFROM:+0300
TZOFFSETTO:+0300
TZNAME:EAT
DTSTART:20250101T000000
END:STANDARD
END:VTIMEZONE
BEGIN:VEVENT
DTSTART;TZID=Africa/Dar_es_Salaam:20260112T140000
DTEND;TZID=Africa/Dar_es_Salaam:20260112T173000
DTSTAMP:20260424T015444
CREATED:20260111T073843Z
LAST-MODIFIED:20260111T073843Z
UID:14250-1768226400-1768239000@udadisi.com
SUMMARY:Mdahalo: "Mapinduzi ya Zanzibar ya Mwaka 1964 Yalikuwa Muhimu na ya Lazima"
DESCRIPTION:
URL:https://udadisi.com/event/mdahalo-mapinduzi-ya-zanzibar-ya-mwaka-1964-yalikuwa-muhimu-na-ya-lazima/
CATEGORIES:Dialogue,Discussion,Event
ATTACH;FMTTYPE=image/jpeg:https://udadisi.com/wp-content/uploads/2026/01/IMG-20260111-WA0000.jpg
END:VEVENT
END:VCALENDAR