BEGIN:VCALENDAR
VERSION:2.0
PRODID:-//Udadisi - ECPv6.15.13//NONSGML v1.0//EN
CALSCALE:GREGORIAN
METHOD:PUBLISH
X-ORIGINAL-URL:https://udadisi.com
X-WR-CALDESC:Events for Udadisi
REFRESH-INTERVAL;VALUE=DURATION:PT1H
X-Robots-Tag:noindex
X-PUBLISHED-TTL:PT1H
BEGIN:VTIMEZONE
TZID:Africa/Dar_es_Salaam
BEGIN:STANDARD
TZOFFSETFROM:+0300
TZOFFSETTO:+0300
TZNAME:EAT
DTSTART:20240101T000000
END:STANDARD
END:VTIMEZONE
BEGIN:VEVENT
DTSTART;TZID=Africa/Dar_es_Salaam:20250413T160000
DTEND;TZID=Africa/Dar_es_Salaam:20250413T180000
DTSTAMP:20260426T003134
CREATED:20250412T030907Z
LAST-MODIFIED:20250412T031939Z
UID:13623-1744560000-1744567200@udadisi.com
SUMMARY:Mazungumzo na Profesa Ibrahim Noor Shariff
DESCRIPTION:
URL:https://udadisi.com/event/mazungumzo-na-prof-ibrahim-noor-shariff/
CATEGORIES:Discussion,Talk
ATTACH;FMTTYPE=image/jpeg:https://udadisi.com/wp-content/uploads/2025/04/GoQt5LFWkAAAQXm.jpeg
END:VEVENT
END:VCALENDAR