BEGIN:VCALENDAR
VERSION:2.0
PRODID:-//Udadisi - ECPv6.15.13//NONSGML v1.0//EN
CALSCALE:GREGORIAN
METHOD:PUBLISH
X-WR-CALNAME:Udadisi
X-ORIGINAL-URL:https://udadisi.com
X-WR-CALDESC:Events for Udadisi
REFRESH-INTERVAL;VALUE=DURATION:PT1H
X-Robots-Tag:noindex
X-PUBLISHED-TTL:PT1H
BEGIN:VTIMEZONE
TZID:Africa/Dar_es_Salaam
BEGIN:STANDARD
TZOFFSETFROM:+0300
TZOFFSETTO:+0300
TZNAME:EAT
DTSTART:20250101T000000
END:STANDARD
END:VTIMEZONE
BEGIN:VEVENT
DTSTART;TZID=Africa/Dar_es_Salaam:20260326T153000
DTEND;TZID=Africa/Dar_es_Salaam:20260326T153000
DTSTAMP:20260425T161628
CREATED:20260326T100532Z
LAST-MODIFIED:20260326T100532Z
UID:14858-1774539000-1774539000@udadisi.com
SUMMARY:BOOK DISCUSSION: Leading through Disruption - A Changemaker’s Guide to Twenty-First Century Leadership
DESCRIPTION:
URL:https://udadisi.com/event/book-discussion-leading-through-disruption-a-changemakers-guide-to-twenty-first-century-leadership/
CATEGORIES:Book,Discussion
ATTACH;FMTTYPE=image/jpeg:https://udadisi.com/wp-content/uploads/2026/03/UongoziBD.jpg
END:VEVENT
BEGIN:VEVENT
DTSTART;VALUE=DATE:20260410
DTEND;VALUE=DATE:20260413
DTSTAMP:20260425T161629
CREATED:20260312T081212Z
LAST-MODIFIED:20260312T081212Z
UID:14743-1775779200-1776038399@udadisi.com
SUMMARY:CFR: Relearning to Learn - Building Adaptive Careers in the Age of AI
DESCRIPTION:
URL:https://udadisi.com/event/cfr-relearning-to-learn-building-adaptive-careers-in-the-age-of-ai/
CATEGORIES:Discussion,Registration,Session
ATTACH;FMTTYPE=image/jpeg:https://udadisi.com/wp-content/uploads/2026/03/alabaster.jpg
END:VEVENT
BEGIN:VEVENT
DTSTART;TZID=Africa/Dar_es_Salaam:20260418T150000
DTEND;TZID=Africa/Dar_es_Salaam:20260418T170000
DTSTAMP:20260425T161629
CREATED:20260324T173233Z
LAST-MODIFIED:20260324T173233Z
UID:14854-1776524400-1776531600@udadisi.com
SUMMARY:BOOK CLUB: Posa za Maana
DESCRIPTION:
URL:https://udadisi.com/event/book-club-posa-za-maana/
CATEGORIES:Book,Discussion,Session
ATTACH;FMTTYPE=image/jpeg:https://udadisi.com/wp-content/uploads/2026/03/umbu-1.jpg
END:VEVENT
BEGIN:VEVENT
DTSTART;VALUE=DATE:20260421
DTEND;VALUE=DATE:20260422
DTSTAMP:20260425T161629
CREATED:20260406T124925Z
LAST-MODIFIED:20260406T124925Z
UID:15042-1776729600-1776815999@udadisi.com
SUMMARY:CFR: Learning from Africa - Organizing  Movements and Advancing Human Rights in Dangerous Times
DESCRIPTION:
URL:https://udadisi.com/event/cfr-learning-from-africa-organizing-movements-and-advancing-human-rights-in-dangerous-times/
CATEGORIES:Discussion,Registration,Session
ATTACH;FMTTYPE=image/jpeg:https://udadisi.com/wp-content/uploads/2026/04/LFA.jpg
END:VEVENT
END:VCALENDAR