BEGIN:VCALENDAR
VERSION:2.0
PRODID:-//Udadisi - ECPv6.15.13//NONSGML v1.0//EN
CALSCALE:GREGORIAN
METHOD:PUBLISH
X-ORIGINAL-URL:https://udadisi.com
X-WR-CALDESC:Events for Udadisi
REFRESH-INTERVAL;VALUE=DURATION:PT1H
X-Robots-Tag:noindex
X-PUBLISHED-TTL:PT1H
BEGIN:VTIMEZONE
TZID:Africa/Dar_es_Salaam
BEGIN:STANDARD
TZOFFSETFROM:+0300
TZOFFSETTO:+0300
TZNAME:EAT
DTSTART:20210101T000000
END:STANDARD
END:VTIMEZONE
BEGIN:VTIMEZONE
TZID:Africa/Lagos
BEGIN:STANDARD
TZOFFSETFROM:+0100
TZOFFSETTO:+0100
TZNAME:WAT
DTSTART:20240101T000000
END:STANDARD
END:VTIMEZONE
BEGIN:VTIMEZONE
TZID:Europe/Paris
BEGIN:DAYLIGHT
TZOFFSETFROM:+0100
TZOFFSETTO:+0200
TZNAME:CEST
DTSTART:20220327T010000
END:DAYLIGHT
BEGIN:STANDARD
TZOFFSETFROM:+0200
TZOFFSETTO:+0100
TZNAME:CET
DTSTART:20221030T010000
END:STANDARD
BEGIN:DAYLIGHT
TZOFFSETFROM:+0100
TZOFFSETTO:+0200
TZNAME:CEST
DTSTART:20230326T010000
END:DAYLIGHT
BEGIN:STANDARD
TZOFFSETFROM:+0200
TZOFFSETTO:+0100
TZNAME:CET
DTSTART:20231029T010000
END:STANDARD
BEGIN:DAYLIGHT
TZOFFSETFROM:+0100
TZOFFSETTO:+0200
TZNAME:CEST
DTSTART:20240331T010000
END:DAYLIGHT
BEGIN:STANDARD
TZOFFSETFROM:+0200
TZOFFSETTO:+0100
TZNAME:CET
DTSTART:20241027T010000
END:STANDARD
BEGIN:DAYLIGHT
TZOFFSETFROM:+0100
TZOFFSETTO:+0200
TZNAME:CEST
DTSTART:20250330T010000
END:DAYLIGHT
BEGIN:STANDARD
TZOFFSETFROM:+0200
TZOFFSETTO:+0100
TZNAME:CET
DTSTART:20251026T010000
END:STANDARD
END:VTIMEZONE
BEGIN:VTIMEZONE
TZID:Europe/London
BEGIN:DAYLIGHT
TZOFFSETFROM:+0000
TZOFFSETTO:+0100
TZNAME:BST
DTSTART:20220327T010000
END:DAYLIGHT
BEGIN:STANDARD
TZOFFSETFROM:+0100
TZOFFSETTO:+0000
TZNAME:GMT
DTSTART:20221030T010000
END:STANDARD
BEGIN:DAYLIGHT
TZOFFSETFROM:+0000
TZOFFSETTO:+0100
TZNAME:BST
DTSTART:20230326T010000
END:DAYLIGHT
BEGIN:STANDARD
TZOFFSETFROM:+0100
TZOFFSETTO:+0000
TZNAME:GMT
DTSTART:20231029T010000
END:STANDARD
BEGIN:DAYLIGHT
TZOFFSETFROM:+0000
TZOFFSETTO:+0100
TZNAME:BST
DTSTART:20240331T010000
END:DAYLIGHT
BEGIN:STANDARD
TZOFFSETFROM:+0100
TZOFFSETTO:+0000
TZNAME:GMT
DTSTART:20241027T010000
END:STANDARD
END:VTIMEZONE
BEGIN:VTIMEZONE
TZID:Europe/Helsinki
BEGIN:DAYLIGHT
TZOFFSETFROM:+0200
TZOFFSETTO:+0300
TZNAME:EEST
DTSTART:20220327T010000
END:DAYLIGHT
BEGIN:STANDARD
TZOFFSETFROM:+0300
TZOFFSETTO:+0200
TZNAME:EET
DTSTART:20221030T010000
END:STANDARD
BEGIN:DAYLIGHT
TZOFFSETFROM:+0200
TZOFFSETTO:+0300
TZNAME:EEST
DTSTART:20230326T010000
END:DAYLIGHT
BEGIN:STANDARD
TZOFFSETFROM:+0300
TZOFFSETTO:+0200
TZNAME:EET
DTSTART:20231029T010000
END:STANDARD
BEGIN:DAYLIGHT
TZOFFSETFROM:+0200
TZOFFSETTO:+0300
TZNAME:EEST
DTSTART:20240331T010000
END:DAYLIGHT
BEGIN:STANDARD
TZOFFSETFROM:+0300
TZOFFSETTO:+0200
TZNAME:EET
DTSTART:20241027T010000
END:STANDARD
END:VTIMEZONE
BEGIN:VTIMEZONE
TZID:Africa/Johannesburg
BEGIN:STANDARD
TZOFFSETFROM:+0200
TZOFFSETTO:+0200
TZNAME:SAST
DTSTART:20220101T000000
END:STANDARD
END:VTIMEZONE
BEGIN:VTIMEZONE
TZID:UTC
BEGIN:STANDARD
TZOFFSETFROM:+0000
TZOFFSETTO:+0000
TZNAME:UTC
DTSTART:20210101T000000
END:STANDARD
END:VTIMEZONE
BEGIN:VEVENT
DTSTART;VALUE=DATE:20260116
DTEND;VALUE=DATE:20260117
DTSTAMP:20260423T201422
CREATED:20251029T113111Z
LAST-MODIFIED:20251029T113111Z
UID:13811-1768521600-1768607999@udadisi.com
SUMMARY:African Peacebuilding & Developmental Dynamics Fellowships
DESCRIPTION:
URL:https://udadisi.com/event/african-peacebuilding-developmental-dynamics-fellowships/
CATEGORIES:Application,Event,Fellowship
ATTACH;FMTTYPE=image/jpeg:https://udadisi.com/wp-content/uploads/2025/10/2.jpeg
END:VEVENT
BEGIN:VEVENT
DTSTART;TZID=Africa/Dar_es_Salaam:20260115T170000
DTEND;TZID=Africa/Dar_es_Salaam:20260115T170000
DTSTAMP:20260423T201422
CREATED:20251227T040020Z
LAST-MODIFIED:20251227T040020Z
UID:14126-1768496400-1768496400@udadisi.com
SUMMARY:CFA: AWF Geospatial Leaders Fellowship for Africa’s Conservation Innovators
DESCRIPTION:
URL:https://udadisi.com/event/cfa-awf-geospatial-leaders-fellowship-for-africas-conservation-innovators/
CATEGORIES:Application,Fellowship,Online
ATTACH;FMTTYPE=image/jpeg:https://udadisi.com/wp-content/uploads/2025/12/20251226_225519.jpg
END:VEVENT
BEGIN:VEVENT
DTSTART;VALUE=DATE:20260111
DTEND;VALUE=DATE:20260112
DTSTAMP:20260423T201422
CREATED:20260110T092627Z
LAST-MODIFIED:20260110T092627Z
UID:14242-1768089600-1768175999@udadisi.com
SUMMARY:CFA: WanaData Fellowships - Digitalise Youth Voices in Africa
DESCRIPTION:
URL:https://udadisi.com/event/cfa-wanadata-fellowships-digitalise-youth-voices-in-africa/
CATEGORIES:Application,Fellowship,Funding
ATTACH;FMTTYPE=image/png:https://udadisi.com/wp-content/uploads/2026/01/data_science.png
END:VEVENT
BEGIN:VEVENT
DTSTART;VALUE=DATE:20251201
DTEND;VALUE=DATE:20251202
DTSTAMP:20260423T201422
CREATED:20251112T195525Z
LAST-MODIFIED:20251112T195525Z
UID:13828-1764547200-1764633599@udadisi.com
SUMMARY:Scholars-in-Residence Program Fellowship 2026-27
DESCRIPTION:
URL:https://udadisi.com/event/scholars-in-residence-program-fellowship-2026-27/
CATEGORIES:Application,Fellowship
ATTACH;FMTTYPE=image/png:https://udadisi.com/wp-content/uploads/2025/11/Screenshot-2025-11-12-at-2.53.18-PM.png
END:VEVENT
BEGIN:VEVENT
DTSTART;VALUE=DATE:20251031
DTEND;VALUE=DATE:20251101
DTSTAMP:20260423T201422
CREATED:20251029T104741Z
LAST-MODIFIED:20251029T104741Z
UID:13808-1761868800-1761955199@udadisi.com
SUMMARY:Johannesburg Institute for Advanced Study (JIAS) Writing Fellowship
DESCRIPTION:
URL:https://udadisi.com/event/johannesburg-institute-for-advanced-study-jias-writing-fellowship/
CATEGORIES:Application,Fellowship
ATTACH;FMTTYPE=image/jpeg:https://udadisi.com/wp-content/uploads/2025/10/1-1.jpg
END:VEVENT
BEGIN:VEVENT
DTSTART;TZID=Africa/Lagos:20250823T170000
DTEND;TZID=Africa/Lagos:20250823T170000
DTSTAMP:20260423T201422
CREATED:20250621T101825Z
LAST-MODIFIED:20250621T101825Z
UID:13701-1755968400-1755968400@udadisi.com
SUMMARY:The Black Atlantic Editorial Fellowship
DESCRIPTION:
URL:https://udadisi.com/event/the-black-atlantic-editorial-fellowship/
CATEGORIES:Application,Fellowship
ATTACH;FMTTYPE=image/jpeg:https://udadisi.com/wp-content/uploads/2025/06/Black_Atlantic_Editorial_Fellowship_1750410022_Page_1.jpg
END:VEVENT
BEGIN:VEVENT
DTSTART;VALUE=DATE:20250331
DTEND;VALUE=DATE:20250401
DTSTAMP:20260423T201422
CREATED:20250314T090425Z
LAST-MODIFIED:20250314T090425Z
UID:13619-1743379200-1743465599@udadisi.com
SUMMARY:CFA: MSc Pediatric Hematology and Oncology Fellowship Program
DESCRIPTION:
URL:https://udadisi.com/event/cfa-msc-pediatric-hematology-and-oncology-fellowship-program/
CATEGORIES:Application,Fellowship
ATTACH;FMTTYPE=image/jpeg:https://udadisi.com/wp-content/uploads/2025/03/Gh5jmq3XIAAIvSB.jpeg
END:VEVENT
BEGIN:VEVENT
DTSTART;VALUE=DATE:20241001
DTEND;VALUE=DATE:20241002
DTSTAMP:20260423T201422
CREATED:20240823T020243Z
LAST-MODIFIED:20240823T020243Z
UID:13490-1727740800-1727827199@udadisi.com
SUMMARY:Senior and Postdoctoral Fellowships at the Africa Institute
DESCRIPTION:
URL:https://udadisi.com/event/senior-and-postdoctoral-fellowships-at-the-africa-institute/
CATEGORIES:Application,Fellowship
ATTACH;FMTTYPE=image/jpeg:https://udadisi.com/wp-content/uploads/2024/08/3.jpeg
END:VEVENT
BEGIN:VEVENT
DTSTART;VALUE=DATE:20240512
DTEND;VALUE=DATE:20240513
DTSTAMP:20260423T201422
CREATED:20240430T145923Z
LAST-MODIFIED:20240430T145923Z
UID:13391-1715472000-1715558399@udadisi.com
SUMMARY:Call for Applications: The Mastercard Foundation Edtech Fellowship
DESCRIPTION:
URL:https://udadisi.com/event/call-for-applications-the-mastercard-foundation-edtech-fellowship/
CATEGORIES:Application,Fellowship
ATTACH;FMTTYPE=image/jpeg:https://udadisi.com/wp-content/uploads/2024/04/IMG-20240420-WA0013.jpg
END:VEVENT
BEGIN:VEVENT
DTSTART;VALUE=DATE:20240430
DTEND;VALUE=DATE:20240501
DTSTAMP:20260423T201422
CREATED:20240413T225628Z
LAST-MODIFIED:20240413T225628Z
UID:13368-1714435200-1714521599@udadisi.com
SUMMARY:7 CCNY VISITING RESEARCH FELLOWSHIP
DESCRIPTION:
URL:https://udadisi.com/event/7-ccny-visiting-research-fellowship/
CATEGORIES:Application,Fellowship
ATTACH;FMTTYPE=image/jpeg:https://udadisi.com/wp-content/uploads/2024/04/20240414_015300.jpg
END:VEVENT
BEGIN:VEVENT
DTSTART;VALUE=DATE:20240414
DTEND;VALUE=DATE:20240415
DTSTAMP:20260423T201422
CREATED:20240409T162554Z
LAST-MODIFIED:20240409T162554Z
UID:13364-1713052800-1713139199@udadisi.com
SUMMARY:Call for Applications: 1 CCNY DOCTORAL WRITING FELLOWSHIP
DESCRIPTION:
URL:https://udadisi.com/event/call-for-applications-1-ccny-doctoral-writing-fellowship/
CATEGORIES:Application,Fellowship
ATTACH;FMTTYPE=image/jpeg:https://udadisi.com/wp-content/uploads/2024/04/20240409_191521.jpg
END:VEVENT
BEGIN:VEVENT
DTSTART;VALUE=DATE:20240224
DTEND;VALUE=DATE:20240225
DTSTAMP:20260423T201422
CREATED:20231228T143906Z
LAST-MODIFIED:20231228T143906Z
UID:13198-1708732800-1708819199@udadisi.com
SUMMARY:Visiting Fellowships for Scholars from Global South
DESCRIPTION:
URL:https://udadisi.com/event/visiting-fellowships-for-scholars-from-global-south/
CATEGORIES:Application,Fellowship
ATTACH;FMTTYPE=image/jpeg:https://udadisi.com/wp-content/uploads/2023/12/20231228_173312.jpg
END:VEVENT
BEGIN:VEVENT
DTSTART;VALUE=DATE:20240211
DTEND;VALUE=DATE:20240212
DTSTAMP:20260423T201422
CREATED:20231026T134740Z
LAST-MODIFIED:20231026T134740Z
UID:12997-1707609600-1707695999@udadisi.com
SUMMARY:Call for Proposals:2024 African Peacebuilding Network (APN) and Next Generation Social Sciences in Africa (Next Gen) Fellowship
DESCRIPTION:
URL:https://udadisi.com/event/call-for-proposals2024-african-peacebuilding-network-apn-and-next-generation-social-sciences-in-africa-next-gen-fellowship/
CATEGORIES:Application,Fellowship
ATTACH;FMTTYPE=image/jpeg:https://udadisi.com/wp-content/uploads/2023/10/20231026_163534.jpg
END:VEVENT
BEGIN:VEVENT
DTSTART;VALUE=DATE:20231119
DTEND;VALUE=DATE:20231120
DTSTAMP:20260423T201422
CREATED:20231026T140346Z
LAST-MODIFIED:20231026T140346Z
UID:13006-1700352000-1700438399@udadisi.com
SUMMARY:Call for Applications for Artiste-in-Residence Fellowship 2024
DESCRIPTION:
URL:https://udadisi.com/event/call-for-applications-for-artiste-in-residence-fellowship-2024/
CATEGORIES:Application,Art,Fellowship
ATTACH;FMTTYPE=image/jpeg:https://udadisi.com/wp-content/uploads/2023/10/IMG-20231019-WA0005.jpg
END:VEVENT
BEGIN:VEVENT
DTSTART;VALUE=DATE:20231030
DTEND;VALUE=DATE:20231031
DTSTAMP:20260423T201422
CREATED:20231026T132555Z
LAST-MODIFIED:20231026T132555Z
UID:12995-1698624000-1698710399@udadisi.com
SUMMARY:Leverhulme Trust Early Career Fellowships
DESCRIPTION:
URL:https://udadisi.com/event/leverhulme-trust-early-career-fellowships/
CATEGORIES:Fellowship
ATTACH;FMTTYPE=image/jpeg:https://udadisi.com/wp-content/uploads/2023/10/20231026_160739.jpg
END:VEVENT
BEGIN:VEVENT
DTSTART;VALUE=DATE:20231013
DTEND;VALUE=DATE:20231014
DTSTAMP:20260423T201422
CREATED:20230922T214857Z
LAST-MODIFIED:20230922T214857Z
UID:12861-1697155200-1697241599@udadisi.com
SUMMARY:2024 Kweli Fellowship Program
DESCRIPTION:
URL:https://udadisi.com/event/2024-kweli-fellowship-program/
CATEGORIES:Fellowship
ATTACH;FMTTYPE=image/jpeg:https://udadisi.com/wp-content/uploads/2023/09/20230920_073429.jpg
END:VEVENT
BEGIN:VEVENT
DTSTART;TZID=Europe/Helsinki:20230929T080000
DTEND;TZID=Europe/Helsinki:20230929T170000
DTSTAMP:20260423T201422
CREATED:20230920T043303Z
LAST-MODIFIED:20230920T043303Z
UID:12852-1695974400-1696006800@udadisi.com
SUMMARY:CPHIA 2023 Fellowship Programme
DESCRIPTION:
URL:https://udadisi.com/event/cphia-2023-fellowship-programme/
CATEGORIES:Fellowship
ATTACH;FMTTYPE=image/jpeg:https://udadisi.com/wp-content/uploads/2023/09/Screenshot_20230920_072555_Chrome.jpg
END:VEVENT
BEGIN:VEVENT
DTSTART;VALUE=DATE:20230731
DTEND;VALUE=DATE:20230801
DTSTAMP:20260423T201422
CREATED:20230731T192938Z
LAST-MODIFIED:20230731T192938Z
UID:12698-1690761600-1690847999@udadisi.com
SUMMARY:Postdoctoral Fellowship in Data Science
DESCRIPTION:
URL:https://udadisi.com/event/postdoctoral-fellowship-in-data-science/
CATEGORIES:Application,Fellowship
ATTACH;FMTTYPE=image/jpeg:https://udadisi.com/wp-content/uploads/2023/07/20230731_222435.jpg
END:VEVENT
BEGIN:VEVENT
DTSTART;VALUE=DATE:20230720
DTEND;VALUE=DATE:20230721
DTSTAMP:20260423T201422
CREATED:20230614T164344Z
LAST-MODIFIED:20230614T164344Z
UID:12621-1689811200-1689897599@udadisi.com
SUMMARY:Early Career Research Fellowship
DESCRIPTION:
URL:https://udadisi.com/event/early-career-research-fellowship/
CATEGORIES:Fellowship
ATTACH;FMTTYPE=image/jpeg:https://udadisi.com/wp-content/uploads/2023/06/20230614_193022-scaled.jpg
END:VEVENT
BEGIN:VEVENT
DTSTART;VALUE=DATE:20230620
DTEND;VALUE=DATE:20230621
DTSTAMP:20260423T201422
CREATED:20230517T081647Z
LAST-MODIFIED:20230517T081647Z
UID:12541-1687219200-1687305599@udadisi.com
SUMMARY:Call for Applications: Visiting Fellowship for Scholars from the Global South⁠
DESCRIPTION:
URL:https://udadisi.com/event/call-for-applications-visiting-fellowship-for-scholars-from-the-global-south%e2%81%a0/
CATEGORIES:Application,Fellowship
ATTACH;FMTTYPE=image/jpeg:https://udadisi.com/wp-content/uploads/2023/05/20230517_111100.jpg
END:VEVENT
BEGIN:VEVENT
DTSTART;VALUE=DATE:20230309
DTEND;VALUE=DATE:20230402
DTSTAMP:20260423T201422
CREATED:20230321T184054Z
LAST-MODIFIED:20230406T111318Z
UID:12458-1678320000-1680393599@udadisi.com
SUMMARY:Swahili Teaching Fellowship
DESCRIPTION:
URL:https://udadisi.com/event/swahili-teaching-fellowship/
CATEGORIES:Fellowship
ATTACH;FMTTYPE=image/jpeg:https://udadisi.com/wp-content/uploads/2023/03/Screenshot_20230321_212355_Chrome.jpg
END:VEVENT
BEGIN:VEVENT
DTSTART;VALUE=DATE:20230215
DTEND;VALUE=DATE:20230216
DTSTAMP:20260423T201422
CREATED:20221229T150056Z
LAST-MODIFIED:20221229T150056Z
UID:12259-1676419200-1676505599@udadisi.com
SUMMARY:Call for Applications: Iso Lomso Fellowship
DESCRIPTION:
URL:https://udadisi.com/event/call-for-applications-iso-lomso-fellowship/
CATEGORIES:Application,Fellowship
ATTACH;FMTTYPE=image/jpeg:https://udadisi.com/wp-content/uploads/2022/12/Screenshot_20221229_175244_Chrome.jpg
END:VEVENT
BEGIN:VEVENT
DTSTART;VALUE=DATE:20230201
DTEND;VALUE=DATE:20230202
DTSTAMP:20260423T201422
CREATED:20221009T092518Z
LAST-MODIFIED:20221009T092518Z
UID:11996-1675209600-1675295999@udadisi.com
SUMMARY:Call for Application: International Climate Protection Fellowships
DESCRIPTION:
URL:https://udadisi.com/event/call-for-application-international-climate-protection-fellowships/
CATEGORIES:Fellowship
ATTACH;FMTTYPE=image/png:https://udadisi.com/wp-content/uploads/2022/10/IMG_20221009_122208.png
END:VEVENT
BEGIN:VEVENT
DTSTART;VALUE=DATE:20221130
DTEND;VALUE=DATE:20221201
DTSTAMP:20260423T201422
CREATED:20220805T130128Z
LAST-MODIFIED:20220805T130128Z
UID:11124-1669766400-1669852799@udadisi.com
SUMMARY:Call for Application for Visiting Research Fellowship
DESCRIPTION:
URL:https://udadisi.com/event/call-for-application-for-visiting-research-fellowship/
CATEGORIES:Application,Fellowship,Research
ATTACH;FMTTYPE=image/jpeg:https://udadisi.com/wp-content/uploads/2022/08/Call-for-app.jpg
END:VEVENT
BEGIN:VEVENT
DTSTART;TZID=Africa/Dar_es_Salaam:20220929T120000
DTEND;TZID=Africa/Dar_es_Salaam:20220929T130000
DTSTAMP:20260423T201422
CREATED:20220919T194138Z
LAST-MODIFIED:20220919T194138Z
UID:11615-1664452800-1664456400@udadisi.com
SUMMARY:Interested in Becoming a Princeton in Africa Fellow? Join for a Virtual Panel of Black PiAf Alumni to give Insight Into the Fellowship Experience
DESCRIPTION:
URL:https://udadisi.com/event/interested-in-becoming-a-princeton-in-africa-fellow-join-for-a-virtual-panel-of-black-piaf-alumni-to-give-insight-into-the-fellowship-experience/
CATEGORIES:Fellowship
ATTACH;FMTTYPE=image/jpeg:https://udadisi.com/wp-content/uploads/2022/09/IMG_20220919_223420.jpg
END:VEVENT
BEGIN:VEVENT
DTSTART;VALUE=DATE:20220922
DTEND;VALUE=DATE:20220923
DTSTAMP:20260423T201422
CREATED:20220726T145205Z
LAST-MODIFIED:20220726T145205Z
UID:11098-1663804800-1663891199@udadisi.com
SUMMARY:The Africa Research Excellence Fund is pleased to launch the call for the 2022/23 AREF Research Development Fellowship Programme.
DESCRIPTION:
URL:https://udadisi.com/event/the-africa-research-excellence-fund-is-pleased-to-launch-the-call-for-the-2022-23-aref-research-development-fellowship-programme/
CATEGORIES:Fellowship,Research
ATTACH;FMTTYPE=image/jpeg:https://udadisi.com/wp-content/uploads/2022/07/AREF.jpg
END:VEVENT
BEGIN:VEVENT
DTSTART;VALUE=DATE:20220922
DTEND;VALUE=DATE:20220923
DTSTAMP:20260423T201422
CREATED:20220726T142240Z
LAST-MODIFIED:20220726T142240Z
UID:11091-1663804800-1663891199@udadisi.com
SUMMARY:Apply for the AfrResExFund Research Development Fellowship to Complete a Three to Nine-Month Placement at a Research Institution in Europe or Africa
DESCRIPTION:
URL:https://udadisi.com/event/apply-for-the-afrresexfund-research-development-fellowship-to-complete-a-three-to-nine-month-placement-at-a-research-institution-in-europe-or-africa/
CATEGORIES:Fellowship,Research
ATTACH;FMTTYPE=image/jpeg:https://udadisi.com/wp-content/uploads/2022/07/afri.jpg
END:VEVENT
BEGIN:VEVENT
DTSTART;VALUE=DATE:20220430
DTEND;VALUE=DATE:20220501
DTSTAMP:20260423T201422
CREATED:20220421T074233Z
LAST-MODIFIED:20220421T074233Z
UID:10754-1651276800-1651363199@udadisi.com
SUMMARY:Fellowship Program For Women beigining on June 1\, 2022!
DESCRIPTION:
URL:https://udadisi.com/event/fellowship-program-for-women-beigining-on-june-1-2022/
CATEGORIES:Application,Fellowship
ATTACH;FMTTYPE=image/jpeg:https://udadisi.com/wp-content/uploads/2022/04/FPf5M4FXEAoqeRq.jpg
END:VEVENT
BEGIN:VEVENT
DTSTART;VALUE=DATE:20220422
DTEND;VALUE=DATE:20220423
DTSTAMP:20260423T201422
CREATED:20220406T095052Z
LAST-MODIFIED:20220425T025429Z
UID:10656-1650585600-1650671999@udadisi.com
SUMMARY:2022 Graduate Attachment Scheme (GAS): 3-Month Enrolment at the BIEA in Nairobi
DESCRIPTION:
URL:https://udadisi.com/event/2022-graduate-attachment-scheme-offers-3-months-in-nairobi-with-the-biea/
CATEGORIES:Application,Fellowship,Research
ATTACH;FMTTYPE=image/png:https://udadisi.com/wp-content/uploads/2022/04/Screenshot-2022-04-07-at-04.03.05.png
END:VEVENT
BEGIN:VEVENT
DTSTART;VALUE=DATE:20220415
DTEND;VALUE=DATE:20220416
DTSTAMP:20260423T201422
CREATED:20220317T093709Z
LAST-MODIFIED:20220317T093834Z
UID:10471-1649980800-1650067199@udadisi.com
SUMMARY:New Catto Scholarship For Our PhD African Studies Programme. Open to Female Candidates From Africa.
DESCRIPTION:
URL:https://udadisi.com/event/new-catto-scholarship-for-our-phd-african-studies-programme-open-to-female-candidates-from-africa/
CATEGORIES:Application,Fellowship,Scholarship
ATTACH;FMTTYPE=image/jpeg:https://udadisi.com/wp-content/uploads/2022/03/FN5mLVCWQAIibTG.jpg
END:VEVENT
END:VCALENDAR