BEGIN:VCALENDAR
VERSION:2.0
PRODID:-//Udadisi - ECPv6.15.13//NONSGML v1.0//EN
CALSCALE:GREGORIAN
METHOD:PUBLISH
X-ORIGINAL-URL:https://udadisi.com
X-WR-CALDESC:Events for Udadisi
REFRESH-INTERVAL;VALUE=DURATION:PT1H
X-Robots-Tag:noindex
X-PUBLISHED-TTL:PT1H
BEGIN:VTIMEZONE
TZID:Africa/Dar_es_Salaam
BEGIN:STANDARD
TZOFFSETFROM:+0300
TZOFFSETTO:+0300
TZNAME:EAT
DTSTART:20250101T000000
END:STANDARD
END:VTIMEZONE
BEGIN:VEVENT
DTSTART;VALUE=DATE:20260227
DTEND;VALUE=DATE:20260228
DTSTAMP:20260425T183718
CREATED:20251223T092729Z
LAST-MODIFIED:20251223T092729Z
UID:13996-1772150400-1772236799@udadisi.com
SUMMARY:CFA: CODESRIA Meaning-Making Research Initiatives (MRI) 2026 - Advanced Senior Research Fellowship
DESCRIPTION:
URL:https://udadisi.com/event/cfa-codesria-meaning-making-research-initiatives-mri-2026-advanced-senior-research-fellowship/
CATEGORIES:Application,Fellowship,Research
ATTACH;FMTTYPE=image/png:https://udadisi.com/wp-content/uploads/2025/12/codesria_senior.png
END:VEVENT
BEGIN:VEVENT
DTSTART;VALUE=DATE:20260301
DTEND;VALUE=DATE:20260302
DTSTAMP:20260425T183718
CREATED:20260119T072939Z
LAST-MODIFIED:20260119T072939Z
UID:14363-1772323200-1772409599@udadisi.com
SUMMARY:CFA: Marie Skłodowska-Curie Postdoctoral Fellowships 2026 (MSCA-PF)
DESCRIPTION:
URL:https://udadisi.com/event/cfa-marie-sklodowska-curie-postdoctoral-fellowships-2026-msca-pf/
CATEGORIES:Application,Fellowship,Grant,Research
ATTACH;FMTTYPE=image/jpeg:https://udadisi.com/wp-content/uploads/2026/01/marie_curie.jpg
END:VEVENT
BEGIN:VEVENT
DTSTART;VALUE=DATE:20260301
DTEND;VALUE=DATE:20260302
DTSTAMP:20260425T183718
CREATED:20260128T081324Z
LAST-MODIFIED:20260128T081324Z
UID:14483-1772323200-1772409599@udadisi.com
SUMMARY:CFA: Tejumola Olaniyan Creative Writers-in-Residence Fellowship
DESCRIPTION:
URL:https://udadisi.com/event/cfa-tejumola-olaniyan-creative-writers-in-residence-fellowship/
CATEGORIES:Application,Fellowship,Grant,Residence
ATTACH;FMTTYPE=image/jpeg:https://udadisi.com/wp-content/uploads/2026/01/Tejumola.jpg
END:VEVENT
BEGIN:VEVENT
DTSTART;TZID=Africa/Dar_es_Salaam:20260306T170000
DTEND;TZID=Africa/Dar_es_Salaam:20260306T170000
DTSTAMP:20260425T183718
CREATED:20260211T071354Z
LAST-MODIFIED:20260211T071354Z
UID:14565-1772816400-1772816400@udadisi.com
SUMMARY:CFA: Research Fellow (Fixed Term)
DESCRIPTION:
URL:https://udadisi.com/event/cfa-research-fellow-fixed-term/
CATEGORIES:Application,Fellowship,Job,Research
ATTACH;FMTTYPE=image/jpeg:https://udadisi.com/wp-content/uploads/2026/02/Biea.jpg
END:VEVENT
BEGIN:VEVENT
DTSTART;VALUE=DATE:20260307
DTEND;VALUE=DATE:20260308
DTSTAMP:20260425T183718
CREATED:20260205T114104Z
LAST-MODIFIED:20260205T114104Z
UID:14546-1772841600-1772927999@udadisi.com
SUMMARY:CFA: Research Office Postdoctoral Fellowship
DESCRIPTION:
URL:https://udadisi.com/event/cfa-research-office-postdoctoral-fellowship/
CATEGORIES:Application,Fellowship,Research
ATTACH;FMTTYPE=image/png:https://udadisi.com/wp-content/uploads/2026/02/wits.png
END:VEVENT
BEGIN:VEVENT
DTSTART;VALUE=DATE:20260308
DTEND;VALUE=DATE:20260309
DTSTAMP:20260425T183718
CREATED:20260304T113643Z
LAST-MODIFIED:20260304T113643Z
UID:14659-1772928000-1773014399@udadisi.com
SUMMARY:CFA: APSA Diversity Fellowship Program – 1st and 2nd Year PhD Students
DESCRIPTION:
URL:https://udadisi.com/event/cfa-apsa-diversity-fellowship-program-1st-and-2nd-year-phd-students/
CATEGORIES:Application,Fellowship,Funding
ATTACH;FMTTYPE=image/jpeg:https://udadisi.com/wp-content/uploads/2026/03/APSA.jpg
END:VEVENT
BEGIN:VEVENT
DTSTART;VALUE=DATE:20260312
DTEND;VALUE=DATE:20260313
DTSTAMP:20260425T183718
CREATED:20260128T060632Z
LAST-MODIFIED:20260128T081632Z
UID:14460-1773273600-1773359999@udadisi.com
SUMMARY:CFA: Global Africa Translation Fellowship
DESCRIPTION:
URL:https://udadisi.com/event/cfa-global-africa-translation-fellowship/
CATEGORIES:Application,Fellowship,Funding
ATTACH;FMTTYPE=image/png:https://udadisi.com/wp-content/uploads/2026/01/globalAfrica.png
END:VEVENT
BEGIN:VEVENT
DTSTART;VALUE=DATE:20260316
DTEND;VALUE=DATE:20260317
DTSTAMP:20260425T183718
CREATED:20260224T105634Z
LAST-MODIFIED:20260224T105906Z
UID:14636-1773619200-1773705599@udadisi.com
SUMMARY:CFA: CSAAD 2026 - 2027 Postdoctoral Research Fellowship
DESCRIPTION:
URL:https://udadisi.com/event/cfa-csaad-2026-2027-post-doctoral-research-fellowship/
CATEGORIES:Application,Fellowship,Funding,Research
ATTACH;FMTTYPE=image/jpeg:https://udadisi.com/wp-content/uploads/2026/02/CSAAD.jpg
END:VEVENT
BEGIN:VEVENT
DTSTART;VALUE=DATE:20260331
DTEND;VALUE=DATE:20260401
DTSTAMP:20260425T183718
CREATED:20260308T121215Z
LAST-MODIFIED:20260308T121215Z
UID:14706-1774915200-1775001599@udadisi.com
SUMMARY:VACANCY: Visiting PhD Fellowship
DESCRIPTION:
URL:https://udadisi.com/event/vacancy-visiting-phd-fellowship/
CATEGORIES:Application,Fellowship,Funding
ATTACH;FMTTYPE=image/jpeg:https://udadisi.com/wp-content/uploads/2026/03/UNU.jpg
END:VEVENT
BEGIN:VEVENT
DTSTART;TZID=Africa/Dar_es_Salaam:20260331T140000
DTEND;TZID=Africa/Dar_es_Salaam:20260331T140000
DTSTAMP:20260425T183718
CREATED:20251230T173305Z
LAST-MODIFIED:20251230T173305Z
UID:14170-1774965600-1774965600@udadisi.com
SUMMARY:CFA: The NIAS Safe Haven Fellowship
DESCRIPTION:
URL:https://udadisi.com/event/cfa-the-nias-safe-haven-fellowship/
CATEGORIES:Application,Fellowship
ATTACH;FMTTYPE=image/jpeg:https://udadisi.com/wp-content/uploads/2025/12/NIAS.jpg
END:VEVENT
BEGIN:VEVENT
DTSTART;VALUE=DATE:20260407
DTEND;VALUE=DATE:20260408
DTSTAMP:20260425T183718
CREATED:20260331T111925Z
LAST-MODIFIED:20260331T111925Z
UID:14899-1775520000-1775606399@udadisi.com
SUMMARY:CFA: Chatham House Academy Fellowships 2026-27
DESCRIPTION:
URL:https://udadisi.com/event/cfa-chatham-house-academy-fellowships-2026-27/
CATEGORIES:Application,Fellowship,Research
ATTACH;FMTTYPE=image/jpeg:https://udadisi.com/wp-content/uploads/2026/03/chatham.jpg
END:VEVENT
BEGIN:VEVENT
DTSTART;VALUE=DATE:20260417
DTEND;VALUE=DATE:20260418
DTSTAMP:20260425T183718
CREATED:20260312T085019Z
LAST-MODIFIED:20260312T085019Z
UID:14750-1776384000-1776470399@udadisi.com
SUMMARY:CFA: Center for African Studies Visiting Fellowships 2027
DESCRIPTION:
URL:https://udadisi.com/event/cfa-center-for-african-studies-visiting-fellowships-2027/
CATEGORIES:Application,Fellowship,Funding
ATTACH;FMTTYPE=image/png:https://udadisi.com/wp-content/uploads/2026/03/UCB.png
END:VEVENT
BEGIN:VEVENT
DTSTART;TZID=Africa/Dar_es_Salaam:20260422T180000
DTEND;TZID=Africa/Dar_es_Salaam:20260422T180000
DTSTAMP:20260425T183718
CREATED:20260404T084213Z
LAST-MODIFIED:20260404T084213Z
UID:14940-1776880800-1776880800@udadisi.com
SUMMARY:CFA: YouthIgnite Student Founders Fellowship – Cohort 3
DESCRIPTION:
URL:https://udadisi.com/event/cfa-youthignite-student-founders-fellowship-cohort-3/
CATEGORIES:Application,Fellowship,Funding,Networking
ATTACH;FMTTYPE=image/jpeg:https://udadisi.com/wp-content/uploads/2026/04/YouthIgnite.jpg
END:VEVENT
BEGIN:VEVENT
DTSTART;VALUE=DATE:20260430
DTEND;VALUE=DATE:20260501
DTSTAMP:20260425T183718
CREATED:20260315T171019Z
LAST-MODIFIED:20260315T171213Z
UID:14777-1777507200-1777593599@udadisi.com
SUMMARY:CFA: STIAS Fellowships for Second Semester Cohort 2027
DESCRIPTION:
URL:https://udadisi.com/event/cfa-stias-fellowships-for-second-semester-2027/
CATEGORIES:Application,Fellowship
ATTACH;FMTTYPE=image/jpeg:https://udadisi.com/wp-content/uploads/2026/03/stias.jpg
END:VEVENT
BEGIN:VEVENT
DTSTART;VALUE=DATE:20260430
DTEND;VALUE=DATE:20260501
DTSTAMP:20260425T183718
CREATED:20260404T062200Z
LAST-MODIFIED:20260404T062200Z
UID:14932-1777507200-1777593599@udadisi.com
SUMMARY:CFA: Life of Pachamama COP31 Fellowship Program
DESCRIPTION:
URL:https://udadisi.com/event/cfa-life-of-pachamama-cop31-fellowship-program/
CATEGORIES:Application,Fellowship,Funding,Networking
ATTACH;FMTTYPE=image/jpeg:https://udadisi.com/wp-content/uploads/2026/04/pachamama.jpg
END:VEVENT
BEGIN:VEVENT
DTSTART;VALUE=DATE:20260524
DTEND;VALUE=DATE:20260525
DTSTAMP:20260425T183718
CREATED:20260420T074017Z
LAST-MODIFIED:20260420T074017Z
UID:15109-1779580800-1779667199@udadisi.com
SUMMARY:CFA: Africa Leadership Centre (ALC) Peace\, Security and Development Fellowships 2026-2027
DESCRIPTION:
URL:https://udadisi.com/event/cfa-africa-leadership-centre-alc-peace-security-and-development-fellowships-2026-2027/
CATEGORIES:Application,Fellowship,Funding
ATTACH;FMTTYPE=image/jpeg:https://udadisi.com/wp-content/uploads/2026/04/ALC.jpg
END:VEVENT
END:VCALENDAR