BEGIN:VCALENDAR
VERSION:2.0
PRODID:-//Udadisi - ECPv6.15.13//NONSGML v1.0//EN
CALSCALE:GREGORIAN
METHOD:PUBLISH
X-ORIGINAL-URL:https://udadisi.com
X-WR-CALDESC:Events for Udadisi
REFRESH-INTERVAL;VALUE=DURATION:PT1H
X-Robots-Tag:noindex
X-PUBLISHED-TTL:PT1H
BEGIN:VTIMEZONE
TZID:Africa/Dar_es_Salaam
BEGIN:STANDARD
TZOFFSETFROM:+0300
TZOFFSETTO:+0300
TZNAME:EAT
DTSTART:20200101T000000
END:STANDARD
END:VTIMEZONE
BEGIN:VTIMEZONE
TZID:UTC
BEGIN:STANDARD
TZOFFSETFROM:+0000
TZOFFSETTO:+0000
TZNAME:UTC
DTSTART:20200101T000000
END:STANDARD
END:VTIMEZONE
BEGIN:VTIMEZONE
TZID:America/New_York
BEGIN:DAYLIGHT
TZOFFSETFROM:-0500
TZOFFSETTO:-0400
TZNAME:EDT
DTSTART:20210314T070000
END:DAYLIGHT
BEGIN:STANDARD
TZOFFSETFROM:-0400
TZOFFSETTO:-0500
TZNAME:EST
DTSTART:20211107T060000
END:STANDARD
BEGIN:DAYLIGHT
TZOFFSETFROM:-0500
TZOFFSETTO:-0400
TZNAME:EDT
DTSTART:20220313T070000
END:DAYLIGHT
BEGIN:STANDARD
TZOFFSETFROM:-0400
TZOFFSETTO:-0500
TZNAME:EST
DTSTART:20221106T060000
END:STANDARD
BEGIN:DAYLIGHT
TZOFFSETFROM:-0500
TZOFFSETTO:-0400
TZNAME:EDT
DTSTART:20230312T070000
END:DAYLIGHT
BEGIN:STANDARD
TZOFFSETFROM:-0400
TZOFFSETTO:-0500
TZNAME:EST
DTSTART:20231105T060000
END:STANDARD
END:VTIMEZONE
BEGIN:VTIMEZONE
TZID:Europe/Helsinki
BEGIN:DAYLIGHT
TZOFFSETFROM:+0200
TZOFFSETTO:+0300
TZNAME:EEST
DTSTART:20200329T010000
END:DAYLIGHT
BEGIN:STANDARD
TZOFFSETFROM:+0300
TZOFFSETTO:+0200
TZNAME:EET
DTSTART:20201025T010000
END:STANDARD
BEGIN:DAYLIGHT
TZOFFSETFROM:+0200
TZOFFSETTO:+0300
TZNAME:EEST
DTSTART:20210328T010000
END:DAYLIGHT
BEGIN:STANDARD
TZOFFSETFROM:+0300
TZOFFSETTO:+0200
TZNAME:EET
DTSTART:20211031T010000
END:STANDARD
BEGIN:DAYLIGHT
TZOFFSETFROM:+0200
TZOFFSETTO:+0300
TZNAME:EEST
DTSTART:20220327T010000
END:DAYLIGHT
BEGIN:STANDARD
TZOFFSETFROM:+0300
TZOFFSETTO:+0200
TZNAME:EET
DTSTART:20221030T010000
END:STANDARD
END:VTIMEZONE
BEGIN:VEVENT
DTSTART;TZID=Africa/Dar_es_Salaam:20220929T120000
DTEND;TZID=Africa/Dar_es_Salaam:20220929T130000
DTSTAMP:20260425T144608
CREATED:20220919T194138Z
LAST-MODIFIED:20220919T194138Z
UID:11615-1664452800-1664456400@udadisi.com
SUMMARY:Interested in Becoming a Princeton in Africa Fellow? Join for a Virtual Panel of Black PiAf Alumni to give Insight Into the Fellowship Experience
DESCRIPTION:
URL:https://udadisi.com/event/interested-in-becoming-a-princeton-in-africa-fellow-join-for-a-virtual-panel-of-black-piaf-alumni-to-give-insight-into-the-fellowship-experience/
CATEGORIES:Fellowship
ATTACH;FMTTYPE=image/jpeg:https://udadisi.com/wp-content/uploads/2022/09/IMG_20220919_223420.jpg
END:VEVENT
BEGIN:VEVENT
DTSTART;VALUE=DATE:20220922
DTEND;VALUE=DATE:20220923
DTSTAMP:20260425T144608
CREATED:20220726T145205Z
LAST-MODIFIED:20220726T145205Z
UID:11098-1663804800-1663891199@udadisi.com
SUMMARY:The Africa Research Excellence Fund is pleased to launch the call for the 2022/23 AREF Research Development Fellowship Programme.
DESCRIPTION:
URL:https://udadisi.com/event/the-africa-research-excellence-fund-is-pleased-to-launch-the-call-for-the-2022-23-aref-research-development-fellowship-programme/
CATEGORIES:Fellowship,Research
ATTACH;FMTTYPE=image/jpeg:https://udadisi.com/wp-content/uploads/2022/07/AREF.jpg
END:VEVENT
BEGIN:VEVENT
DTSTART;VALUE=DATE:20220922
DTEND;VALUE=DATE:20220923
DTSTAMP:20260425T144608
CREATED:20220726T142240Z
LAST-MODIFIED:20220726T142240Z
UID:11091-1663804800-1663891199@udadisi.com
SUMMARY:Apply for the AfrResExFund Research Development Fellowship to Complete a Three to Nine-Month Placement at a Research Institution in Europe or Africa
DESCRIPTION:
URL:https://udadisi.com/event/apply-for-the-afrresexfund-research-development-fellowship-to-complete-a-three-to-nine-month-placement-at-a-research-institution-in-europe-or-africa/
CATEGORIES:Fellowship,Research
ATTACH;FMTTYPE=image/jpeg:https://udadisi.com/wp-content/uploads/2022/07/afri.jpg
END:VEVENT
BEGIN:VEVENT
DTSTART;VALUE=DATE:20220430
DTEND;VALUE=DATE:20220501
DTSTAMP:20260425T144608
CREATED:20220421T074233Z
LAST-MODIFIED:20220421T074233Z
UID:10754-1651276800-1651363199@udadisi.com
SUMMARY:Fellowship Program For Women beigining on June 1\, 2022!
DESCRIPTION:
URL:https://udadisi.com/event/fellowship-program-for-women-beigining-on-june-1-2022/
CATEGORIES:Application,Fellowship
ATTACH;FMTTYPE=image/jpeg:https://udadisi.com/wp-content/uploads/2022/04/FPf5M4FXEAoqeRq.jpg
END:VEVENT
BEGIN:VEVENT
DTSTART;VALUE=DATE:20220422
DTEND;VALUE=DATE:20220423
DTSTAMP:20260425T144608
CREATED:20220406T095052Z
LAST-MODIFIED:20220425T025429Z
UID:10656-1650585600-1650671999@udadisi.com
SUMMARY:2022 Graduate Attachment Scheme (GAS): 3-Month Enrolment at the BIEA in Nairobi
DESCRIPTION:
URL:https://udadisi.com/event/2022-graduate-attachment-scheme-offers-3-months-in-nairobi-with-the-biea/
CATEGORIES:Application,Fellowship,Research
ATTACH;FMTTYPE=image/png:https://udadisi.com/wp-content/uploads/2022/04/Screenshot-2022-04-07-at-04.03.05.png
END:VEVENT
BEGIN:VEVENT
DTSTART;VALUE=DATE:20220415
DTEND;VALUE=DATE:20220416
DTSTAMP:20260425T144608
CREATED:20220317T093709Z
LAST-MODIFIED:20220317T093834Z
UID:10471-1649980800-1650067199@udadisi.com
SUMMARY:New Catto Scholarship For Our PhD African Studies Programme. Open to Female Candidates From Africa.
DESCRIPTION:
URL:https://udadisi.com/event/new-catto-scholarship-for-our-phd-african-studies-programme-open-to-female-candidates-from-africa/
CATEGORIES:Application,Fellowship,Scholarship
ATTACH;FMTTYPE=image/jpeg:https://udadisi.com/wp-content/uploads/2022/03/FN5mLVCWQAIibTG.jpg
END:VEVENT
BEGIN:VEVENT
DTSTART;VALUE=DATE:20220415
DTEND;VALUE=DATE:20220416
DTSTAMP:20260425T144608
CREATED:20220215T124141Z
LAST-MODIFIED:20220309T030416Z
UID:9994-1649980800-1650067199@udadisi.com
SUMMARY:Apply for the OWSD Ph.D. Fellowships to undertake research in the natural\, engineering\, and information technology sciences.
DESCRIPTION:
URL:https://udadisi.com/event/apply-for-the-owsd-ph-d-fellowships-to-undertake-research-in-the-natural-engineering-and-information-technology-sciences/
CATEGORIES:Application,Fellowship
ATTACH;FMTTYPE=image/jpeg:https://udadisi.com/wp-content/uploads/2022/02/FLntEZDXMAID3Uv.jpg
END:VEVENT
BEGIN:VEVENT
DTSTART;VALUE=DATE:20220331
DTEND;VALUE=DATE:20220401
DTSTAMP:20260425T144608
CREATED:20220304T073122Z
LAST-MODIFIED:20220331T024432Z
UID:10160-1648684800-1648771199@udadisi.com
SUMMARY:AIMS Master’s in Mathematical Sciences
DESCRIPTION:
URL:https://udadisi.com/event/2022-cohort-for-the-fully-funded-aims-masters-in-mathematical/
CATEGORIES:Application,Course,Fellowship,Online,Scholarship
ATTACH;FMTTYPE=image/png:https://udadisi.com/wp-content/uploads/2022/03/FJ3eMvwWQAQVJex.png
END:VEVENT
BEGIN:VEVENT
DTSTART;VALUE=DATE:20220331
DTEND;VALUE=DATE:20220401
DTSTAMP:20260425T144608
CREATED:20220228T085300Z
LAST-MODIFIED:20220331T023723Z
UID:10080-1648684800-1648771199@udadisi.com
SUMMARY:Applications to the CAS Visiting Fellowships 2022-23
DESCRIPTION:
URL:https://udadisi.com/event/applications-to-the-cas-visiting-fellowships-2022-23/
CATEGORIES:Application,Fellowship
ATTACH;FMTTYPE=image/png:https://udadisi.com/wp-content/uploads/2022/02/Screenshot-2022-03-31-at-05.36.20.png
END:VEVENT
BEGIN:VEVENT
DTSTART;TZID=UTC:20220225T080000
DTEND;TZID=UTC:20220225T170000
DTSTAMP:20260425T144608
CREATED:20220315T101955Z
LAST-MODIFIED:20220315T101955Z
UID:10402-1645776000-1645808400@udadisi.com
SUMMARY:Doctoral and Postdoctoral Fellowships
DESCRIPTION:
URL:https://udadisi.com/event/doctoral-and-postdoctoral-fellowships/
CATEGORIES:Application,Fellowship
ATTACH;FMTTYPE=image/jpeg:https://udadisi.com/wp-content/uploads/2022/03/Screenshot-2022-03-15-131804.jpg
END:VEVENT
BEGIN:VEVENT
DTSTART;VALUE=DATE:20220201
DTEND;VALUE=DATE:20220202
DTSTAMP:20260425T144608
CREATED:20211226T175445Z
LAST-MODIFIED:20211226T175842Z
UID:9892-1643673600-1643759999@udadisi.com
SUMMARY:Next Generation Social Sciences in Africa Fellowships
DESCRIPTION:
URL:https://udadisi.com/event/next-generation-social-sciences-in-africa-fellowships/
CATEGORIES:Fellowship
ATTACH;FMTTYPE=image/png:https://udadisi.com/wp-content/uploads/2021/12/Screenshot-2021-12-26-at-20.52.50.png
END:VEVENT
BEGIN:VEVENT
DTSTART;TZID=Africa/Dar_es_Salaam:20220131T200000
DTEND;TZID=Africa/Dar_es_Salaam:20220131T200000
DTSTAMP:20260425T144608
CREATED:20220131T112754Z
LAST-MODIFIED:20220131T112754Z
UID:9923-1643659200-1643659200@udadisi.com
SUMMARY:LUCAS-LAHRI Virtual Research Fellowships Scheme
DESCRIPTION:
URL:https://udadisi.com/event/lucas-lahri-virtual-research-fellowships-scheme/
CATEGORIES:Application,Fellowship
ATTACH;FMTTYPE=image/jpeg:https://udadisi.com/wp-content/uploads/2022/01/udadisi2.jpg
END:VEVENT
BEGIN:VEVENT
DTSTART;TZID=America/New_York:20220112T210000
DTEND;TZID=America/New_York:20220112T210000
DTSTAMP:20260425T144608
CREATED:20211214T163139Z
LAST-MODIFIED:20211214T163139Z
UID:9817-1642021200-1642021200@udadisi.com
SUMMARY:ACLS Emerging Voices Fellowship
DESCRIPTION:
URL:https://udadisi.com/event/acls-emerging-voices-fellowship/
CATEGORIES:Fellowship
ATTACH;FMTTYPE=image/png:https://udadisi.com/wp-content/uploads/2021/12/2.png
END:VEVENT
BEGIN:VEVENT
DTSTART;VALUE=DATE:20211215
DTEND;VALUE=DATE:20211216
DTSTAMP:20260425T144608
CREATED:20210907T080336Z
LAST-MODIFIED:20210907T080336Z
UID:9000-1639526400-1639612799@udadisi.com
SUMMARY:Postdoctoral Fellowships
DESCRIPTION:
URL:https://udadisi.com/event/postdoctoral-fellowships/
CATEGORIES:Fellowship
ATTACH;FMTTYPE=image/png:https://udadisi.com/wp-content/uploads/2021/09/Screen-Shot-2021-09-07-at-7.01.36-AM.png
END:VEVENT
BEGIN:VEVENT
DTSTART;VALUE=DATE:20211115
DTEND;VALUE=DATE:20211116
DTSTAMP:20260425T144608
CREATED:20211109T050923Z
LAST-MODIFIED:20211109T050951Z
UID:9663-1636934400-1637020799@udadisi.com
SUMMARY:Open Skies External Application
DESCRIPTION:
URL:https://udadisi.com/event/open-skies-external-application/
CATEGORIES:Fellowship
ATTACH;FMTTYPE=image/jpeg:https://udadisi.com/wp-content/uploads/2021/11/twitter.com_.jpg
END:VEVENT
BEGIN:VEVENT
DTSTART;VALUE=DATE:20211102
DTEND;VALUE=DATE:20211103
DTSTAMP:20260425T144608
CREATED:20210821T011053Z
LAST-MODIFIED:20210821T011053Z
UID:8920-1635811200-1635897599@udadisi.com
SUMMARY:International Dissertation Research Fellowship (IDRF)
DESCRIPTION:
URL:https://udadisi.com/event/international-dissertation-research-fellowship-idrf/
CATEGORIES:Fellowship
ATTACH;FMTTYPE=image/jpeg:https://udadisi.com/wp-content/uploads/2021/08/E9GI2DBWYAA705X.jpeg
END:VEVENT
BEGIN:VEVENT
DTSTART;VALUE=DATE:20211101
DTEND;VALUE=DATE:20211102
DTSTAMP:20260425T144608
CREATED:20210907T075657Z
LAST-MODIFIED:20210907T075657Z
UID:8997-1635724800-1635811199@udadisi.com
SUMMARY:Du Bois-Mandela-Rodney (DMR)/NCID Postdoctoral Fellowship
DESCRIPTION:
URL:https://udadisi.com/event/du-bois-mandela-rodney-dmr-ncid-postdoctoral-fellowship/
CATEGORIES:Fellowship
ATTACH;FMTTYPE=image/jpeg:https://udadisi.com/wp-content/uploads/2021/09/E9K1Re9WEAUKcho.jpeg
END:VEVENT
BEGIN:VEVENT
DTSTART;VALUE=DATE:20211007
DTEND;VALUE=DATE:20211008
DTSTAMP:20260425T144608
CREATED:20210907T075457Z
LAST-MODIFIED:20210907T075457Z
UID:8994-1633564800-1633651199@udadisi.com
SUMMARY:Residential Fellowship
DESCRIPTION:
URL:https://udadisi.com/event/residential-fellowship/
CATEGORIES:Fellowship
ATTACH;FMTTYPE=image/png:https://udadisi.com/wp-content/uploads/2021/09/Screen-Shot-2021-09-07-at-6.50.22-AM.png
END:VEVENT
BEGIN:VEVENT
DTSTART;TZID=Africa/Dar_es_Salaam:20211003T170000
DTEND;TZID=Africa/Dar_es_Salaam:20211003T170000
DTSTAMP:20260425T144608
CREATED:20210907T081214Z
LAST-MODIFIED:20210907T081214Z
UID:9006-1633280400-1633280400@udadisi.com
SUMMARY:African Humanities Program Postdoctoral Fellowship
DESCRIPTION:
URL:https://udadisi.com/event/african-humanities-program-postdoctoral-fellowship/
CATEGORIES:Fellowship
ATTACH;FMTTYPE=image/png:https://udadisi.com/wp-content/uploads/2021/09/Screen-Shot-2021-09-07-at-7.11.40-AM.png
END:VEVENT
BEGIN:VEVENT
DTSTART;VALUE=DATE:20211001
DTEND;VALUE=DATE:20211002
DTSTAMP:20260425T144608
CREATED:20210907T074829Z
LAST-MODIFIED:20210907T074829Z
UID:8991-1633046400-1633132799@udadisi.com
SUMMARY:Narrative Changers African Food Fellowship
DESCRIPTION:
URL:https://udadisi.com/event/narrative-changers-african-food-fellowship/
CATEGORIES:Fellowship
ATTACH;FMTTYPE=image/jpeg:https://udadisi.com/wp-content/uploads/2021/09/E9lkXsLXIAcTrFL.jpeg
END:VEVENT
BEGIN:VEVENT
DTSTART;TZID=UTC:20210923T120000
DTEND;TZID=UTC:20210923T120000
DTSTAMP:20260425T144608
CREATED:20210907T072318Z
LAST-MODIFIED:20210907T072318Z
UID:8975-1632398400-1632398400@udadisi.com
SUMMARY:Research Development Fellowships 2021/22
DESCRIPTION:
URL:https://udadisi.com/event/research-development-fellowships-2021-22/
CATEGORIES:Fellowship
ATTACH;FMTTYPE=image/png:https://udadisi.com/wp-content/uploads/2021/09/Screen-Shot-2021-09-07-at-6.19.42-AM.png
END:VEVENT
BEGIN:VEVENT
DTSTART;TZID=Europe/Helsinki:20210920T235900
DTEND;TZID=Europe/Helsinki:20210920T235900
DTSTAMP:20260425T144608
CREATED:20210907T071116Z
LAST-MODIFIED:20210907T071116Z
UID:8969-1632182340-1632182340@udadisi.com
SUMMARY:Call For Applications: 2022-2023 International Fellowships
DESCRIPTION:
URL:https://udadisi.com/event/call-for-applications-2022-2023-international-fellowships/
CATEGORIES:Fellowship
ATTACH;FMTTYPE=image/jpeg:https://udadisi.com/wp-content/uploads/2021/09/E-m4_2fXIAAEtOr.jpeg
END:VEVENT
BEGIN:VEVENT
DTSTART;VALUE=DATE:20210905
DTEND;VALUE=DATE:20210906
DTSTAMP:20260425T144608
CREATED:20210815T015031Z
LAST-MODIFIED:20210815T015031Z
UID:8895-1630800000-1630886399@udadisi.com
SUMMARY:The African Arguments Pilot Fellowship for Young Freelancers
DESCRIPTION:
URL:https://udadisi.com/event/the-african-arguments-pilot-fellowship-for-young-freelancers/
CATEGORIES:Fellowship,Online
ATTACH;FMTTYPE=image/jpeg:https://udadisi.com/wp-content/uploads/2021/08/The-African-Arguments-pilot-fellowship-1.jpg
END:VEVENT
BEGIN:VEVENT
DTSTART;VALUE=DATE:20210731
DTEND;VALUE=DATE:20210801
DTSTAMP:20260425T144608
CREATED:20210719T182914Z
LAST-MODIFIED:20210719T182914Z
UID:8738-1627689600-1627775999@udadisi.com
SUMMARY:The AIMS-NEI Fellowship Program for Women in Climate Change Science (WiCCS)
DESCRIPTION:
URL:https://udadisi.com/event/the-aims-nei-fellowship-program-for-women-in-climate-change-science-wiccs/
CATEGORIES:Fellowship
ATTACH;FMTTYPE=image/jpeg:https://udadisi.com/wp-content/uploads/2021/07/6.jpeg
END:VEVENT
END:VCALENDAR