BEGIN:VCALENDAR
VERSION:2.0
PRODID:-//Udadisi - ECPv6.15.13//NONSGML v1.0//EN
CALSCALE:GREGORIAN
METHOD:PUBLISH
X-WR-CALNAME:Udadisi
X-ORIGINAL-URL:https://udadisi.com
X-WR-CALDESC:Events for Udadisi
REFRESH-INTERVAL;VALUE=DURATION:PT1H
X-Robots-Tag:noindex
X-PUBLISHED-TTL:PT1H
BEGIN:VTIMEZONE
TZID:Africa/Dar_es_Salaam
BEGIN:STANDARD
TZOFFSETFROM:+0300
TZOFFSETTO:+0300
TZNAME:EAT
DTSTART:20210101T000000
END:STANDARD
END:VTIMEZONE
BEGIN:VTIMEZONE
TZID:America/New_York
BEGIN:DAYLIGHT
TZOFFSETFROM:-0500
TZOFFSETTO:-0400
TZNAME:EDT
DTSTART:20210314T070000
END:DAYLIGHT
BEGIN:STANDARD
TZOFFSETFROM:-0400
TZOFFSETTO:-0500
TZNAME:EST
DTSTART:20211107T060000
END:STANDARD
BEGIN:DAYLIGHT
TZOFFSETFROM:-0500
TZOFFSETTO:-0400
TZNAME:EDT
DTSTART:20220313T070000
END:DAYLIGHT
BEGIN:STANDARD
TZOFFSETFROM:-0400
TZOFFSETTO:-0500
TZNAME:EST
DTSTART:20221106T060000
END:STANDARD
BEGIN:DAYLIGHT
TZOFFSETFROM:-0500
TZOFFSETTO:-0400
TZNAME:EDT
DTSTART:20230312T070000
END:DAYLIGHT
BEGIN:STANDARD
TZOFFSETFROM:-0400
TZOFFSETTO:-0500
TZNAME:EST
DTSTART:20231105T060000
END:STANDARD
END:VTIMEZONE
BEGIN:VEVENT
DTSTART;VALUE=DATE:20260410
DTEND;VALUE=DATE:20260411
DTSTAMP:20260425T160646
CREATED:20260406T112605Z
LAST-MODIFIED:20260406T112605Z
UID:15016-1775779200-1775865599@udadisi.com
SUMMARY:CFS: 29th Zanzibar International Film Festival
DESCRIPTION:
URL:https://udadisi.com/event/cfs-29th-zanzibar-international-film-festival/
CATEGORIES:Festival,Film,Submission
ATTACH;FMTTYPE=image/jpeg:https://udadisi.com/wp-content/uploads/2026/04/ZIFF.jpg
END:VEVENT
BEGIN:VEVENT
DTSTART;VALUE=DATE:20260216
DTEND;VALUE=DATE:20260217
DTSTAMP:20260425T160646
CREATED:20260211T080100Z
LAST-MODIFIED:20260211T080100Z
UID:14572-1771200000-1771286399@udadisi.com
SUMMARY:CFA: Consultancy Opportunity for Feminist Filmmaker
DESCRIPTION:
URL:https://udadisi.com/event/cfa-consultancy-opportunity-for-feminist-filmmaker/
CATEGORIES:Application,Consultancy,Film,Job
ATTACH;FMTTYPE=image/jpeg:https://udadisi.com/wp-content/uploads/2026/02/RaisingVoices.jpg
END:VEVENT
BEGIN:VEVENT
DTSTART;TZID=Africa/Dar_es_Salaam:20221027T180000
DTEND;TZID=Africa/Dar_es_Salaam:20221027T180000
DTSTAMP:20260425T160646
CREATED:20221027T111658Z
LAST-MODIFIED:20221027T111658Z
UID:12097-1666893600-1666893600@udadisi.com
SUMMARY:Opening Night: Vuta N'kuvute Film
DESCRIPTION:
URL:https://udadisi.com/event/opening-night-vuta-nkuvute-film/
CATEGORIES:Festival,Film
ATTACH;FMTTYPE=image/jpeg:https://udadisi.com/wp-content/uploads/2022/10/Ff-1qPjWAAA-g1_.jpg
END:VEVENT
BEGIN:VEVENT
DTSTART;TZID=Africa/Dar_es_Salaam:20221021T183000
DTEND;TZID=Africa/Dar_es_Salaam:20221021T210000
DTSTAMP:20260425T160646
CREATED:20221019T141450Z
LAST-MODIFIED:20221019T141450Z
UID:12066-1666377000-1666386000@udadisi.com
SUMMARY:Movie Premier: VUTA N'KUVUTE
DESCRIPTION:
URL:https://udadisi.com/event/movie-premier-vuta-nkuvute/
CATEGORIES:Art,Film
ATTACH;FMTTYPE=image/jpeg:https://udadisi.com/wp-content/uploads/2022/10/FfbZ5z6WAAAOZxv.jpg
END:VEVENT
BEGIN:VEVENT
DTSTART;VALUE=DATE:20220630
DTEND;VALUE=DATE:20220701
DTSTAMP:20260425T160646
CREATED:20220628T133339Z
LAST-MODIFIED:20220628T133339Z
UID:10909-1656547200-1656633599@udadisi.com
SUMMARY:SCREENWRITING BOOTCAMP: An Opportunity for Writers Who Want to Learn and Practice Writing for Film and Television.
DESCRIPTION:
URL:https://udadisi.com/event/screenwriting-bootcamp-an-opportunity-for-writers-who-want-to-learn-and-practice-writing-for-film-and-television/
CATEGORIES:Application,Film
ATTACH;FMTTYPE=image/jpeg:https://udadisi.com/wp-content/uploads/2022/06/Screening-bootcamp.jpg
END:VEVENT
BEGIN:VEVENT
DTSTART;TZID=America/New_York:20220311T113000
DTEND;TZID=America/New_York:20220311T133000
DTSTAMP:20260425T160646
CREATED:20220216T072954Z
LAST-MODIFIED:20220309T023105Z
UID:10004-1646998200-1647005400@udadisi.com
SUMMARY:Film Discussion: The Art of Fallism
DESCRIPTION:
URL:https://udadisi.com/event/film-discussion-the-art-of-fallism/
CATEGORIES:Application,Film,Online
ATTACH;FMTTYPE=image/jpeg:https://udadisi.com/wp-content/uploads/2022/02/FLqe3vWX0AYNEb3.jpg
END:VEVENT
END:VCALENDAR