BEGIN:VCALENDAR
VERSION:2.0
PRODID:-//Udadisi - ECPv6.15.13//NONSGML v1.0//EN
CALSCALE:GREGORIAN
METHOD:PUBLISH
X-WR-CALNAME:Udadisi
X-ORIGINAL-URL:https://udadisi.com
X-WR-CALDESC:Events for Udadisi
REFRESH-INTERVAL;VALUE=DURATION:PT1H
X-Robots-Tag:noindex
X-PUBLISHED-TTL:PT1H
BEGIN:VTIMEZONE
TZID:Africa/Dar_es_Salaam
BEGIN:STANDARD
TZOFFSETFROM:+0300
TZOFFSETTO:+0300
TZNAME:EAT
DTSTART:20250101T000000
END:STANDARD
END:VTIMEZONE
BEGIN:VEVENT
DTSTART;VALUE=DATE:20260330
DTEND;VALUE=DATE:20260331
DTSTAMP:20260423T143817
CREATED:20260302T093934Z
LAST-MODIFIED:20260302T093934Z
UID:14646-1774828800-1774915199@udadisi.com
SUMMARY:CFA: Nature-Based Solutions Business Challenge
DESCRIPTION:
URL:https://udadisi.com/event/cfa-nature-based-solutions-business-challenge/
CATEGORIES:Application,Forum
ATTACH;FMTTYPE=image/jpeg:https://udadisi.com/wp-content/uploads/2026/03/NBS.jpg
END:VEVENT
END:VCALENDAR