BEGIN:VCALENDAR
VERSION:2.0
PRODID:-//Udadisi - ECPv6.15.13//NONSGML v1.0//EN
CALSCALE:GREGORIAN
METHOD:PUBLISH
X-ORIGINAL-URL:https://udadisi.com
X-WR-CALDESC:Events for Udadisi
REFRESH-INTERVAL;VALUE=DURATION:PT1H
X-Robots-Tag:noindex
X-PUBLISHED-TTL:PT1H
BEGIN:VTIMEZONE
TZID:Africa/Dar_es_Salaam
BEGIN:STANDARD
TZOFFSETFROM:+0300
TZOFFSETTO:+0300
TZNAME:EAT
DTSTART:20220101T000000
END:STANDARD
END:VTIMEZONE
BEGIN:VEVENT
DTSTART;VALUE=DATE:20230217
DTEND;VALUE=DATE:20230218
DTSTAMP:20260426T050957
CREATED:20221230T114617Z
LAST-MODIFIED:20221230T114617Z
UID:12273-1676592000-1676678399@udadisi.com
SUMMARY:GSK Research Funding Opportunity
DESCRIPTION:
URL:https://udadisi.com/event/gsk-research-funding-opportunity/
CATEGORIES:Application,Grant
ATTACH;FMTTYPE=image/jpeg:https://udadisi.com/wp-content/uploads/2022/12/20221230_143457.jpg
END:VEVENT
END:VCALENDAR