BEGIN:VCALENDAR
VERSION:2.0
PRODID:-//Udadisi - ECPv6.15.13//NONSGML v1.0//EN
CALSCALE:GREGORIAN
METHOD:PUBLISH
X-ORIGINAL-URL:https://udadisi.com
X-WR-CALDESC:Events for Udadisi
REFRESH-INTERVAL;VALUE=DURATION:PT1H
X-Robots-Tag:noindex
X-PUBLISHED-TTL:PT1H
BEGIN:VTIMEZONE
TZID:Africa/Dar_es_Salaam
BEGIN:STANDARD
TZOFFSETFROM:+0300
TZOFFSETTO:+0300
TZNAME:EAT
DTSTART:20220101T000000
END:STANDARD
END:VTIMEZONE
BEGIN:VEVENT
DTSTART;VALUE=DATE:20230901
DTEND;VALUE=DATE:20230902
DTSTAMP:20260425T183242
CREATED:20230823T204234Z
LAST-MODIFIED:20230823T204234Z
UID:12740-1693526400-1693612799@udadisi.com
SUMMARY:Call for Applications: 2023 ACLS Fellowships and Grants
DESCRIPTION:
URL:https://udadisi.com/event/call-for-applications-2023-acls-fellowships-and-grants/
CATEGORIES:Application,Grant
ATTACH;FMTTYPE=image/jpeg:https://udadisi.com/wp-content/uploads/2023/08/Screenshot_20230823_233810_Chrome.jpg
END:VEVENT
END:VCALENDAR