BEGIN:VCALENDAR
VERSION:2.0
PRODID:-//Udadisi - ECPv6.15.13//NONSGML v1.0//EN
CALSCALE:GREGORIAN
METHOD:PUBLISH
X-WR-CALNAME:Udadisi
X-ORIGINAL-URL:https://udadisi.com
X-WR-CALDESC:Events for Udadisi
REFRESH-INTERVAL;VALUE=DURATION:PT1H
X-Robots-Tag:noindex
X-PUBLISHED-TTL:PT1H
BEGIN:VTIMEZONE
TZID:Africa/Dar_es_Salaam
BEGIN:STANDARD
TZOFFSETFROM:+0300
TZOFFSETTO:+0300
TZNAME:EAT
DTSTART:20250101T000000
END:STANDARD
END:VTIMEZONE
BEGIN:VEVENT
DTSTART;VALUE=DATE:20260201
DTEND;VALUE=DATE:20260202
DTSTAMP:20260423T205819
CREATED:20251225T033908Z
LAST-MODIFIED:20251225T035307Z
UID:14033-1769904000-1769990399@udadisi.com
SUMMARY:CFA: The Claude Ake Visiting Chair 2026
DESCRIPTION:
URL:https://udadisi.com/event/cfa-the-claude-ake-visiting-chair-2026/
CATEGORIES:Application,Grant,Networking,Research,Residence,Scholarship
ATTACH;FMTTYPE=image/jpeg:https://udadisi.com/wp-content/uploads/2025/12/IMG-20251224-WA0003.jpg
END:VEVENT
BEGIN:VEVENT
DTSTART;VALUE=DATE:20260212
DTEND;VALUE=DATE:20260213
DTSTAMP:20260423T205819
CREATED:20251223T101357Z
LAST-MODIFIED:20251223T101550Z
UID:14011-1770854400-1770940799@udadisi.com
SUMMARY:CFP: AU-EU Youth Action Lab Cooperation Grants
DESCRIPTION:
URL:https://udadisi.com/event/cfp-au-eu-youth-action-cooperation-grants/
CATEGORIES:Application,Grant,Proposal
ATTACH;FMTTYPE=image/jpeg:https://udadisi.com/wp-content/uploads/2025/12/youthLab.jpg
END:VEVENT
BEGIN:VEVENT
DTSTART;VALUE=DATE:20260215
DTEND;VALUE=DATE:20260216
DTSTAMP:20260423T205819
CREATED:20251225T030541Z
LAST-MODIFIED:20251225T030541Z
UID:14027-1771113600-1771199999@udadisi.com
SUMMARY:CFS: Africa NextGen Economist Prize 2026
DESCRIPTION:
URL:https://udadisi.com/event/cfs-africa-nextgen-economist-prize-2026/
CATEGORIES:Award,Competition,Grant,Submission
ATTACH;FMTTYPE=image/jpeg:https://udadisi.com/wp-content/uploads/2025/12/20251224_130015.jpg
END:VEVENT
BEGIN:VEVENT
DTSTART;VALUE=DATE:20260215
DTEND;VALUE=DATE:20260216
DTSTAMP:20260423T205819
CREATED:20260204T094751Z
LAST-MODIFIED:20260204T094751Z
UID:14537-1771113600-1771199999@udadisi.com
SUMMARY:CFA: Youth and Women Innovation and Entrepreneurship Challenge
DESCRIPTION:
URL:https://udadisi.com/event/cfa-youth-and-women-innovation-and-entrepreneurship-challenge/
CATEGORIES:Application,Competition,Funding,Grant
ATTACH;FMTTYPE=image/jpeg:https://udadisi.com/wp-content/uploads/2026/02/EAC.jpg
END:VEVENT
BEGIN:VEVENT
DTSTART;TZID=Africa/Dar_es_Salaam:20260215T005900
DTEND;TZID=Africa/Dar_es_Salaam:20260215T005900
DTSTAMP:20260423T205819
CREATED:20260121T181348Z
LAST-MODIFIED:20260121T181348Z
UID:14402-1771117140-1771117140@udadisi.com
SUMMARY:CFR: Skills formation for an Inclusive and Sustainable Future of Worker(ers) in Eastern and Southern Africa
DESCRIPTION:
URL:https://udadisi.com/event/cfr-skills-formation-for-an-inclusive-and-sustainable-future-of-workerers-in-eastern-and-southern-africa/
CATEGORIES:Funding,Grant,Proposal,Research,Submission
ATTACH;FMTTYPE=image/jpeg:https://udadisi.com/wp-content/uploads/2026/01/futureWorks.jpg
END:VEVENT
BEGIN:VEVENT
DTSTART;VALUE=DATE:20260228
DTEND;VALUE=DATE:20260301
DTSTAMP:20260423T205819
CREATED:20260218T101915Z
LAST-MODIFIED:20260218T101915Z
UID:14592-1772236800-1772323199@udadisi.com
SUMMARY:CFA: Oxford Africa Conference 2026 Innovation Seed Fund (ISF)
DESCRIPTION:
URL:https://udadisi.com/event/cfa-oxford-africa-conference-2026-innovation-seed-fund-isf/
CATEGORIES:Application,Competition,Conference,Grant
ATTACH;FMTTYPE=image/jpeg:https://udadisi.com/wp-content/uploads/2026/02/oxford.jpg
END:VEVENT
END:VCALENDAR