BEGIN:VCALENDAR
VERSION:2.0
PRODID:-//Udadisi - ECPv6.15.13//NONSGML v1.0//EN
CALSCALE:GREGORIAN
METHOD:PUBLISH
X-WR-CALNAME:Udadisi
X-ORIGINAL-URL:https://udadisi.com
X-WR-CALDESC:Events for Udadisi
REFRESH-INTERVAL;VALUE=DURATION:PT1H
X-Robots-Tag:noindex
X-PUBLISHED-TTL:PT1H
BEGIN:VTIMEZONE
TZID:Africa/Dar_es_Salaam
BEGIN:STANDARD
TZOFFSETFROM:+0300
TZOFFSETTO:+0300
TZNAME:EAT
DTSTART:20240101T000000
END:STANDARD
END:VTIMEZONE
BEGIN:VEVENT
DTSTART;VALUE=DATE:20250913
DTEND;VALUE=DATE:20251026
DTSTAMP:20260425T143706
CREATED:20250919T102443Z
LAST-MODIFIED:20250919T102443Z
UID:13781-1757721600-1761436799@udadisi.com
SUMMARY:Call for Application: Regenerating Democracy
DESCRIPTION:
URL:https://udadisi.com/event/call-for-application-regenerating-democracy/
CATEGORIES:Application,Institute
ATTACH;FMTTYPE=image/jpeg:https://udadisi.com/wp-content/uploads/2025/09/1-4.jpeg
END:VEVENT
END:VCALENDAR