BEGIN:VCALENDAR
VERSION:2.0
PRODID:-//Udadisi - ECPv6.15.13//NONSGML v1.0//EN
CALSCALE:GREGORIAN
METHOD:PUBLISH
X-WR-CALNAME:Udadisi
X-ORIGINAL-URL:https://udadisi.com
X-WR-CALDESC:Events for Udadisi
REFRESH-INTERVAL;VALUE=DURATION:PT1H
X-Robots-Tag:noindex
X-PUBLISHED-TTL:PT1H
BEGIN:VTIMEZONE
TZID:Africa/Dar_es_Salaam
BEGIN:STANDARD
TZOFFSETFROM:+0300
TZOFFSETTO:+0300
TZNAME:EAT
DTSTART:20210101T000000
END:STANDARD
END:VTIMEZONE
BEGIN:VTIMEZONE
TZID:Europe/Moscow
BEGIN:STANDARD
TZOFFSETFROM:+0300
TZOFFSETTO:+0300
TZNAME:MSK
DTSTART:20210101T000000
END:STANDARD
END:VTIMEZONE
BEGIN:VTIMEZONE
TZID:UTC
BEGIN:STANDARD
TZOFFSETFROM:+0000
TZOFFSETTO:+0000
TZNAME:UTC
DTSTART:20210101T000000
END:STANDARD
END:VTIMEZONE
BEGIN:VEVENT
DTSTART;VALUE=DATE:20230928
DTEND;VALUE=DATE:20230929
DTSTAMP:20260423T210831
CREATED:20230922T222911Z
LAST-MODIFIED:20230922T222911Z
UID:12870-1695859200-1695945599@udadisi.com
SUMMARY:Call for Consultancy: To Undertake a Comprehensive Study on the Political Economy of Early Childhood Development (ECD) in Tanzania
DESCRIPTION:
URL:https://udadisi.com/event/call-for-consultancy-to-undertake-a-comprehensive-study-on-the-political-economy-of-early-childhood-development-ecd-in-tanzania/
CATEGORIES:Job
ATTACH;FMTTYPE=image/png:https://udadisi.com/wp-content/uploads/2023/09/20230923_011654.png
END:VEVENT
BEGIN:VEVENT
DTSTART;VALUE=DATE:20230402
DTEND;VALUE=DATE:20230403
DTSTAMP:20260423T210831
CREATED:20230321T165648Z
LAST-MODIFIED:20230321T165648Z
UID:12443-1680393600-1680479999@udadisi.com
SUMMARY:JOB VACANCY: Assistant Research Fellow – Impact Evaluation
DESCRIPTION:
URL:https://udadisi.com/event/job-vacancy-assistant-research-fellow-impact-evaluation/
CATEGORIES:Application,Job
ATTACH;FMTTYPE=image/jpeg:https://udadisi.com/wp-content/uploads/2023/03/20230321_195410.jpg
END:VEVENT
BEGIN:VEVENT
DTSTART;VALUE=DATE:20220715
DTEND;VALUE=DATE:20220716
DTSTAMP:20260423T210831
CREATED:20220713T151723Z
LAST-MODIFIED:20220713T151723Z
UID:11025-1657843200-1657929599@udadisi.com
SUMMARY:Call for Expression of Interest: Qualified language Interpreters to Provide Interpretation Services During the 2022 Feminist Republic Festival in Naivasha\, Kenya
DESCRIPTION:
URL:https://udadisi.com/event/call-for-expression-of-interest-qualified-language-interpreters-to-provide-interpretation-services-during-the-2022-feminist-republic-festival-in-naivasha-kenya/
CATEGORIES:Job
ATTACH;FMTTYPE=image/jpeg:https://udadisi.com/wp-content/uploads/2022/07/laNGUAGE.jpg
END:VEVENT
BEGIN:VEVENT
DTSTART;VALUE=DATE:20220520
DTEND;VALUE=DATE:20220521
DTSTAMP:20260423T210831
CREATED:20220406T100348Z
LAST-MODIFIED:20220407T005933Z
UID:10659-1653004800-1653091199@udadisi.com
SUMMARY:Post of Assistant Professor with a Proven Track Record in the Field of Social Policy and Development
DESCRIPTION:
URL:https://udadisi.com/event/post-of-assistant-professor-with-a-proven-track-record-in-the-field-of-social-policy-and-development/
CATEGORIES:Application,Job
ATTACH;FMTTYPE=image/png:https://udadisi.com/wp-content/uploads/2022/04/Screenshot-2022-04-07-at-03.58.10.png
END:VEVENT
BEGIN:VEVENT
DTSTART;VALUE=DATE:20220422
DTEND;VALUE=DATE:20220423
DTSTAMP:20260423T210831
CREATED:20220414T123704Z
LAST-MODIFIED:20220414T123704Z
UID:10736-1650585600-1650671999@udadisi.com
SUMMARY:Call for Application for the Postdoctoral Research Fellows
DESCRIPTION:
URL:https://udadisi.com/event/call-for-application-for-the-postdoctoral-research-fellows/
CATEGORIES:Application,Job
ATTACH;FMTTYPE=image/jpeg:https://udadisi.com/wp-content/uploads/2022/04/Screenshot-2022-04-14-153607.jpg
END:VEVENT
BEGIN:VEVENT
DTSTART;TZID=UTC:20220314T080000
DTEND;TZID=UTC:20220314T170000
DTSTAMP:20260423T210831
CREATED:20220314T084031Z
LAST-MODIFIED:20220314T084031Z
UID:10364-1647244800-1647277200@udadisi.com
SUMMARY:Job Application: Lecturer in Social Anthropology with Focus on Race\, Racism\, and Decolonial Studies
DESCRIPTION:
URL:https://udadisi.com/event/job-application-lecturer-in-social-anthropology-with-focus-on-race-racism-and-decolonial-studies/
CATEGORIES:Application,Job
ATTACH;FMTTYPE=image/jpeg:https://udadisi.com/wp-content/uploads/2022/03/Screenshot-2022-03-14-113226.jpg
END:VEVENT
BEGIN:VEVENT
DTSTART;VALUE=DATE:20220310
DTEND;VALUE=DATE:20220311
DTSTAMP:20260423T210831
CREATED:20220227T055300Z
LAST-MODIFIED:20220309T025021Z
UID:10053-1646870400-1646956799@udadisi.com
SUMMARY:Job Opportunity at The University of Edinburgh - College of Arts\, Humanities and Social Sciences\, Edinburgh College of Art\, School of History of Art
DESCRIPTION:
URL:https://udadisi.com/event/job-opportunity-at-the-university-of-edinburgh-college-of-arts-humanities-and-social-sciences-edinburgh-college-of-art-school-of-history-of-art/
CATEGORIES:Application,Job
ATTACH;FMTTYPE=image/png:https://udadisi.com/wp-content/uploads/2022/02/Screenshot-2022-02-27-at-08.51.18.png
END:VEVENT
BEGIN:VEVENT
DTSTART;VALUE=DATE:20220307
DTEND;VALUE=DATE:20220308
DTSTAMP:20260423T210831
CREATED:20220304T122452Z
LAST-MODIFIED:20220304T122915Z
UID:10171-1646611200-1646697599@udadisi.com
SUMMARY:Call for Climate Change Consultant
DESCRIPTION:
URL:https://udadisi.com/event/call-for-climate-change-consultant/
CATEGORIES:Application,Job
ATTACH;FMTTYPE=image/jpeg:https://udadisi.com/wp-content/uploads/2022/03/UnerN_uS_1.jpg
END:VEVENT
BEGIN:VEVENT
DTSTART;TZID=Africa/Dar_es_Salaam:20220214T023000
DTEND;TZID=Africa/Dar_es_Salaam:20220214T023000
DTSTAMP:20260423T210831
CREATED:20220201T154336Z
LAST-MODIFIED:20220224T103642Z
UID:9936-1644805800-1644805800@udadisi.com
SUMMARY:JOB APPLICATION: Senior Programme Manager at Firoz Lalji Institute for Africa
DESCRIPTION:
URL:https://udadisi.com/event/job-application-senior-programme-managerat-firoz-lalji-institute-for-africa/
CATEGORIES:Application,Job
ATTACH;FMTTYPE=image/jpeg:https://udadisi.com/wp-content/uploads/2022/02/FKB2BkdXIAMW5sT-2.jpg
END:VEVENT
END:VCALENDAR