BEGIN:VCALENDAR
VERSION:2.0
PRODID:-//Udadisi - ECPv6.15.13//NONSGML v1.0//EN
CALSCALE:GREGORIAN
METHOD:PUBLISH
X-WR-CALNAME:Udadisi
X-ORIGINAL-URL:https://udadisi.com
X-WR-CALDESC:Events for Udadisi
REFRESH-INTERVAL;VALUE=DURATION:PT1H
X-Robots-Tag:noindex
X-PUBLISHED-TTL:PT1H
BEGIN:VTIMEZONE
TZID:Africa/Dar_es_Salaam
BEGIN:STANDARD
TZOFFSETFROM:+0300
TZOFFSETTO:+0300
TZNAME:EAT
DTSTART:20250101T000000
END:STANDARD
END:VTIMEZONE
BEGIN:VEVENT
DTSTART;VALUE=DATE:20260326
DTEND;VALUE=DATE:20260327
DTSTAMP:20260425T031448
CREATED:20260312T082453Z
LAST-MODIFIED:20260312T082453Z
UID:14746-1774483200-1774569599@udadisi.com
SUMMARY:Lecture: Politicization of the Self - Personal Mastery for Professional Capability and Transformative Societies
DESCRIPTION:
URL:https://udadisi.com/event/lecture-politicization-of-the-self-personal-mastery-for-professional-capability-and-transformative-societies/
CATEGORIES:Lecture
ATTACH;FMTTYPE=image/jpeg:https://udadisi.com/wp-content/uploads/2026/03/RepoaLecture.jpg
END:VEVENT
BEGIN:VEVENT
DTSTART;TZID=Africa/Dar_es_Salaam:20260327T163000
DTEND;TZID=Africa/Dar_es_Salaam:20260327T183000
DTSTAMP:20260425T031448
CREATED:20260306T100553Z
LAST-MODIFIED:20260306T100553Z
UID:14700-1774629000-1774636200@udadisi.com
SUMMARY:CFR: Governance of Public Institutions - Transcending Organizational Boundaries
DESCRIPTION:
URL:https://udadisi.com/event/cfr-governance-of-public-institutions-transcending-organizational-boundaries/
CATEGORIES:Lecture,Online,Registration
ATTACH;FMTTYPE=image/jpeg:https://udadisi.com/wp-content/uploads/2026/03/BIEA.jpg
END:VEVENT
BEGIN:VEVENT
DTSTART;TZID=Africa/Dar_es_Salaam:20260328T170000
DTEND;TZID=Africa/Dar_es_Salaam:20260328T170000
DTSTAMP:20260425T031448
CREATED:20260312T075426Z
LAST-MODIFIED:20260312T075426Z
UID:14740-1774717200-1774717200@udadisi.com
SUMMARY:Lecture: The Aesthetics of Refusal
DESCRIPTION:
URL:https://udadisi.com/event/lecture-the-aesthetics-of-refusal/
CATEGORIES:Lecture,Online
ATTACH;FMTTYPE=image/png:https://udadisi.com/wp-content/uploads/2026/03/ALA-Lecture.png
END:VEVENT
END:VCALENDAR