BEGIN:VCALENDAR
VERSION:2.0
PRODID:-//Udadisi - ECPv6.15.13//NONSGML v1.0//EN
CALSCALE:GREGORIAN
METHOD:PUBLISH
X-WR-CALNAME:Udadisi
X-ORIGINAL-URL:https://udadisi.com
X-WR-CALDESC:Events for Udadisi
REFRESH-INTERVAL;VALUE=DURATION:PT1H
X-Robots-Tag:noindex
X-PUBLISHED-TTL:PT1H
BEGIN:VTIMEZONE
TZID:UTC
BEGIN:STANDARD
TZOFFSETFROM:+0000
TZOFFSETTO:+0000
TZNAME:UTC
DTSTART:20210101T000000
END:STANDARD
END:VTIMEZONE
BEGIN:VTIMEZONE
TZID:America/New_York
BEGIN:DAYLIGHT
TZOFFSETFROM:-0500
TZOFFSETTO:-0400
TZNAME:EDT
DTSTART:20210314T070000
END:DAYLIGHT
BEGIN:STANDARD
TZOFFSETFROM:-0400
TZOFFSETTO:-0500
TZNAME:EST
DTSTART:20211107T060000
END:STANDARD
BEGIN:DAYLIGHT
TZOFFSETFROM:-0500
TZOFFSETTO:-0400
TZNAME:EDT
DTSTART:20220313T070000
END:DAYLIGHT
BEGIN:STANDARD
TZOFFSETFROM:-0400
TZOFFSETTO:-0500
TZNAME:EST
DTSTART:20221106T060000
END:STANDARD
BEGIN:DAYLIGHT
TZOFFSETFROM:-0500
TZOFFSETTO:-0400
TZNAME:EDT
DTSTART:20230312T070000
END:DAYLIGHT
BEGIN:STANDARD
TZOFFSETFROM:-0400
TZOFFSETTO:-0500
TZNAME:EST
DTSTART:20231105T060000
END:STANDARD
END:VTIMEZONE
BEGIN:VTIMEZONE
TZID:Africa/Dar_es_Salaam
BEGIN:STANDARD
TZOFFSETFROM:+0300
TZOFFSETTO:+0300
TZNAME:EAT
DTSTART:20200101T000000
END:STANDARD
END:VTIMEZONE
BEGIN:VTIMEZONE
TZID:Africa/Johannesburg
BEGIN:STANDARD
TZOFFSETFROM:+0200
TZOFFSETTO:+0200
TZNAME:SAST
DTSTART:20200101T000000
END:STANDARD
END:VTIMEZONE
BEGIN:VTIMEZONE
TZID:Europe/Helsinki
BEGIN:DAYLIGHT
TZOFFSETFROM:+0200
TZOFFSETTO:+0300
TZNAME:EEST
DTSTART:20200329T010000
END:DAYLIGHT
BEGIN:STANDARD
TZOFFSETFROM:+0300
TZOFFSETTO:+0200
TZNAME:EET
DTSTART:20201025T010000
END:STANDARD
BEGIN:DAYLIGHT
TZOFFSETFROM:+0200
TZOFFSETTO:+0300
TZNAME:EEST
DTSTART:20210328T010000
END:DAYLIGHT
BEGIN:STANDARD
TZOFFSETFROM:+0300
TZOFFSETTO:+0200
TZNAME:EET
DTSTART:20211031T010000
END:STANDARD
BEGIN:DAYLIGHT
TZOFFSETFROM:+0200
TZOFFSETTO:+0300
TZNAME:EEST
DTSTART:20220327T010000
END:DAYLIGHT
BEGIN:STANDARD
TZOFFSETFROM:+0300
TZOFFSETTO:+0200
TZNAME:EET
DTSTART:20221030T010000
END:STANDARD
END:VTIMEZONE
BEGIN:VEVENT
DTSTART;TZID=UTC:20220421T143000
DTEND;TZID=UTC:20220421T143000
DTSTAMP:20260425T030726
CREATED:20220421T073634Z
LAST-MODIFIED:20220421T073634Z
UID:10750-1650551400-1650551400@udadisi.com
SUMMARY:Emergence of Black Entrepreneurs in East Africa
DESCRIPTION:
URL:https://udadisi.com/event/emergence-of-black-entrepreneurs-in-east-africa/
CATEGORIES:Lecture
ATTACH;FMTTYPE=image/jpeg:https://udadisi.com/wp-content/uploads/2022/04/FQ1lhjdWYAEl9U4.jpg
END:VEVENT
BEGIN:VEVENT
DTSTART;TZID=UTC:20220412T190000
DTEND;TZID=UTC:20220412T190000
DTSTAMP:20260425T030726
CREATED:20220315T121550Z
LAST-MODIFIED:20220315T121550Z
UID:10406-1649790000-1649790000@udadisi.com
SUMMARY:Distinguished Lecture on African Business and Entrepreneurship in Africa Featuring Former Minister of Finance of South Africa
DESCRIPTION:
URL:https://udadisi.com/event/distinguished-lecture-on-african-business-and-entrepreneurship-in-africa-featuring-former-minister-of-finance-of-south-africa/
CATEGORIES:Application,Lecture
ATTACH;FMTTYPE=image/jpeg:https://udadisi.com/wp-content/uploads/2022/03/FN4EO8aWQAE8son.jpg
END:VEVENT
BEGIN:VEVENT
DTSTART;TZID=America/New_York:20220405T160000
DTEND;TZID=America/New_York:20220405T170000
DTSTAMP:20260425T030726
CREATED:20220314T062459Z
LAST-MODIFIED:20220316T031928Z
UID:10346-1649174400-1649178000@udadisi.com
SUMMARY:First Africa Today Series with Dr. Georges Nzongola-Ntalaja  (Tuesday April 5)
DESCRIPTION:
URL:https://udadisi.com/event/first-africa-today-series-with-dr-georges-nzongola-ntalaja-tuesday-april-5/
CATEGORIES:Lecture,Online,Webinar
ATTACH;FMTTYPE=image/jpeg:https://udadisi.com/wp-content/uploads/2022/03/FNgbfrhX0AUDqKg.jpg
END:VEVENT
BEGIN:VEVENT
DTSTART;TZID=Africa/Dar_es_Salaam:20220310T090000
DTEND;TZID=Africa/Dar_es_Salaam:20220310T150000
DTSTAMP:20260425T030726
CREATED:20220307T102555Z
LAST-MODIFIED:20220307T102625Z
UID:10261-1646902800-1646924400@udadisi.com
SUMMARY:Panel Data Analysis with STATA
DESCRIPTION:
URL:https://udadisi.com/event/panel-data-analysis-with-stata/
LOCATION:University of Dar es Salaam\, Dar es Salaam\, Tanzania\, United Republic of
CATEGORIES:Lecture
ATTACH;FMTTYPE=image/jpeg:https://udadisi.com/wp-content/uploads/2022/03/FNOihSnWUAEdvRq.jpg
END:VEVENT
BEGIN:VEVENT
DTSTART;VALUE=DATE:20220302
DTEND;VALUE=DATE:20220303
DTSTAMP:20260425T030726
CREATED:20220307T075626Z
LAST-MODIFIED:20220307T075626Z
UID:10224-1646179200-1646265599@udadisi.com
SUMMARY:Join us on 3.22 for our Distinguished Lecture in African Studies featuring Wole Soyinka.
DESCRIPTION:
URL:https://udadisi.com/event/join-us-on-3-22-for-our-distinguished-lecture-in-african-studies-featuring-wole-soyinka/
CATEGORIES:Application,Lecture
ATTACH;FMTTYPE=image/jpeg:https://udadisi.com/wp-content/uploads/2022/03/FM2rYPYVIAYk6JI-_1_.jpg
END:VEVENT
BEGIN:VEVENT
DTSTART;TZID=Africa/Dar_es_Salaam:20220217T190000
DTEND;TZID=Africa/Dar_es_Salaam:20220217T190000
DTSTAMP:20260425T030726
CREATED:20220216T163657Z
LAST-MODIFIED:20220216T163657Z
UID:10008-1645124400-1645124400@udadisi.com
SUMMARY:Decolonizing Scholarship: Excavating Indigenous Sites of Knowledge\, using utu as theoretical Framework
DESCRIPTION:
URL:https://udadisi.com/event/decolonizing-scholarship-excavating-indigenous-sites-of-knowledge-using-utu-as-theoretical-framework/
CATEGORIES:Lecture,Online
END:VEVENT
BEGIN:VEVENT
DTSTART;TZID=Africa/Johannesburg:20211130T170000
DTEND;TZID=Africa/Johannesburg:20211130T183000
DTSTAMP:20260425T030726
CREATED:20211127T011051Z
LAST-MODIFIED:20211127T011051Z
UID:9758-1638291600-1638297000@udadisi.com
SUMMARY:Decolonizing Artificial Intelligence (AI)
DESCRIPTION:
URL:https://udadisi.com/event/decolonizing-artificial-intelligence-ai/
CATEGORIES:Lecture,Online
ATTACH;FMTTYPE=image/jpeg:https://udadisi.com/wp-content/uploads/2021/11/1-3.jpeg
END:VEVENT
BEGIN:VEVENT
DTSTART;TZID=Europe/Helsinki:20210915T060000
DTEND;TZID=Europe/Helsinki:20210915T193000
DTSTAMP:20260425T030726
CREATED:20210907T065042Z
LAST-MODIFIED:20210907T065042Z
UID:8962-1631685600-1631734200@udadisi.com
SUMMARY:Perspectives on Christian Missions and African Social Development
DESCRIPTION:
URL:https://udadisi.com/event/perspectives-on-christian-missions-and-african-social-development/
CATEGORIES:Lecture,Online
ATTACH;FMTTYPE=image/jpeg:https://udadisi.com/wp-content/uploads/2021/09/E-lfYy6XMAIbM8s.jpeg
END:VEVENT
BEGIN:VEVENT
DTSTART;TZID=Africa/Dar_es_Salaam:20210821T100000
DTEND;TZID=Africa/Dar_es_Salaam:20210821T120000
DTSTAMP:20260425T030726
CREATED:20210815T014518Z
LAST-MODIFIED:20210815T014518Z
UID:8891-1629540000-1629547200@udadisi.com
SUMMARY:Democracy and its Discontents
DESCRIPTION:
URL:https://udadisi.com/event/democracy-and-its-discontents/
CATEGORIES:Lecture
ATTACH;FMTTYPE=image/jpeg:https://udadisi.com/wp-content/uploads/2021/08/thumbnail.jpeg
END:VEVENT
END:VCALENDAR