BEGIN:VCALENDAR
VERSION:2.0
PRODID:-//Udadisi - ECPv6.15.13//NONSGML v1.0//EN
CALSCALE:GREGORIAN
METHOD:PUBLISH
X-ORIGINAL-URL:https://udadisi.com
X-WR-CALDESC:Events for Udadisi
REFRESH-INTERVAL;VALUE=DURATION:PT1H
X-Robots-Tag:noindex
X-PUBLISHED-TTL:PT1H
BEGIN:VTIMEZONE
TZID:Africa/Dar_es_Salaam
BEGIN:STANDARD
TZOFFSETFROM:+0300
TZOFFSETTO:+0300
TZNAME:EAT
DTSTART:20220101T000000
END:STANDARD
END:VTIMEZONE
BEGIN:VTIMEZONE
TZID:Africa/Lagos
BEGIN:STANDARD
TZOFFSETFROM:+0100
TZOFFSETTO:+0100
TZNAME:WAT
DTSTART:20230101T000000
END:STANDARD
END:VTIMEZONE
BEGIN:VTIMEZONE
TZID:America/New_York
BEGIN:DAYLIGHT
TZOFFSETFROM:-0500
TZOFFSETTO:-0400
TZNAME:EDT
DTSTART:20230312T070000
END:DAYLIGHT
BEGIN:STANDARD
TZOFFSETFROM:-0400
TZOFFSETTO:-0500
TZNAME:EST
DTSTART:20231105T060000
END:STANDARD
BEGIN:DAYLIGHT
TZOFFSETFROM:-0500
TZOFFSETTO:-0400
TZNAME:EDT
DTSTART:20240310T070000
END:DAYLIGHT
BEGIN:STANDARD
TZOFFSETFROM:-0400
TZOFFSETTO:-0500
TZNAME:EST
DTSTART:20241103T060000
END:STANDARD
BEGIN:DAYLIGHT
TZOFFSETFROM:-0500
TZOFFSETTO:-0400
TZNAME:EDT
DTSTART:20250309T070000
END:DAYLIGHT
BEGIN:STANDARD
TZOFFSETFROM:-0400
TZOFFSETTO:-0500
TZNAME:EST
DTSTART:20251102T060000
END:STANDARD
END:VTIMEZONE
BEGIN:VTIMEZONE
TZID:Europe/Helsinki
BEGIN:DAYLIGHT
TZOFFSETFROM:+0200
TZOFFSETTO:+0300
TZNAME:EEST
DTSTART:20220327T010000
END:DAYLIGHT
BEGIN:STANDARD
TZOFFSETFROM:+0300
TZOFFSETTO:+0200
TZNAME:EET
DTSTART:20221030T010000
END:STANDARD
BEGIN:DAYLIGHT
TZOFFSETFROM:+0200
TZOFFSETTO:+0300
TZNAME:EEST
DTSTART:20230326T010000
END:DAYLIGHT
BEGIN:STANDARD
TZOFFSETFROM:+0300
TZOFFSETTO:+0200
TZNAME:EET
DTSTART:20231029T010000
END:STANDARD
BEGIN:DAYLIGHT
TZOFFSETFROM:+0200
TZOFFSETTO:+0300
TZNAME:EEST
DTSTART:20240331T010000
END:DAYLIGHT
BEGIN:STANDARD
TZOFFSETFROM:+0300
TZOFFSETTO:+0200
TZNAME:EET
DTSTART:20241027T010000
END:STANDARD
END:VTIMEZONE
BEGIN:VEVENT
DTSTART;TZID=Africa/Dar_es_Salaam:20260328T170000
DTEND;TZID=Africa/Dar_es_Salaam:20260328T170000
DTSTAMP:20260423T183211
CREATED:20260312T075426Z
LAST-MODIFIED:20260312T075426Z
UID:14740-1774717200-1774717200@udadisi.com
SUMMARY:Lecture: The Aesthetics of Refusal
DESCRIPTION:
URL:https://udadisi.com/event/lecture-the-aesthetics-of-refusal/
CATEGORIES:Lecture,Online
ATTACH;FMTTYPE=image/png:https://udadisi.com/wp-content/uploads/2026/03/ALA-Lecture.png
END:VEVENT
BEGIN:VEVENT
DTSTART;TZID=Africa/Dar_es_Salaam:20260327T163000
DTEND;TZID=Africa/Dar_es_Salaam:20260327T183000
DTSTAMP:20260423T183211
CREATED:20260306T100553Z
LAST-MODIFIED:20260306T100553Z
UID:14700-1774629000-1774636200@udadisi.com
SUMMARY:CFR: Governance of Public Institutions - Transcending Organizational Boundaries
DESCRIPTION:
URL:https://udadisi.com/event/cfr-governance-of-public-institutions-transcending-organizational-boundaries/
CATEGORIES:Lecture,Online,Registration
ATTACH;FMTTYPE=image/jpeg:https://udadisi.com/wp-content/uploads/2026/03/BIEA.jpg
END:VEVENT
BEGIN:VEVENT
DTSTART;TZID=Africa/Dar_es_Salaam:20260321T100000
DTEND;TZID=Africa/Dar_es_Salaam:20260321T120000
DTSTAMP:20260423T183211
CREATED:20260306T094537Z
LAST-MODIFIED:20260306T094537Z
UID:14692-1774087200-1774094400@udadisi.com
SUMMARY:CFR: R Programming Training
DESCRIPTION:
URL:https://udadisi.com/event/cfr-r-programming-training/
CATEGORIES:Online,Registration,Training
ATTACH;FMTTYPE=image/jpeg:https://udadisi.com/wp-content/uploads/2026/03/RP.jpg
END:VEVENT
BEGIN:VEVENT
DTSTART;VALUE=DATE:20260315
DTEND;VALUE=DATE:20260316
DTSTAMP:20260423T183211
CREATED:20260110T091447Z
LAST-MODIFIED:20260110T091447Z
UID:14239-1773532800-1773619199@udadisi.com
SUMMARY:CFA: International Media Studies
DESCRIPTION:
URL:https://udadisi.com/event/cfa-international-media-studies/
CATEGORIES:Application,Online
ATTACH;FMTTYPE=image/png:https://udadisi.com/wp-content/uploads/2026/01/dw.png
END:VEVENT
BEGIN:VEVENT
DTSTART;TZID=Africa/Dar_es_Salaam:20260303T102500
DTEND;TZID=Africa/Dar_es_Salaam:20260303T122500
DTSTAMP:20260423T183211
CREATED:20260302T095737Z
LAST-MODIFIED:20260302T095737Z
UID:14650-1772533500-1772540700@udadisi.com
SUMMARY:Seminar: Political Ecologies of Carbon Market
DESCRIPTION:
URL:https://udadisi.com/event/seminar-political-ecologies-of-carbon-market/
CATEGORIES:Discussion,Online,Seminar
ATTACH;FMTTYPE=image/jpeg:https://udadisi.com/wp-content/uploads/2026/03/onlineSeminar.jpg
END:VEVENT
BEGIN:VEVENT
DTSTART;VALUE=DATE:20260210
DTEND;VALUE=DATE:20260211
DTSTAMP:20260423T183211
CREATED:20260202T114118Z
LAST-MODIFIED:20260202T120023Z
UID:14513-1770681600-1770767999@udadisi.com
SUMMARY:CFA: Global Policy Analysis Course for BA and MA Students
DESCRIPTION:
URL:https://udadisi.com/event/cfa-global-policy-analysis-course-2026/
CATEGORIES:Application,Course,Lecture,Online
ATTACH;FMTTYPE=image/jpeg:https://udadisi.com/wp-content/uploads/2026/02/globalpolicy.jpg
END:VEVENT
BEGIN:VEVENT
DTSTART;VALUE=DATE:20260206
DTEND;VALUE=DATE:20260207
DTSTAMP:20260423T183211
CREATED:20260110T094807Z
LAST-MODIFIED:20260110T094807Z
UID:14246-1770336000-1770422399@udadisi.com
SUMMARY:CFI: Expression of Interest to Showcase Innovations during the Second MUHAS Innovation Week
DESCRIPTION:
URL:https://udadisi.com/event/cfi-expression-of-interest-to-showcase-innovations-during-the-second-muhas-innovation-week/
CATEGORIES:Exhibition,Networking,Online,Submission
ATTACH;FMTTYPE=image/jpeg:https://udadisi.com/wp-content/uploads/2026/01/muhas2.jpg
END:VEVENT
BEGIN:VEVENT
DTSTART;TZID=Africa/Dar_es_Salaam:20260205T110000
DTEND;TZID=Africa/Dar_es_Salaam:20260205T110000
DTSTAMP:20260423T183211
CREATED:20260203T154058Z
LAST-MODIFIED:20260203T154058Z
UID:14520-1770289200-1770289200@udadisi.com
SUMMARY:Webinar: Senior Academic Positions at NM-AIST
DESCRIPTION:
URL:https://udadisi.com/event/webinar-senior-academic-positions-at-nm-aist/
CATEGORIES:Online,Registration,Session,Webinar
ATTACH;FMTTYPE=image/jpeg:https://udadisi.com/wp-content/uploads/2026/02/nm.jpg
END:VEVENT
BEGIN:VEVENT
DTSTART;VALUE=DATE:20260131
DTEND;VALUE=DATE:20260201
DTSTAMP:20260423T183211
CREATED:20260121T183146Z
LAST-MODIFIED:20260121T183146Z
UID:14405-1769817600-1769903999@udadisi.com
SUMMARY:CFV: Tanzania Startup Ecosystem Status Report (ESR) 2025/26 Support Roles
DESCRIPTION:
URL:https://udadisi.com/event/cfv-tanzania-startup-ecosystem-status-report-esr-2025-26-support-roles/
CATEGORIES:Application,Online
ATTACH;FMTTYPE=image/jpeg:https://udadisi.com/wp-content/uploads/2026/01/vendors.jpg
END:VEVENT
BEGIN:VEVENT
DTSTART;TZID=Africa/Dar_es_Salaam:20260128T110000
DTEND;TZID=Africa/Dar_es_Salaam:20260128T110000
DTSTAMP:20260423T183211
CREATED:20260128T074750Z
LAST-MODIFIED:20260128T074750Z
UID:14476-1769598000-1769598000@udadisi.com
SUMMARY:Webinar: Organizational Conflicts and Conflicts Management in Educational Institutions
DESCRIPTION:
URL:https://udadisi.com/event/webinar-organizational-conflicts-and-conflicts-management-in-educational-institutions/
CATEGORIES:Online,Session,Webinar
ATTACH;FMTTYPE=image/jpeg:https://udadisi.com/wp-content/uploads/2026/01/SUA.jpg
END:VEVENT
BEGIN:VEVENT
DTSTART;TZID=Africa/Dar_es_Salaam:20260126T235900
DTEND;TZID=Africa/Dar_es_Salaam:20260126T235900
DTSTAMP:20260423T183211
CREATED:20260112T083140Z
LAST-MODIFIED:20260112T083140Z
UID:14256-1769471940-1769471940@udadisi.com
SUMMARY:CFA: 2026 TanSAF Junior Cohort
DESCRIPTION:
URL:https://udadisi.com/event/cfa-2026-tansaf-junior-cohort/
CATEGORIES:Application,Online
ATTACH;FMTTYPE=image/jpeg:https://udadisi.com/wp-content/uploads/2026/01/TanSaf.jpg
END:VEVENT
BEGIN:VEVENT
DTSTART;TZID=Africa/Dar_es_Salaam:20260115T170000
DTEND;TZID=Africa/Dar_es_Salaam:20260115T170000
DTSTAMP:20260423T183211
CREATED:20251227T040020Z
LAST-MODIFIED:20251227T040020Z
UID:14126-1768496400-1768496400@udadisi.com
SUMMARY:CFA: AWF Geospatial Leaders Fellowship for Africa’s Conservation Innovators
DESCRIPTION:
URL:https://udadisi.com/event/cfa-awf-geospatial-leaders-fellowship-for-africas-conservation-innovators/
CATEGORIES:Application,Fellowship,Online
ATTACH;FMTTYPE=image/jpeg:https://udadisi.com/wp-content/uploads/2025/12/20251226_225519.jpg
END:VEVENT
BEGIN:VEVENT
DTSTART;TZID=Africa/Dar_es_Salaam:20260114T040000
DTEND;TZID=Africa/Dar_es_Salaam:20260114T050000
DTSTAMP:20260423T183211
CREATED:20260112T081824Z
LAST-MODIFIED:20260112T081824Z
UID:14253-1768363200-1768366800@udadisi.com
SUMMARY:Virtual Poetry Reading: Kumi Na Moja: New-Generation African Poets\, A Chapbook Box Set
DESCRIPTION:
URL:https://udadisi.com/event/virtual-poetry-reading-kumi-na-moja-new-generation-african-poets-a-chapbook-box-set/
CATEGORIES:Book,Online,Session,Webinar
ATTACH;FMTTYPE=image/jpeg:https://udadisi.com/wp-content/uploads/2026/01/APBF.jpg
END:VEVENT
BEGIN:VEVENT
DTSTART;VALUE=DATE:20260114
DTEND;VALUE=DATE:20260129
DTSTAMP:20260423T183211
CREATED:20260108T044508Z
LAST-MODIFIED:20260108T044508Z
UID:14230-1768348800-1769644799@udadisi.com
SUMMARY:CFR: 10th Annual State of Education on Africa Conference
DESCRIPTION:
URL:https://udadisi.com/event/cfr-10th-annual-state-of-education-on-africa-conference/
CATEGORIES:Conference,Online,Registration
ATTACH;FMTTYPE=image/jpeg:https://udadisi.com/wp-content/uploads/2026/01/FTGR.jpg
END:VEVENT
BEGIN:VEVENT
DTSTART;TZID=Africa/Dar_es_Salaam:20260110T015900
DTEND;TZID=Africa/Dar_es_Salaam:20260110T015900
DTSTAMP:20260423T183211
CREATED:20251225T043905Z
LAST-MODIFIED:20251225T043905Z
UID:14039-1768010340-1768010340@udadisi.com
SUMMARY:CFA: Masters in Journalism\, Media and Globalisation Scholarship
DESCRIPTION:
URL:https://udadisi.com/event/cfa-masters-in-journalism-media-and-globalisation-scholarship/
CATEGORIES:Application,Online,Scholarship
ATTACH;FMTTYPE=image/jpeg:https://udadisi.com/wp-content/uploads/2025/12/mundus.jpg
END:VEVENT
BEGIN:VEVENT
DTSTART;TZID=Africa/Dar_es_Salaam:20260106T160000
DTEND;TZID=Africa/Dar_es_Salaam:20260106T170000
DTSTAMP:20260423T183211
CREATED:20260103T062407Z
LAST-MODIFIED:20260103T065342Z
UID:14184-1767715200-1767718800@udadisi.com
SUMMARY:Making Dar es Salaam Clean Again: Outsourced Dispossession and the Eviction of Street Vendors in 2021/22
DESCRIPTION:
URL:https://udadisi.com/event/making-dar-es-salaam-clean-again/
CATEGORIES:Meeting,Online,Seminar
ATTACH;FMTTYPE=image/jpeg:https://udadisi.com/wp-content/uploads/2026/01/udsm.jpg
END:VEVENT
BEGIN:VEVENT
DTSTART;TZID=Africa/Dar_es_Salaam:20250902T205900
DTEND;TZID=Africa/Dar_es_Salaam:20250902T205900
DTSTAMP:20260423T183211
CREATED:20250723T085103Z
LAST-MODIFIED:20250726T105716Z
UID:13733-1756846740-1756846740@udadisi.com
SUMMARY:African Qual & Quant Research Consortium - LIKODA 2025: Decolonizing research and international collaboration in Africa
DESCRIPTION:
URL:https://udadisi.com/event/african-qual-quant-research-consortium-likoda-2025-decolonizing-research-and-international-collaboration-in-africa/
CATEGORIES:Online
ATTACH;FMTTYPE=image/png:https://udadisi.com/wp-content/uploads/2025/07/1753482837676.png
END:VEVENT
BEGIN:VEVENT
DTSTART;TZID=Africa/Dar_es_Salaam:20240523T180000
DTEND;TZID=Africa/Dar_es_Salaam:20240523T193000
DTSTAMP:20260423T183211
CREATED:20240502T160148Z
LAST-MODIFIED:20240502T160148Z
UID:13415-1716487200-1716492600@udadisi.com
SUMMARY:Digital Health and Innovation Webinar Series
DESCRIPTION:
URL:https://udadisi.com/event/digital-health-and-innovation-webinar-series/
CATEGORIES:Online,Webinar
ATTACH;FMTTYPE=image/jpeg:https://udadisi.com/wp-content/uploads/2024/04/20240430_175218.jpg
END:VEVENT
BEGIN:VEVENT
DTSTART;TZID=Africa/Dar_es_Salaam:20240215T235900
DTEND;TZID=Africa/Dar_es_Salaam:20240215T235900
DTSTAMP:20260423T183211
CREATED:20240119T114908Z
LAST-MODIFIED:20240119T114908Z
UID:13267-1708041540-1708041540@udadisi.com
SUMMARY:Historians In Residence Program
DESCRIPTION:
URL:https://udadisi.com/event/historians-in-residence-program/
CATEGORIES:Application,Art,Online,Residence
ATTACH;FMTTYPE=image/webp:https://udadisi.com/wp-content/uploads/2024/01/1.webp
END:VEVENT
BEGIN:VEVENT
DTSTART;TZID=Africa/Lagos:20240128T170000
DTEND;TZID=Africa/Lagos:20240128T200000
DTSTAMP:20260423T183211
CREATED:20240105T032740Z
LAST-MODIFIED:20240105T032740Z
UID:13230-1706461200-1706472000@udadisi.com
SUMMARY:The Toyin Falola Interviews: A Panel Discussion on Decolonization/Decoloniality
DESCRIPTION:
URL:https://udadisi.com/event/the-toyin-falola-interviews-a-panel-discussion-on-decolonization-decoloniality/
CATEGORIES:Discussion,Online
ATTACH;FMTTYPE=image/jpeg:https://udadisi.com/wp-content/uploads/2024/01/unnamed.jpg
END:VEVENT
BEGIN:VEVENT
DTSTART;TZID=Africa/Dar_es_Salaam:20240124T080000
DTEND;TZID=Africa/Dar_es_Salaam:20240208T170000
DTSTAMP:20260423T183211
CREATED:20240119T113927Z
LAST-MODIFIED:20240119T113927Z
UID:13264-1706083200-1707411600@udadisi.com
SUMMARY:Free GIS Course: Going Places with Spatial Analysis
DESCRIPTION:
URL:https://udadisi.com/event/free-gis-course-going-places-with-spatial-analysis/
CATEGORIES:Course,Online
ATTACH;FMTTYPE=image/jpeg:https://udadisi.com/wp-content/uploads/2024/01/1-4.jpeg
END:VEVENT
BEGIN:VEVENT
DTSTART;TZID=America/New_York:20240124T080000
DTEND;TZID=America/New_York:20240124T170000
DTSTAMP:20260423T183211
CREATED:20240119T022309Z
LAST-MODIFIED:20240119T022309Z
UID:13256-1706083200-1706115600@udadisi.com
SUMMARY:Governance\, Conflict\, and Security in Africa: A Convergence
DESCRIPTION:
URL:https://udadisi.com/event/governance-conflict-and-security-in-africa-a-convergence/
CATEGORIES:Online,Seminar
ATTACH;FMTTYPE=image/jpeg:https://udadisi.com/wp-content/uploads/2024/01/1-3.jpeg
END:VEVENT
BEGIN:VEVENT
DTSTART;TZID=America/New_York:20240122T120000
DTEND;TZID=America/New_York:20240122T133000
DTSTAMP:20260423T183211
CREATED:20240105T031623Z
LAST-MODIFIED:20240105T031623Z
UID:13227-1705924800-1705930200@udadisi.com
SUMMARY:CAAS Professional Development Webinar: From Manuscript to Publication
DESCRIPTION:
URL:https://udadisi.com/event/caas-professional-development-webinar-from-manuscript-to-publication/
CATEGORIES:Online,Webinar
ATTACH;FMTTYPE=image/jpeg:https://udadisi.com/wp-content/uploads/2024/01/1.jpeg
END:VEVENT
BEGIN:VEVENT
DTSTART;TZID=Africa/Dar_es_Salaam:20240120T140000
DTEND;TZID=Africa/Dar_es_Salaam:20240120T170000
DTSTAMP:20260423T183211
CREATED:20240119T020550Z
LAST-MODIFIED:20240119T020550Z
UID:13250-1705759200-1705770000@udadisi.com
SUMMARY:Learning from Manzese Working Women Cooperative
DESCRIPTION:
URL:https://udadisi.com/event/learning-from-manzese-working-women-cooperative/
CATEGORIES:Online,Webinar
ATTACH;FMTTYPE=image/jpeg:https://udadisi.com/wp-content/uploads/2024/01/1-1.jpeg
END:VEVENT
BEGIN:VEVENT
DTSTART;TZID=Africa/Dar_es_Salaam:20231123T150000
DTEND;TZID=Africa/Dar_es_Salaam:20231123T150000
DTSTAMP:20260423T183211
CREATED:20231122T223902Z
LAST-MODIFIED:20231122T223902Z
UID:13074-1700751600-1700751600@udadisi.com
SUMMARY:Nafasi Academy 2023
DESCRIPTION:
URL:https://udadisi.com/event/nafasi-academy-2023/
CATEGORIES:Online,Talk
ATTACH;FMTTYPE=image/jpeg:https://udadisi.com/wp-content/uploads/2023/11/20231123_013713.jpg
END:VEVENT
BEGIN:VEVENT
DTSTART;TZID=Africa/Dar_es_Salaam:20231026T180000
DTEND;TZID=Africa/Dar_es_Salaam:20231026T180000
DTSTAMP:20260423T183211
CREATED:20231023T234420Z
LAST-MODIFIED:20231023T234420Z
UID:12966-1698343200-1698343200@udadisi.com
SUMMARY:The Culture Catch Up: Introducing Mutanu Kyany'a
DESCRIPTION:
URL:https://udadisi.com/event/the-culture-catch-up-introducing-mutanu-kyanya/
CATEGORIES:Online,Talk
ATTACH;FMTTYPE=image/jpeg:https://udadisi.com/wp-content/uploads/2023/10/20231024_023821.jpg
END:VEVENT
BEGIN:VEVENT
DTSTART;TZID=Europe/Helsinki:20231011T180000
DTEND;TZID=Europe/Helsinki:20231011T193000
DTSTAMP:20260423T183211
CREATED:20230909T093600Z
LAST-MODIFIED:20230909T093600Z
UID:12834-1697047200-1697052600@udadisi.com
SUMMARY:Learning Disobedience in African Studies: Producing Defiant Scholarship on Migration and Refugees
DESCRIPTION:
URL:https://udadisi.com/event/learning-disobedience-in-african-studies-producing-defiant-scholarship-on-migration-and-refugees/
CATEGORIES:Conference,Online
ATTACH;FMTTYPE=image/jpeg:https://udadisi.com/wp-content/uploads/2023/09/20230907_225443.jpg
END:VEVENT
BEGIN:VEVENT
DTSTART;TZID=Africa/Dar_es_Salaam:20230908T140000
DTEND;TZID=Africa/Dar_es_Salaam:20230908T140000
DTSTAMP:20260423T183211
CREATED:20230907T193941Z
LAST-MODIFIED:20230907T193941Z
UID:12813-1694181600-1694181600@udadisi.com
SUMMARY:Panel Discussion: Nationalisation or Foreignasation?
DESCRIPTION:
URL:https://udadisi.com/event/panel-discussion-nationalisation-or-foreignasation/
CATEGORIES:Discussion,Online
ATTACH;FMTTYPE=image/jpeg:https://udadisi.com/wp-content/uploads/2023/09/IMG-20230906-WA0003.jpg
END:VEVENT
BEGIN:VEVENT
DTSTART;TZID=Africa/Dar_es_Salaam:20230222T140000
DTEND;TZID=Africa/Dar_es_Salaam:20230222T140000
DTSTAMP:20260423T183211
CREATED:20230221T133054Z
LAST-MODIFIED:20230221T133054Z
UID:12392-1677074400-1677074400@udadisi.com
SUMMARY:TANZANIA AND CHINA RELATIONS: CHINA’s DYNAMIC ZERO- COVID POLICY
DESCRIPTION:
URL:https://udadisi.com/event/tanzania-and-china-relations-chinas-dynamic-zero-covid-policy/
CATEGORIES:Dialogue,Online,Talk
ATTACH;FMTTYPE=image/jpeg:https://udadisi.com/wp-content/uploads/2023/02/FpZVGNPXEAEVqrz.jpg
END:VEVENT
BEGIN:VEVENT
DTSTART;TZID=Africa/Dar_es_Salaam:20230209T160000
DTEND;TZID=Africa/Dar_es_Salaam:20230209T173000
DTSTAMP:20260423T183211
CREATED:20230201T084310Z
LAST-MODIFIED:20230201T084310Z
UID:12362-1675958400-1675963800@udadisi.com
SUMMARY:Tools of the Trade: Soft Skills Necessary for Researchers
DESCRIPTION:
URL:https://udadisi.com/event/tools-of-the-trade-soft-skills-necessary-for-researchers/
CATEGORIES:Discussion,Online,Training,Workshop
ATTACH;FMTTYPE=image/jpeg:https://udadisi.com/wp-content/uploads/2023/02/FnuFtCrXkAAe_Ks.jpg
END:VEVENT
END:VCALENDAR