BEGIN:VCALENDAR
VERSION:2.0
PRODID:-//Udadisi - ECPv6.15.13//NONSGML v1.0//EN
CALSCALE:GREGORIAN
METHOD:PUBLISH
X-ORIGINAL-URL:https://udadisi.com
X-WR-CALDESC:Events for Udadisi
REFRESH-INTERVAL;VALUE=DURATION:PT1H
X-Robots-Tag:noindex
X-PUBLISHED-TTL:PT1H
BEGIN:VTIMEZONE
TZID:Africa/Dar_es_Salaam
BEGIN:STANDARD
TZOFFSETFROM:+0300
TZOFFSETTO:+0300
TZNAME:EAT
DTSTART:20250101T000000
END:STANDARD
END:VTIMEZONE
BEGIN:VEVENT
DTSTART;VALUE=DATE:20260601
DTEND;VALUE=DATE:20260602
DTSTAMP:20260423T131921
CREATED:20260315T182218Z
LAST-MODIFIED:20260315T182218Z
UID:14791-1780272000-1780358399@udadisi.com
SUMMARY:CFA: THS 2026 - Building Health Sovereignty and Strengthening Health Systems in a Changing Global Order
DESCRIPTION:
URL:https://udadisi.com/event/cfa-ths-2026-building-health-sovereignty-and-strengthening-health-systems-in-a-changing-global-order/
CATEGORIES:Proposal,Submission,Summit
ATTACH;FMTTYPE=image/jpeg:https://udadisi.com/wp-content/uploads/2026/03/ths.jpg
END:VEVENT
BEGIN:VEVENT
DTSTART;VALUE=DATE:20260621
DTEND;VALUE=DATE:20260622
DTSTAMP:20260423T131921
CREATED:20260420T054309Z
LAST-MODIFIED:20260420T054309Z
UID:15085-1782000000-1782086399@udadisi.com
SUMMARY:CFP: Spaces of Culture 2026 - Supporting New Cultural Relations Projects in Sub-Saharan Africa
DESCRIPTION:
URL:https://udadisi.com/event/cfp-spaces-of-culture-2026-supporting-new-cultural-relations-projects-in-sub-saharan-africa/
CATEGORIES:Proposal,Submission
ATTACH;FMTTYPE=image/jpeg:https://udadisi.com/wp-content/uploads/2026/04/EUNIC.jpg
END:VEVENT
BEGIN:VEVENT
DTSTART;VALUE=DATE:20260630
DTEND;VALUE=DATE:20260701
DTSTAMP:20260423T131921
CREATED:20260406T122459Z
LAST-MODIFIED:20260406T122459Z
UID:15035-1782777600-1782863999@udadisi.com
SUMMARY:CFP: The 7th Business and Economic Development Conference
DESCRIPTION:
URL:https://udadisi.com/event/cfp-the-7th-business-and-economic-development-conference/
CATEGORIES:Conference,Proposal,Submission
ATTACH;FMTTYPE=image/jpeg:https://udadisi.com/wp-content/uploads/2026/04/BEDC2026.jpg
END:VEVENT
BEGIN:VEVENT
DTSTART;VALUE=DATE:20260630
DTEND;VALUE=DATE:20260701
DTSTAMP:20260423T131921
CREATED:20260420T060127Z
LAST-MODIFIED:20260420T060127Z
UID:15088-1782777600-1782863999@udadisi.com
SUMMARY:CFA: Merck Foundation Africa Research Summit (MARS) Awards 2026
DESCRIPTION:
URL:https://udadisi.com/event/cfa-merck-foundation-africa-research-summit-mars-awards-2026/
CATEGORIES:Application,Award,Proposal,Research,Submission,Summit
ATTACH;FMTTYPE=image/jpeg:https://udadisi.com/wp-content/uploads/2026/04/MERCK1.jpg
END:VEVENT
BEGIN:VEVENT
DTSTART;VALUE=DATE:20260803
DTEND;VALUE=DATE:20260804
DTSTAMP:20260423T131921
CREATED:20260420T051557Z
LAST-MODIFIED:20260420T051557Z
UID:15079-1785715200-1785801599@udadisi.com
SUMMARY:CFP: 25th Annual Absa BEN-Africa Conference
DESCRIPTION:
URL:https://udadisi.com/event/cfp-25th-annual-absa-ben-africa-conference/
CATEGORIES:Conference,Proposal,Submission
ATTACH;FMTTYPE=image/jpeg:https://udadisi.com/wp-content/uploads/2026/04/BENAfrica.jpg
END:VEVENT
BEGIN:VEVENT
DTSTART;TZID=Africa/Dar_es_Salaam:20260825T160000
DTEND;TZID=Africa/Dar_es_Salaam:20260827T230000
DTSTAMP:20260423T131921
CREATED:20260308T114534Z
LAST-MODIFIED:20260308T114534Z
UID:14703-1787673600-1787871600@udadisi.com
SUMMARY:CFA: 2nd Annual International Conference of the Africa Indigenous Knowledge Research Network (AIKRN)
DESCRIPTION:
URL:https://udadisi.com/event/cfa-2nd-annual-international-conference-of-the-africa-indigenous-knowledge-research-network-aikrn/
CATEGORIES:Conference,Proposal,Research,Submission
ATTACH;FMTTYPE=image/jpeg:https://udadisi.com/wp-content/uploads/2026/03/AIKRN.jpg
END:VEVENT
BEGIN:VEVENT
DTSTART;VALUE=DATE:20260831
DTEND;VALUE=DATE:20260901
DTSTAMP:20260423T131921
CREATED:20260121T074729Z
LAST-MODIFIED:20260401T080253Z
UID:14388-1788134400-1788220799@udadisi.com
SUMMARY:CFP: Funding for Global Health Research and Innovation Projects
DESCRIPTION:
URL:https://udadisi.com/event/cfp-funding-for-global-health-research-and-innovation-projects/
CATEGORIES:Application,Competition,Funding,Proposal,Research,Submission
ATTACH;FMTTYPE=image/jpeg:https://udadisi.com/wp-content/uploads/2026/01/Global_Health.jpg
END:VEVENT
END:VCALENDAR