BEGIN:VCALENDAR
VERSION:2.0
PRODID:-//Udadisi - ECPv6.15.13//NONSGML v1.0//EN
CALSCALE:GREGORIAN
METHOD:PUBLISH
X-WR-CALNAME:Udadisi
X-ORIGINAL-URL:https://udadisi.com
X-WR-CALDESC:Events for Udadisi
REFRESH-INTERVAL;VALUE=DURATION:PT1H
X-Robots-Tag:noindex
X-PUBLISHED-TTL:PT1H
BEGIN:VTIMEZONE
TZID:Africa/Dar_es_Salaam
BEGIN:STANDARD
TZOFFSETFROM:+0300
TZOFFSETTO:+0300
TZNAME:EAT
DTSTART:20250101T000000
END:STANDARD
END:VTIMEZONE
BEGIN:VEVENT
DTSTART;TZID=Africa/Dar_es_Salaam:20260311T190000
DTEND;TZID=Africa/Dar_es_Salaam:20260311T200000
DTSTAMP:20260423T205152
CREATED:20260309T062905Z
LAST-MODIFIED:20260309T062905Z
UID:14732-1773255600-1773259200@udadisi.com
SUMMARY:CFR: Advancing Corporate Accountability and Human Rights in an Age of Inequality
DESCRIPTION:
URL:https://udadisi.com/event/cfr-advancing-corporate-accountability-and-human-rights-in-an-age-of-inequality/
CATEGORIES:Discussion,Event,Registration
ATTACH;FMTTYPE=image/jpeg:https://udadisi.com/wp-content/uploads/2026/03/Inequality.jpg
END:VEVENT
BEGIN:VEVENT
DTSTART;VALUE=DATE:20260313
DTEND;VALUE=DATE:20260314
DTSTAMP:20260423T205152
CREATED:20260303T121922Z
LAST-MODIFIED:20260303T121922Z
UID:14655-1773360000-1773446399@udadisi.com
SUMMARY:CFA: 2nd WFNS International Global Neurosurgery and 1st ISGNS Conference
DESCRIPTION:
URL:https://udadisi.com/event/cfa-2nd-wfns-international-global-neurosurgery-and-1st-isgns-conference/
CATEGORIES:Conference,Proposal,Registration,Submission
ATTACH;FMTTYPE=image/jpeg:https://udadisi.com/wp-content/uploads/2026/03/Neurosurgery.jpg
END:VEVENT
BEGIN:VEVENT
DTSTART;TZID=Africa/Dar_es_Salaam:20260318T193000
DTEND;TZID=Africa/Dar_es_Salaam:20260318T193000
DTSTAMP:20260423T205152
CREATED:20260308T123711Z
LAST-MODIFIED:20260308T123711Z
UID:14712-1773862200-1773862200@udadisi.com
SUMMARY:CFR: Umeme Flash Point Series - Roundtable on Africa’s Future Amid Global Geopolitical Reset
DESCRIPTION:
URL:https://udadisi.com/event/cfr-umeme-flash-point-series-roundtable-on-africas-future-amid-global-geopolitical-reset/
CATEGORIES:Discussion,Registration,Webinar
ATTACH;FMTTYPE=image/jpeg:https://udadisi.com/wp-content/uploads/2026/03/umeme.jpg
END:VEVENT
BEGIN:VEVENT
DTSTART;TZID=Africa/Dar_es_Salaam:20260321T100000
DTEND;TZID=Africa/Dar_es_Salaam:20260321T120000
DTSTAMP:20260423T205152
CREATED:20260306T094537Z
LAST-MODIFIED:20260306T094537Z
UID:14692-1774087200-1774094400@udadisi.com
SUMMARY:CFR: R Programming Training
DESCRIPTION:
URL:https://udadisi.com/event/cfr-r-programming-training/
CATEGORIES:Online,Registration,Training
ATTACH;FMTTYPE=image/jpeg:https://udadisi.com/wp-content/uploads/2026/03/RP.jpg
END:VEVENT
BEGIN:VEVENT
DTSTART;TZID=Africa/Dar_es_Salaam:20260326T150000
DTEND;TZID=Africa/Dar_es_Salaam:20260326T163000
DTSTAMP:20260423T205152
CREATED:20260326T112321Z
LAST-MODIFIED:20260326T112321Z
UID:14874-1774537200-1774542600@udadisi.com
SUMMARY:CFR: FinClinic Playbook Launch
DESCRIPTION:
URL:https://udadisi.com/event/cfr-finclinic-playbook-launch/
CATEGORIES:Launch,Registration,Webinar
ATTACH;FMTTYPE=image/jpeg:https://udadisi.com/wp-content/uploads/2026/03/FSD.jpg
END:VEVENT
BEGIN:VEVENT
DTSTART;TZID=Africa/Dar_es_Salaam:20260327T163000
DTEND;TZID=Africa/Dar_es_Salaam:20260327T183000
DTSTAMP:20260423T205152
CREATED:20260306T100553Z
LAST-MODIFIED:20260306T100553Z
UID:14700-1774629000-1774636200@udadisi.com
SUMMARY:CFR: Governance of Public Institutions - Transcending Organizational Boundaries
DESCRIPTION:
URL:https://udadisi.com/event/cfr-governance-of-public-institutions-transcending-organizational-boundaries/
CATEGORIES:Lecture,Online,Registration
ATTACH;FMTTYPE=image/jpeg:https://udadisi.com/wp-content/uploads/2026/03/BIEA.jpg
END:VEVENT
END:VCALENDAR