BEGIN:VCALENDAR
VERSION:2.0
PRODID:-//Udadisi - ECPv6.15.13//NONSGML v1.0//EN
CALSCALE:GREGORIAN
METHOD:PUBLISH
X-WR-CALNAME:Udadisi
X-ORIGINAL-URL:https://udadisi.com
X-WR-CALDESC:Events for Udadisi
REFRESH-INTERVAL;VALUE=DURATION:PT1H
X-Robots-Tag:noindex
X-PUBLISHED-TTL:PT1H
BEGIN:VTIMEZONE
TZID:Africa/Dar_es_Salaam
BEGIN:STANDARD
TZOFFSETFROM:+0300
TZOFFSETTO:+0300
TZNAME:EAT
DTSTART:20220101T000000
END:STANDARD
END:VTIMEZONE
BEGIN:VEVENT
DTSTART;TZID=Africa/Dar_es_Salaam:20260318T193000
DTEND;TZID=Africa/Dar_es_Salaam:20260318T193000
DTSTAMP:20260423T205115
CREATED:20260308T123711Z
LAST-MODIFIED:20260308T123711Z
UID:14712-1773862200-1773862200@udadisi.com
SUMMARY:CFR: Umeme Flash Point Series - Roundtable on Africa’s Future Amid Global Geopolitical Reset
DESCRIPTION:
URL:https://udadisi.com/event/cfr-umeme-flash-point-series-roundtable-on-africas-future-amid-global-geopolitical-reset/
CATEGORIES:Discussion,Registration,Webinar
ATTACH;FMTTYPE=image/jpeg:https://udadisi.com/wp-content/uploads/2026/03/umeme.jpg
END:VEVENT
BEGIN:VEVENT
DTSTART;VALUE=DATE:20260313
DTEND;VALUE=DATE:20260314
DTSTAMP:20260423T205115
CREATED:20260303T121922Z
LAST-MODIFIED:20260303T121922Z
UID:14655-1773360000-1773446399@udadisi.com
SUMMARY:CFA: 2nd WFNS International Global Neurosurgery and 1st ISGNS Conference
DESCRIPTION:
URL:https://udadisi.com/event/cfa-2nd-wfns-international-global-neurosurgery-and-1st-isgns-conference/
CATEGORIES:Conference,Proposal,Registration,Submission
ATTACH;FMTTYPE=image/jpeg:https://udadisi.com/wp-content/uploads/2026/03/Neurosurgery.jpg
END:VEVENT
BEGIN:VEVENT
DTSTART;TZID=Africa/Dar_es_Salaam:20260311T190000
DTEND;TZID=Africa/Dar_es_Salaam:20260311T200000
DTSTAMP:20260423T205115
CREATED:20260309T062905Z
LAST-MODIFIED:20260309T062905Z
UID:14732-1773255600-1773259200@udadisi.com
SUMMARY:CFR: Advancing Corporate Accountability and Human Rights in an Age of Inequality
DESCRIPTION:
URL:https://udadisi.com/event/cfr-advancing-corporate-accountability-and-human-rights-in-an-age-of-inequality/
CATEGORIES:Discussion,Event,Registration
ATTACH;FMTTYPE=image/jpeg:https://udadisi.com/wp-content/uploads/2026/03/Inequality.jpg
END:VEVENT
BEGIN:VEVENT
DTSTART;VALUE=DATE:20260223
DTEND;VALUE=DATE:20260228
DTSTAMP:20260423T205115
CREATED:20260103T064330Z
LAST-MODIFIED:20260103T065008Z
UID:14187-1771804800-1772236799@udadisi.com
SUMMARY:Advancing Innovation in Healthcare: Nurturing\, Connecting and Protecting Solutions for Better Health
DESCRIPTION:
URL:https://udadisi.com/event/advancing-innovation-in-healthcare-nurturing-connecting-and-protecting-solutions-for-better-health/
CATEGORIES:Discussion,Event,Registration
ATTACH;FMTTYPE=image/jpeg:https://udadisi.com/wp-content/uploads/2026/01/muhas.jpg
END:VEVENT
BEGIN:VEVENT
DTSTART;TZID=Africa/Dar_es_Salaam:20260220T150000
DTEND;TZID=Africa/Dar_es_Salaam:20260220T150000
DTSTAMP:20260423T205115
CREATED:20260116T123548Z
LAST-MODIFIED:20260116T123548Z
UID:14324-1771599600-1771599600@udadisi.com
SUMMARY:CFR: STEMxAfrica - Tanzania
DESCRIPTION:
URL:https://udadisi.com/event/cfr-stemxafrica-tanzania/
CATEGORIES:Registration,Training,Webinar
ATTACH;FMTTYPE=image/jpeg:https://udadisi.com/wp-content/uploads/2026/01/stemX.jpg
END:VEVENT
BEGIN:VEVENT
DTSTART;VALUE=DATE:20260220
DTEND;VALUE=DATE:20260222
DTSTAMP:20260423T205115
CREATED:20260212T072402Z
LAST-MODIFIED:20260212T072402Z
UID:14576-1771545600-1771718399@udadisi.com
SUMMARY:CFR: HU African Indigenous Knowledge and Languages Conference 2026
DESCRIPTION:
URL:https://udadisi.com/event/cfr-hu-african-indigenous-knowledge-and-languages-conference-2026/
CATEGORIES:Conference,Proposal,Registration,Submission
ATTACH;FMTTYPE=image/jpeg:https://udadisi.com/wp-content/uploads/2026/02/AIKL.jpg
END:VEVENT
BEGIN:VEVENT
DTSTART;TZID=Africa/Dar_es_Salaam:20260212T030000
DTEND;TZID=Africa/Dar_es_Salaam:20260212T030000
DTSTAMP:20260423T205115
CREATED:20260129T113000Z
LAST-MODIFIED:20260211T070655Z
UID:14496-1770865200-1770865200@udadisi.com
SUMMARY:CFR: Global Reads Webinar - The Maid and the Crocodile
DESCRIPTION:
URL:https://udadisi.com/event/cfr-global-read-webinar-the-maid-and-the-crocodile/
CATEGORIES:Book,Discussion,Registration,Session,Webinar
ATTACH;FMTTYPE=image/jpeg:https://udadisi.com/wp-content/uploads/2026/01/Howard.jpg
END:VEVENT
BEGIN:VEVENT
DTSTART;TZID=Africa/Dar_es_Salaam:20260205T110000
DTEND;TZID=Africa/Dar_es_Salaam:20260205T110000
DTSTAMP:20260423T205115
CREATED:20260203T154058Z
LAST-MODIFIED:20260203T154058Z
UID:14520-1770289200-1770289200@udadisi.com
SUMMARY:Webinar: Senior Academic Positions at NM-AIST
DESCRIPTION:
URL:https://udadisi.com/event/webinar-senior-academic-positions-at-nm-aist/
CATEGORIES:Online,Registration,Session,Webinar
ATTACH;FMTTYPE=image/jpeg:https://udadisi.com/wp-content/uploads/2026/02/nm.jpg
END:VEVENT
BEGIN:VEVENT
DTSTART;VALUE=DATE:20260127
DTEND;VALUE=DATE:20260129
DTSTAMP:20260423T205115
CREATED:20260123T111607Z
LAST-MODIFIED:20260123T111607Z
UID:14413-1769472000-1769644799@udadisi.com
SUMMARY:CFR: BIEA Graduate Conference 2026
DESCRIPTION:
URL:https://udadisi.com/event/cfr-biea-graduate-conference-2026/
CATEGORIES:Conference,Registration
ATTACH;FMTTYPE=image/png:https://udadisi.com/wp-content/uploads/2026/01/Grad-conf-2026-3.png
END:VEVENT
BEGIN:VEVENT
DTSTART;VALUE=DATE:20260115
DTEND;VALUE=DATE:20260116
DTSTAMP:20260423T205115
CREATED:20260115T092735Z
LAST-MODIFIED:20260115T092735Z
UID:14296-1768435200-1768521599@udadisi.com
SUMMARY:CFR: 2026 CAAS Conference - Global Africa: Legacies\, Change and Aspirations
DESCRIPTION:
URL:https://udadisi.com/event/cfr-2026-caas-conference-global-africa-legacies-change-and-aspirations/
CATEGORIES:Conference,Proposal,Registration,Submission
ATTACH;FMTTYPE=image/jpeg:https://udadisi.com/wp-content/uploads/2026/01/CAAS.jpg
END:VEVENT
BEGIN:VEVENT
DTSTART;VALUE=DATE:20260114
DTEND;VALUE=DATE:20260129
DTSTAMP:20260423T205115
CREATED:20260108T044508Z
LAST-MODIFIED:20260108T044508Z
UID:14230-1768348800-1769644799@udadisi.com
SUMMARY:CFR: 10th Annual State of Education on Africa Conference
DESCRIPTION:
URL:https://udadisi.com/event/cfr-10th-annual-state-of-education-on-africa-conference/
CATEGORIES:Conference,Online,Registration
ATTACH;FMTTYPE=image/jpeg:https://udadisi.com/wp-content/uploads/2026/01/FTGR.jpg
END:VEVENT
BEGIN:VEVENT
DTSTART;VALUE=DATE:20231028
DTEND;VALUE=DATE:20231029
DTSTAMP:20260423T205115
CREATED:20231018T205725Z
LAST-MODIFIED:20231018T205725Z
UID:12942-1698451200-1698537599@udadisi.com
SUMMARY:Calling All Parents Who Want to Empower their Children with Digital Literacy
DESCRIPTION:
URL:https://udadisi.com/event/calling-all-parents-who-want-to-empower-their-children-with-digital-literacy/
CATEGORIES:Registration
ATTACH;FMTTYPE=image/jpeg:https://udadisi.com/wp-content/uploads/2023/10/20231018_235352.jpg
END:VEVENT
BEGIN:VEVENT
DTSTART;VALUE=DATE:20230707
DTEND;VALUE=DATE:20230708
DTSTAMP:20260423T205115
CREATED:20230602T074802Z
LAST-MODIFIED:20230602T074802Z
UID:12575-1688688000-1688774399@udadisi.com
SUMMARY:Wito kwa Washairi: Siku ya Kiswahili
DESCRIPTION:
URL:https://udadisi.com/event/wito-kwa-washairi-siku-ya-kiswahili/
CATEGORIES:Registration
ATTACH;FMTTYPE=image/jpeg:https://udadisi.com/wp-content/uploads/2023/06/Fw9p3jYWwAALV2Q.jpg
END:VEVENT
END:VCALENDAR