BEGIN:VCALENDAR
VERSION:2.0
PRODID:-//Udadisi - ECPv6.15.13//NONSGML v1.0//EN
CALSCALE:GREGORIAN
METHOD:PUBLISH
X-ORIGINAL-URL:https://udadisi.com
X-WR-CALDESC:Events for Udadisi
REFRESH-INTERVAL;VALUE=DURATION:PT1H
X-Robots-Tag:noindex
X-PUBLISHED-TTL:PT1H
BEGIN:VTIMEZONE
TZID:Africa/Dar_es_Salaam
BEGIN:STANDARD
TZOFFSETFROM:+0300
TZOFFSETTO:+0300
TZNAME:EAT
DTSTART:20210101T000000
END:STANDARD
END:VTIMEZONE
BEGIN:VTIMEZONE
TZID:America/New_York
BEGIN:DAYLIGHT
TZOFFSETFROM:-0500
TZOFFSETTO:-0400
TZNAME:EDT
DTSTART:20240310T070000
END:DAYLIGHT
BEGIN:STANDARD
TZOFFSETFROM:-0400
TZOFFSETTO:-0500
TZNAME:EST
DTSTART:20241103T060000
END:STANDARD
BEGIN:DAYLIGHT
TZOFFSETFROM:-0500
TZOFFSETTO:-0400
TZNAME:EDT
DTSTART:20250309T070000
END:DAYLIGHT
BEGIN:STANDARD
TZOFFSETFROM:-0400
TZOFFSETTO:-0500
TZNAME:EST
DTSTART:20251102T060000
END:STANDARD
BEGIN:DAYLIGHT
TZOFFSETFROM:-0500
TZOFFSETTO:-0400
TZNAME:EDT
DTSTART:20260308T070000
END:DAYLIGHT
BEGIN:STANDARD
TZOFFSETFROM:-0400
TZOFFSETTO:-0500
TZNAME:EST
DTSTART:20261101T060000
END:STANDARD
END:VTIMEZONE
BEGIN:VTIMEZONE
TZID:Europe/Paris
BEGIN:DAYLIGHT
TZOFFSETFROM:+0100
TZOFFSETTO:+0200
TZNAME:CEST
DTSTART:20230326T010000
END:DAYLIGHT
BEGIN:STANDARD
TZOFFSETFROM:+0200
TZOFFSETTO:+0100
TZNAME:CET
DTSTART:20231029T010000
END:STANDARD
BEGIN:DAYLIGHT
TZOFFSETFROM:+0100
TZOFFSETTO:+0200
TZNAME:CEST
DTSTART:20240331T010000
END:DAYLIGHT
BEGIN:STANDARD
TZOFFSETFROM:+0200
TZOFFSETTO:+0100
TZNAME:CET
DTSTART:20241027T010000
END:STANDARD
BEGIN:DAYLIGHT
TZOFFSETFROM:+0100
TZOFFSETTO:+0200
TZNAME:CEST
DTSTART:20250330T010000
END:DAYLIGHT
BEGIN:STANDARD
TZOFFSETFROM:+0200
TZOFFSETTO:+0100
TZNAME:CET
DTSTART:20251026T010000
END:STANDARD
END:VTIMEZONE
BEGIN:VTIMEZONE
TZID:Africa/Nairobi
BEGIN:STANDARD
TZOFFSETFROM:+0300
TZOFFSETTO:+0300
TZNAME:EAT
DTSTART:20210101T000000
END:STANDARD
END:VTIMEZONE
BEGIN:VTIMEZONE
TZID:UTC
BEGIN:STANDARD
TZOFFSETFROM:+0000
TZOFFSETTO:+0000
TZNAME:UTC
DTSTART:20210101T000000
END:STANDARD
END:VTIMEZONE
BEGIN:VTIMEZONE
TZID:Africa/Kigali
BEGIN:STANDARD
TZOFFSETFROM:+0200
TZOFFSETTO:+0200
TZNAME:CAT
DTSTART:20210101T000000
END:STANDARD
END:VTIMEZONE
BEGIN:VEVENT
DTSTART;VALUE=DATE:20260227
DTEND;VALUE=DATE:20260228
DTSTAMP:20260423T195512
CREATED:20251223T092729Z
LAST-MODIFIED:20251223T092729Z
UID:13996-1772150400-1772236799@udadisi.com
SUMMARY:CFA: CODESRIA Meaning-Making Research Initiatives (MRI) 2026 - Advanced Senior Research Fellowship
DESCRIPTION:
URL:https://udadisi.com/event/cfa-codesria-meaning-making-research-initiatives-mri-2026-advanced-senior-research-fellowship/
CATEGORIES:Application,Fellowship,Research
ATTACH;FMTTYPE=image/png:https://udadisi.com/wp-content/uploads/2025/12/codesria_senior.png
END:VEVENT
BEGIN:VEVENT
DTSTART;VALUE=DATE:20260227
DTEND;VALUE=DATE:20260228
DTSTAMP:20260423T195512
CREATED:20251223T091543Z
LAST-MODIFIED:20251223T091543Z
UID:13990-1772150400-1772236799@udadisi.com
SUMMARY:CFA: CODESRIA Meaning-Making Research Initiatives (MRI) 2026 - Special Call for Female Scholars
DESCRIPTION:
URL:https://udadisi.com/event/cfa-codesria-meaning-making-research-initiatives-mri-2026-special-call-for-female-scholars/
CATEGORIES:Application,Research
ATTACH;FMTTYPE=image/png:https://udadisi.com/wp-content/uploads/2025/12/codesria_female.png
END:VEVENT
BEGIN:VEVENT
DTSTART;VALUE=DATE:20260227
DTEND;VALUE=DATE:20260228
DTSTAMP:20260423T195512
CREATED:20251223T090433Z
LAST-MODIFIED:20251223T090433Z
UID:13986-1772150400-1772236799@udadisi.com
SUMMARY:CFA: CODESRIA Meaning-Making Research Initiatives (MRI) 2026
DESCRIPTION:
URL:https://udadisi.com/event/cfa-codesria-meaning-making-research-initiatives-mri-2026/
CATEGORIES:Application,Research
ATTACH;FMTTYPE=image/png:https://udadisi.com/wp-content/uploads/2025/12/codesria_general.png
END:VEVENT
BEGIN:VEVENT
DTSTART;VALUE=DATE:20260221
DTEND;VALUE=DATE:20260222
DTSTAMP:20260423T195512
CREATED:20260205T113003Z
LAST-MODIFIED:20260205T113003Z
UID:14543-1771632000-1771718399@udadisi.com
SUMMARY:CFP: Action Research on Reporting Climate Change from African Perspectives
DESCRIPTION:
URL:https://udadisi.com/event/cfp-action-research-on-reporting-climate-change-from-african-perspectives/
CATEGORIES:Proposal,Research,Submission
ATTACH;FMTTYPE=image/jpeg:https://udadisi.com/wp-content/uploads/2026/02/ARECCCA-1.jpg
END:VEVENT
BEGIN:VEVENT
DTSTART;TZID=Africa/Dar_es_Salaam:20260215T025900
DTEND;TZID=Africa/Dar_es_Salaam:20260215T025900
DTSTAMP:20260423T195512
CREATED:20251223T094206Z
LAST-MODIFIED:20251223T094206Z
UID:13999-1771124340-1771124340@udadisi.com
SUMMARY:CFP: CODESRIA 2026 African Fellowships for Research in Indigenous and Alternative Knowledges (AFRIAK)
DESCRIPTION:
URL:https://udadisi.com/event/cfp-codesria-2026-african-fellowships-for-research-in-indigenous-and-alternative-knowledges-afriak/
CATEGORIES:Application,Fellowship,Research
ATTACH;FMTTYPE=image/webp:https://udadisi.com/wp-content/uploads/2025/12/AFRIAK-2026-EN-01.png.bv_.webp
END:VEVENT
BEGIN:VEVENT
DTSTART;TZID=Africa/Dar_es_Salaam:20260215T005900
DTEND;TZID=Africa/Dar_es_Salaam:20260215T005900
DTSTAMP:20260423T195512
CREATED:20260121T181348Z
LAST-MODIFIED:20260121T181348Z
UID:14402-1771117140-1771117140@udadisi.com
SUMMARY:CFR: Skills formation for an Inclusive and Sustainable Future of Worker(ers) in Eastern and Southern Africa
DESCRIPTION:
URL:https://udadisi.com/event/cfr-skills-formation-for-an-inclusive-and-sustainable-future-of-workerers-in-eastern-and-southern-africa/
CATEGORIES:Funding,Grant,Proposal,Research,Submission
ATTACH;FMTTYPE=image/jpeg:https://udadisi.com/wp-content/uploads/2026/01/futureWorks.jpg
END:VEVENT
BEGIN:VEVENT
DTSTART;VALUE=DATE:20260215
DTEND;VALUE=DATE:20260216
DTSTAMP:20260423T195512
CREATED:20260129T115037Z
LAST-MODIFIED:20260129T115037Z
UID:14502-1771113600-1771199999@udadisi.com
SUMMARY:CFA: Germany - CGIAR++ Science and Impact Hub Junior Scientists Program
DESCRIPTION:
URL:https://udadisi.com/event/cfa-germany-cgiar-science-and-impact-hub-junior-scientists-program/
CATEGORIES:Application,Funding,Research
ATTACH;FMTTYPE=image/jpeg:https://udadisi.com/wp-content/uploads/2026/01/Germany.jpg
END:VEVENT
BEGIN:VEVENT
DTSTART;VALUE=DATE:20260201
DTEND;VALUE=DATE:20260202
DTSTAMP:20260423T195512
CREATED:20251225T033908Z
LAST-MODIFIED:20251225T035307Z
UID:14033-1769904000-1769990399@udadisi.com
SUMMARY:CFA: The Claude Ake Visiting Chair 2026
DESCRIPTION:
URL:https://udadisi.com/event/cfa-the-claude-ake-visiting-chair-2026/
CATEGORIES:Application,Grant,Networking,Research,Residence,Scholarship
ATTACH;FMTTYPE=image/jpeg:https://udadisi.com/wp-content/uploads/2025/12/IMG-20251224-WA0003.jpg
END:VEVENT
BEGIN:VEVENT
DTSTART;VALUE=DATE:20260131
DTEND;VALUE=DATE:20260201
DTSTAMP:20260423T195512
CREATED:20251225T040430Z
LAST-MODIFIED:20251225T040430Z
UID:14035-1769817600-1769903999@udadisi.com
SUMMARY:CFA: The Blavatnik Archive's Spring 2026 Research Fellowship
DESCRIPTION:
URL:https://udadisi.com/event/cfa-the-blavatnik-archives-spring-2026-research-fellowship/
CATEGORIES:Application,Fellowship,Research
ATTACH;FMTTYPE=image/jpeg:https://udadisi.com/wp-content/uploads/2025/12/IMG-20251224-WA0002.jpg
END:VEVENT
BEGIN:VEVENT
DTSTART;VALUE=DATE:20260130
DTEND;VALUE=DATE:20260131
DTSTAMP:20260423T195512
CREATED:20260115T095431Z
LAST-MODIFIED:20260115T095431Z
UID:14298-1769731200-1769817599@udadisi.com
SUMMARY:CFA: MSc. Scholarship in Wildlife Ecology/ Zoology
DESCRIPTION:
URL:https://udadisi.com/event/cfa-msc-scholarship-in-wildlife-ecology-zoology/
CATEGORIES:Application,Research,Scholarship
ATTACH;FMTTYPE=image/jpeg:https://udadisi.com/wp-content/uploads/2026/01/zoology.jpg
END:VEVENT
BEGIN:VEVENT
DTSTART;VALUE=DATE:20260130
DTEND;VALUE=DATE:20260131
DTSTAMP:20260423T195513
CREATED:20260105T070053Z
LAST-MODIFIED:20260105T070053Z
UID:14206-1769731200-1769817599@udadisi.com
SUMMARY:CFA: Inter-disciplinary PhD Programme by Research in the Fields of Historical Humanities and Humanistic Social Sciences
DESCRIPTION:
URL:https://udadisi.com/event/cfa-inter-disciplinary-phd-programme-by-research-in-the-fields-of-historical-humanities-and-humanistic-social-sciences/
CATEGORIES:Application,Funding,Research,Scholarship
ATTACH;FMTTYPE=image/jpeg:https://udadisi.com/wp-content/uploads/2026/01/makerere.jpg
END:VEVENT
BEGIN:VEVENT
DTSTART;VALUE=DATE:20260122
DTEND;VALUE=DATE:20260123
DTSTAMP:20260423T195513
CREATED:20251227T040832Z
LAST-MODIFIED:20251227T040940Z
UID:14129-1769040000-1769126399@udadisi.com
SUMMARY:CFA: Early Career Research Fellowships 2026
DESCRIPTION:
URL:https://udadisi.com/event/cfa-early-career-research-fellowships-2026/
CATEGORIES:Application,Fellowship,Research
ATTACH;FMTTYPE=image/jpeg:https://udadisi.com/wp-content/uploads/2025/12/20251226_230454-scaled.jpg
END:VEVENT
BEGIN:VEVENT
DTSTART;TZID=Africa/Dar_es_Salaam:20260116T075900
DTEND;TZID=Africa/Dar_es_Salaam:20260116T075900
DTSTAMP:20260423T195513
CREATED:20251227T043849Z
LAST-MODIFIED:20251227T044254Z
UID:14134-1768550340-1768550340@udadisi.com
SUMMARY:CFA: Doctoral Dissertation Proposal Fellowship
DESCRIPTION:
URL:https://udadisi.com/event/cfa-doctoral-dissertation-proposal-fellowship/
CATEGORIES:Application,Fellowship,Funding,Proposal,Research
ATTACH;FMTTYPE=image/jpeg:https://udadisi.com/wp-content/uploads/2025/12/20251226_221940.jpg
END:VEVENT
BEGIN:VEVENT
DTSTART;VALUE=DATE:20260107
DTEND;VALUE=DATE:20260108
DTSTAMP:20260423T195513
CREATED:20251224T054218Z
LAST-MODIFIED:20251224T054218Z
UID:14015-1767744000-1767830399@udadisi.com
SUMMARY:CFA: Africa Summer School in Economics (AFSS-2026)
DESCRIPTION:
URL:https://udadisi.com/event/cfa-africa-summer-school-in-economics-afss-2026/
CATEGORIES:Application,Research,Summer School
ATTACH;FMTTYPE=image/png:https://udadisi.com/wp-content/uploads/2025/12/summer_school.png
END:VEVENT
BEGIN:VEVENT
DTSTART;TZID=America/New_York:20251105T130000
DTEND;TZID=America/New_York:20251105T150000
DTSTAMP:20260423T195513
CREATED:20251103T063851Z
LAST-MODIFIED:20251103T063851Z
UID:13814-1762347600-1762354800@udadisi.com
SUMMARY:Exploring African Digital Archives: An Interactive Seminar
DESCRIPTION:
URL:https://udadisi.com/event/exploring-african-digital-archives-an-interactive-seminar/
CATEGORIES:Research,Seminar,Workshop
ATTACH;FMTTYPE=image/png:https://udadisi.com/wp-content/uploads/2025/11/Screenshot-2025-11-03-at-1.35.42-AM.png
END:VEVENT
BEGIN:VEVENT
DTSTART;VALUE=DATE:20250220
DTEND;VALUE=DATE:20250221
DTSTAMP:20260423T195513
CREATED:20250131T031038Z
LAST-MODIFIED:20250131T031038Z
UID:13586-1740009600-1740095999@udadisi.com
SUMMARY:Call for Applications: Meaning-Making Research Initiative
DESCRIPTION:
URL:https://udadisi.com/event/call-for-applications-meaning-making-research-initiative/
CATEGORIES:Application,Research
ATTACH;FMTTYPE=image/png:https://udadisi.com/wp-content/uploads/2025/01/Poster-MRI-2.png
END:VEVENT
BEGIN:VEVENT
DTSTART;VALUE=DATE:20240220
DTEND;VALUE=DATE:20240221
DTSTAMP:20260423T195513
CREATED:20240119T115819Z
LAST-MODIFIED:20240119T120353Z
UID:13270-1708387200-1708473599@udadisi.com
SUMMARY:Meaning-Making Research Initiative (MRI) 2023-2024
DESCRIPTION:
URL:https://udadisi.com/event/meaning-making-research-initiative-mri-2023-2024/
CATEGORIES:Application,Funding,Grant,Research
ATTACH;FMTTYPE=image/png:https://udadisi.com/wp-content/uploads/2024/01/1.png
END:VEVENT
BEGIN:VEVENT
DTSTART;VALUE=DATE:20240220
DTEND;VALUE=DATE:20240221
DTSTAMP:20260423T195513
CREATED:20240119T120711Z
LAST-MODIFIED:20240119T120711Z
UID:13277-1708387200-1708473599@udadisi.com
SUMMARY:Meaning-Making Research Initiative (MRI) 2023-2024: Advanced Senior Research Fellowship
DESCRIPTION:
URL:https://udadisi.com/event/meaning-making-research-initiative-mri-2023-2024-advanced-senior-research-fellowship/
CATEGORIES:Application,Funding,Grant,Research
ATTACH;FMTTYPE=image/png:https://udadisi.com/wp-content/uploads/2024/01/3.png
END:VEVENT
BEGIN:VEVENT
DTSTART;VALUE=DATE:20240220
DTEND;VALUE=DATE:20240221
DTSTAMP:20260423T195513
CREATED:20240119T120132Z
LAST-MODIFIED:20240119T120132Z
UID:13274-1708387200-1708473599@udadisi.com
SUMMARY:Meaning-Making Research Initiative (MRI) 2023-2024: Special Call for Female Scholars
DESCRIPTION:
URL:https://udadisi.com/event/meaning-making-research-initiative-mri-2023-2024-special-call-for-female-scholars/
CATEGORIES:Application,Funding,Grant,Research
ATTACH;FMTTYPE=image/png:https://udadisi.com/wp-content/uploads/2024/01/2.png
END:VEVENT
BEGIN:VEVENT
DTSTART;TZID=Europe/Paris:20240217T103000
DTEND;TZID=Europe/Paris:20240217T170000
DTSTAMP:20260423T195513
CREATED:20231130T121424Z
LAST-MODIFIED:20231130T121424Z
UID:13138-1708165800-1708189200@udadisi.com
SUMMARY:Research on Western Swahili - 1st Workshop and Study Meeting
DESCRIPTION:
URL:https://udadisi.com/event/research-on-western-swahili-1st-workshop-and-study-meeting/
CATEGORIES:Research
ATTACH;FMTTYPE=image/jpeg:https://udadisi.com/wp-content/uploads/2023/11/20231130_150753-scaled.jpg
END:VEVENT
BEGIN:VEVENT
DTSTART;VALUE=DATE:20231211
DTEND;VALUE=DATE:20231212
DTSTAMP:20260423T195513
CREATED:20231018T205318Z
LAST-MODIFIED:20231018T205318Z
UID:12939-1702252800-1702339199@udadisi.com
SUMMARY:Call for Transnational Research Project Proposals
DESCRIPTION:
URL:https://udadisi.com/event/call-for-transnational-research-project-proposals/
CATEGORIES:Research
ATTACH;FMTTYPE=image/jpeg:https://udadisi.com/wp-content/uploads/2023/10/20231018_234958.jpg
END:VEVENT
BEGIN:VEVENT
DTSTART;VALUE=DATE:20230606
DTEND;VALUE=DATE:20230607
DTSTAMP:20260423T195513
CREATED:20230526T110322Z
LAST-MODIFIED:20230526T110322Z
UID:12557-1686009600-1686095999@udadisi.com
SUMMARY:Call for Full Research Proposal: On Emerging Technologies for Sustainable Development
DESCRIPTION:
URL:https://udadisi.com/event/call-for-full-research-proposal-on-emerging-technologies-for-sustainable-development/
CATEGORIES:Research
ATTACH;FMTTYPE=image/jpeg:https://udadisi.com/wp-content/uploads/2023/05/20230526_135900.jpg
END:VEVENT
BEGIN:VEVENT
DTSTART;VALUE=DATE:20230216
DTEND;VALUE=DATE:20230217
DTSTAMP:20260423T195513
CREATED:20221208T102749Z
LAST-MODIFIED:20221208T102749Z
UID:12220-1676505600-1676591999@udadisi.com
SUMMARY:Call for Papers: Revisiting Africa Must Unite
DESCRIPTION:
URL:https://udadisi.com/event/call-for-papers-revisiting-africa-must-unite/
CATEGORIES:Research
ATTACH;FMTTYPE=image/jpeg:https://udadisi.com/wp-content/uploads/2022/12/20221208_132250.jpg
END:VEVENT
BEGIN:VEVENT
DTSTART;VALUE=DATE:20221211
DTEND;VALUE=DATE:20221212
DTSTAMP:20260423T195513
CREATED:20221118T114409Z
LAST-MODIFIED:20221118T114409Z
UID:12189-1670716800-1670803199@udadisi.com
SUMMARY:Call for Research Proposals: Research on Artificial Intelligence and Gender in Sub-Saharan Africa
DESCRIPTION:
URL:https://udadisi.com/event/call-for-research-proposals-research-on-artificial-intelligence-and-gender-in-sub-saharan-africa/
CATEGORIES:Research
ATTACH;FMTTYPE=image/jpeg:https://udadisi.com/wp-content/uploads/2022/11/FgiqrZpWYAAQhI7.jpg
END:VEVENT
BEGIN:VEVENT
DTSTART;TZID=Africa/Dar_es_Salaam:20221201T173000
DTEND;TZID=Africa/Dar_es_Salaam:20221201T190000
DTSTAMP:20260423T195513
CREATED:20221118T111629Z
LAST-MODIFIED:20221118T111629Z
UID:12186-1669915800-1669921200@udadisi.com
SUMMARY:Africa Bibliography\, Research and Documentation
DESCRIPTION:
URL:https://udadisi.com/event/africa-bibliography-research-and-documentation/
CATEGORIES:Event,Research
ATTACH;FMTTYPE=image/jpeg:https://udadisi.com/wp-content/uploads/2022/11/FhN71HKXoAM0UOn.jpg
END:VEVENT
BEGIN:VEVENT
DTSTART;VALUE=DATE:20221130
DTEND;VALUE=DATE:20221201
DTSTAMP:20260423T195513
CREATED:20221127T073001Z
LAST-MODIFIED:20221127T073001Z
UID:12201-1669766400-1669852799@udadisi.com
SUMMARY:Research Fellow: Nutrition and Gender Job Opportunity
DESCRIPTION:
URL:https://udadisi.com/event/research-fellow-nutrition-and-gender-job-opportunity/
CATEGORIES:Application,Research
ATTACH;FMTTYPE=image/jpeg:https://udadisi.com/wp-content/uploads/2022/11/IMG_20221127_102659.jpg
END:VEVENT
BEGIN:VEVENT
DTSTART;VALUE=DATE:20221130
DTEND;VALUE=DATE:20221201
DTSTAMP:20260423T195513
CREATED:20220805T130128Z
LAST-MODIFIED:20220805T130128Z
UID:11124-1669766400-1669852799@udadisi.com
SUMMARY:Call for Application for Visiting Research Fellowship
DESCRIPTION:
URL:https://udadisi.com/event/call-for-application-for-visiting-research-fellowship/
CATEGORIES:Application,Fellowship,Research
ATTACH;FMTTYPE=image/jpeg:https://udadisi.com/wp-content/uploads/2022/08/Call-for-app.jpg
END:VEVENT
BEGIN:VEVENT
DTSTART;VALUE=DATE:20221010
DTEND;VALUE=DATE:20221011
DTSTAMP:20260423T195513
CREATED:20220912T162819Z
LAST-MODIFIED:20220912T162819Z
UID:11489-1665360000-1665446399@udadisi.com
SUMMARY:Surgical Conference 2022: Global Surgery; Strengthening Access\, Safety and Quality Surgical care
DESCRIPTION:
URL:https://udadisi.com/event/surgical-conference-2022-global-surgery-strengthening-access-safety-and-quality-surgical-care/
CATEGORIES:Conference,Research
ATTACH;FMTTYPE=image/jpeg:https://udadisi.com/wp-content/uploads/2022/09/IMG_20220912_192144.jpg
END:VEVENT
BEGIN:VEVENT
DTSTART;TZID=UTC:20220930T130000
DTEND;TZID=UTC:20220930T140000
DTSTAMP:20260423T195513
CREATED:20220926T184154Z
LAST-MODIFIED:20220926T184154Z
UID:11901-1664542800-1664546400@udadisi.com
SUMMARY:SCIENTIFIC FAILURES: How They Help Us To Grow
DESCRIPTION:
URL:https://udadisi.com/event/scientific-failures-how-they-help-us-to-grow/
CATEGORIES:Online,Research,Webinar
ATTACH;FMTTYPE=image/jpeg:https://udadisi.com/wp-content/uploads/2022/09/IMG_20220926_213240.jpg
END:VEVENT
BEGIN:VEVENT
DTSTART;VALUE=DATE:20220930
DTEND;VALUE=DATE:20221001
DTSTAMP:20260423T195513
CREATED:20220912T163901Z
LAST-MODIFIED:20220912T163901Z
UID:11492-1664496000-1664582399@udadisi.com
SUMMARY:2nd International Conference on Public Health in Africa (CPHIS 2022)
DESCRIPTION:
URL:https://udadisi.com/event/2nd-international-conference-on-public-health-in-africa-cphis-2022/
CATEGORIES:Conference,Research
ATTACH;FMTTYPE=image/jpeg:https://udadisi.com/wp-content/uploads/2022/09/IMG_20220912_193041.jpg
END:VEVENT
END:VCALENDAR