BEGIN:VCALENDAR
VERSION:2.0
PRODID:-//Udadisi - ECPv6.15.13//NONSGML v1.0//EN
CALSCALE:GREGORIAN
METHOD:PUBLISH
X-WR-CALNAME:Udadisi
X-ORIGINAL-URL:https://udadisi.com
X-WR-CALDESC:Events for Udadisi
REFRESH-INTERVAL;VALUE=DURATION:PT1H
X-Robots-Tag:noindex
X-PUBLISHED-TTL:PT1H
BEGIN:VTIMEZONE
TZID:Africa/Dar_es_Salaam
BEGIN:STANDARD
TZOFFSETFROM:+0300
TZOFFSETTO:+0300
TZNAME:EAT
DTSTART:20250101T000000
END:STANDARD
END:VTIMEZONE
BEGIN:VEVENT
DTSTART;TZID=Africa/Dar_es_Salaam:20260302T160000
DTEND;TZID=Africa/Dar_es_Salaam:20260302T160000
DTSTAMP:20260423T143947
CREATED:20260117T190640Z
LAST-MODIFIED:20260117T191032Z
UID:14339-1772467200-1772467200@udadisi.com
SUMMARY:CFA: Doctoral Positions in the Social Sciences\, Humanities & Cultural Studies
DESCRIPTION:
URL:https://udadisi.com/event/cfa-40-doctoral-positions-in-the-social-sciences-humanities-cultural-studies/
CATEGORIES:Application,Funding,Scholarship
ATTACH;FMTTYPE=image/jpeg:https://udadisi.com/wp-content/uploads/2026/01/vienna.jpg
END:VEVENT
BEGIN:VEVENT
DTSTART;VALUE=DATE:20260308
DTEND;VALUE=DATE:20260309
DTSTAMP:20260423T143947
CREATED:20260204T090804Z
LAST-MODIFIED:20260204T091854Z
UID:14524-1772928000-1773014399@udadisi.com
SUMMARY:CFA: International Baccalaureate Diploma Scholarship
DESCRIPTION:
URL:https://udadisi.com/event/cfa-international-baccalaureate-diploma-scholarship/
CATEGORIES:Application,Scholarship
ATTACH;FMTTYPE=image/jpeg:https://udadisi.com/wp-content/uploads/2026/02/ISTAfrica.jpg
END:VEVENT
BEGIN:VEVENT
DTSTART;VALUE=DATE:20260315
DTEND;VALUE=DATE:20260316
DTSTAMP:20260423T143947
CREATED:20260112T121757Z
LAST-MODIFIED:20260112T121757Z
UID:14264-1773532800-1773619199@udadisi.com
SUMMARY:CFA: AIMS Master's in Mathematical Epidemiology
DESCRIPTION:
URL:https://udadisi.com/event/cfa-aims-masters-in-mathematical-epidemiology/
CATEGORIES:Application,Research,Scholarship
ATTACH;FMTTYPE=image/jpeg:https://udadisi.com/wp-content/uploads/2026/01/AIMS.jpg
END:VEVENT
BEGIN:VEVENT
DTSTART;VALUE=DATE:20260327
DTEND;VALUE=DATE:20260328
DTSTAMP:20260423T143947
CREATED:20260220T133948Z
LAST-MODIFIED:20260220T133948Z
UID:14613-1774569600-1774655999@udadisi.com
SUMMARY:CFA: Hauwa Ojeifo Scholarship 2026
DESCRIPTION:
URL:https://udadisi.com/event/cfa-hauwa-ojeifo-scholarship-2026/
CATEGORIES:Application,Funding,Scholarship
ATTACH;FMTTYPE=image/jpeg:https://udadisi.com/wp-content/uploads/2026/02/20260220_105321-1.jpg
END:VEVENT
END:VCALENDAR