BEGIN:VCALENDAR
VERSION:2.0
PRODID:-//Udadisi - ECPv6.15.13//NONSGML v1.0//EN
CALSCALE:GREGORIAN
METHOD:PUBLISH
X-ORIGINAL-URL:https://udadisi.com
X-WR-CALDESC:Events for Udadisi
REFRESH-INTERVAL;VALUE=DURATION:PT1H
X-Robots-Tag:noindex
X-PUBLISHED-TTL:PT1H
BEGIN:VTIMEZONE
TZID:Africa/Dar_es_Salaam
BEGIN:STANDARD
TZOFFSETFROM:+0300
TZOFFSETTO:+0300
TZNAME:EAT
DTSTART:20210101T000000
END:STANDARD
END:VTIMEZONE
BEGIN:VTIMEZONE
TZID:Europe/London
BEGIN:DAYLIGHT
TZOFFSETFROM:+0000
TZOFFSETTO:+0100
TZNAME:BST
DTSTART:20220327T010000
END:DAYLIGHT
BEGIN:STANDARD
TZOFFSETFROM:+0100
TZOFFSETTO:+0000
TZNAME:GMT
DTSTART:20221030T010000
END:STANDARD
BEGIN:DAYLIGHT
TZOFFSETFROM:+0000
TZOFFSETTO:+0100
TZNAME:BST
DTSTART:20230326T010000
END:DAYLIGHT
BEGIN:STANDARD
TZOFFSETFROM:+0100
TZOFFSETTO:+0000
TZNAME:GMT
DTSTART:20231029T010000
END:STANDARD
BEGIN:DAYLIGHT
TZOFFSETFROM:+0000
TZOFFSETTO:+0100
TZNAME:BST
DTSTART:20240331T010000
END:DAYLIGHT
BEGIN:STANDARD
TZOFFSETFROM:+0100
TZOFFSETTO:+0000
TZNAME:GMT
DTSTART:20241027T010000
END:STANDARD
END:VTIMEZONE
BEGIN:VEVENT
DTSTART;TZID=Africa/Dar_es_Salaam:20260205T110000
DTEND;TZID=Africa/Dar_es_Salaam:20260205T110000
DTSTAMP:20260423T161816
CREATED:20260203T154058Z
LAST-MODIFIED:20260203T154058Z
UID:14520-1770289200-1770289200@udadisi.com
SUMMARY:Webinar: Senior Academic Positions at NM-AIST
DESCRIPTION:
URL:https://udadisi.com/event/webinar-senior-academic-positions-at-nm-aist/
CATEGORIES:Online,Registration,Session,Webinar
ATTACH;FMTTYPE=image/jpeg:https://udadisi.com/wp-content/uploads/2026/02/nm.jpg
END:VEVENT
BEGIN:VEVENT
DTSTART;TZID=Africa/Dar_es_Salaam:20260128T180000
DTEND;TZID=Africa/Dar_es_Salaam:20260128T180000
DTSTAMP:20260423T161816
CREATED:20260128T075942Z
LAST-MODIFIED:20260128T075942Z
UID:14479-1769623200-1769623200@udadisi.com
SUMMARY:Webinar: Graduate Studies in the U.S - Indiana University
DESCRIPTION:
URL:https://udadisi.com/event/webinar-graduate-studies-in-the-u-s-indiana-university/
CATEGORIES:Info,Session,Webinar
ATTACH;FMTTYPE=image/jpeg:https://udadisi.com/wp-content/uploads/2026/01/Indiana.jpg
END:VEVENT
BEGIN:VEVENT
DTSTART;TZID=Africa/Dar_es_Salaam:20260128T110000
DTEND;TZID=Africa/Dar_es_Salaam:20260128T110000
DTSTAMP:20260423T161816
CREATED:20260128T074750Z
LAST-MODIFIED:20260128T074750Z
UID:14476-1769598000-1769598000@udadisi.com
SUMMARY:Webinar: Organizational Conflicts and Conflicts Management in Educational Institutions
DESCRIPTION:
URL:https://udadisi.com/event/webinar-organizational-conflicts-and-conflicts-management-in-educational-institutions/
CATEGORIES:Online,Session,Webinar
ATTACH;FMTTYPE=image/jpeg:https://udadisi.com/wp-content/uploads/2026/01/SUA.jpg
END:VEVENT
BEGIN:VEVENT
DTSTART;TZID=Africa/Dar_es_Salaam:20260114T040000
DTEND;TZID=Africa/Dar_es_Salaam:20260114T050000
DTSTAMP:20260423T161816
CREATED:20260112T081824Z
LAST-MODIFIED:20260112T081824Z
UID:14253-1768363200-1768366800@udadisi.com
SUMMARY:Virtual Poetry Reading: Kumi Na Moja: New-Generation African Poets\, A Chapbook Box Set
DESCRIPTION:
URL:https://udadisi.com/event/virtual-poetry-reading-kumi-na-moja-new-generation-african-poets-a-chapbook-box-set/
CATEGORIES:Book,Online,Session,Webinar
ATTACH;FMTTYPE=image/jpeg:https://udadisi.com/wp-content/uploads/2026/01/APBF.jpg
END:VEVENT
BEGIN:VEVENT
DTSTART;VALUE=DATE:20240121
DTEND;VALUE=DATE:20240122
DTSTAMP:20260423T161816
CREATED:20231130T122928Z
LAST-MODIFIED:20231130T122928Z
UID:13143-1705795200-1705881599@udadisi.com
SUMMARY:Call for Session Proposals International Conference –⁠ African Urbanisms
DESCRIPTION:
URL:https://udadisi.com/event/call-for-session-proposals-international-conference-%e2%81%a0-african-urbanisms/
CATEGORIES:Session
ATTACH;FMTTYPE=image/jpeg:https://udadisi.com/wp-content/uploads/2023/11/20231125_135533-1.jpg
END:VEVENT
BEGIN:VEVENT
DTSTART;TZID=Europe/London:20231010T150000
DTEND;TZID=Europe/London:20231010T163000
DTSTAMP:20260423T161816
CREATED:20231010T104752Z
LAST-MODIFIED:20231010T104752Z
UID:12930-1696950000-1696955400@udadisi.com
SUMMARY:Postgraduate Scholarship Virtual Information Session
DESCRIPTION:
URL:https://udadisi.com/event/postgraduate-scholarship-virtual-information-session/
CATEGORIES:Scholarship,Session
ATTACH;FMTTYPE=image/jpeg:https://udadisi.com/wp-content/uploads/2023/10/20231010_123406.jpg
END:VEVENT
BEGIN:VEVENT
DTSTART;VALUE=DATE:20231002
DTEND;VALUE=DATE:20231005
DTSTAMP:20260423T161816
CREATED:20231002T190139Z
LAST-MODIFIED:20231002T190139Z
UID:12926-1696204800-1696463999@udadisi.com
SUMMARY:Debt and Development Academy (DaDA)
DESCRIPTION:
URL:https://udadisi.com/event/debt-and-development-academy-dada/
CATEGORIES:Forum,Session
ATTACH;FMTTYPE=image/jpeg:https://udadisi.com/wp-content/uploads/2023/10/20231002_215726.jpg
END:VEVENT
BEGIN:VEVENT
DTSTART;VALUE=DATE:20230930
DTEND;VALUE=DATE:20231001
DTSTAMP:20260423T161816
CREATED:20230922T220156Z
LAST-MODIFIED:20230922T220156Z
UID:12866-1696032000-1696118399@udadisi.com
SUMMARY:Kampeni ya Kitaifa ya Kuchangia Damu
DESCRIPTION:
URL:https://udadisi.com/event/kampeni-ya-kitaifa-ya-kuchangia-damu/
CATEGORIES:Session
ATTACH;FMTTYPE=image/jpeg:https://udadisi.com/wp-content/uploads/2023/09/20230923_004247.jpg
END:VEVENT
BEGIN:VEVENT
DTSTART;TZID=Africa/Dar_es_Salaam:20220827T093000
DTEND;TZID=Africa/Dar_es_Salaam:20220827T130000
DTSTAMP:20260423T161816
CREATED:20220825T192923Z
LAST-MODIFIED:20220825T192923Z
UID:11411-1661592600-1661605200@udadisi.com
SUMMARY:Little Champs Bookclub
DESCRIPTION:
URL:https://udadisi.com/event/little-champs-bookclub/
CATEGORIES:Session
ATTACH;FMTTYPE=image/jpeg:https://udadisi.com/wp-content/uploads/2022/08/IMG_20220825_222312.jpg
END:VEVENT
END:VCALENDAR