BEGIN:VCALENDAR
VERSION:2.0
PRODID:-//Udadisi - ECPv6.15.13//NONSGML v1.0//EN
CALSCALE:GREGORIAN
METHOD:PUBLISH
X-ORIGINAL-URL:https://udadisi.com
X-WR-CALDESC:Events for Udadisi
REFRESH-INTERVAL;VALUE=DURATION:PT1H
X-Robots-Tag:noindex
X-PUBLISHED-TTL:PT1H
BEGIN:VTIMEZONE
TZID:Africa/Dar_es_Salaam
BEGIN:STANDARD
TZOFFSETFROM:+0300
TZOFFSETTO:+0300
TZNAME:EAT
DTSTART:20250101T000000
END:STANDARD
END:VTIMEZONE
BEGIN:VEVENT
DTSTART;VALUE=DATE:20260306
DTEND;VALUE=DATE:20260307
DTSTAMP:20260423T144015
CREATED:20260306T095451Z
LAST-MODIFIED:20260306T095451Z
UID:14696-1772755200-1772841599@udadisi.com
SUMMARY:CFEOI: ASN Study Group 2026 -  Late Neocolonialism: Current Issues in Political Economy
DESCRIPTION:
URL:https://udadisi.com/event/cfeoi-asn-study-group-2026-late-neocolonialism-current-issues-in-political-economy/
CATEGORIES:Proposal,Submission
ATTACH;FMTTYPE=image/jpeg:https://udadisi.com/wp-content/uploads/2026/03/SG2026.jpg
END:VEVENT
BEGIN:VEVENT
DTSTART;VALUE=DATE:20260313
DTEND;VALUE=DATE:20260314
DTSTAMP:20260423T144015
CREATED:20260303T121922Z
LAST-MODIFIED:20260303T121922Z
UID:14655-1773360000-1773446399@udadisi.com
SUMMARY:CFA: 2nd WFNS International Global Neurosurgery and 1st ISGNS Conference
DESCRIPTION:
URL:https://udadisi.com/event/cfa-2nd-wfns-international-global-neurosurgery-and-1st-isgns-conference/
CATEGORIES:Conference,Proposal,Registration,Submission
ATTACH;FMTTYPE=image/jpeg:https://udadisi.com/wp-content/uploads/2026/03/Neurosurgery.jpg
END:VEVENT
BEGIN:VEVENT
DTSTART;VALUE=DATE:20260315
DTEND;VALUE=DATE:20260316
DTSTAMP:20260423T144015
CREATED:20260108T042433Z
LAST-MODIFIED:20260108T042756Z
UID:14225-1773532800-1773619199@udadisi.com
SUMMARY:CFP: 69th ASA Annual Meeting
DESCRIPTION:
URL:https://udadisi.com/event/cfp-69th-asa-annual-meeting/
CATEGORIES:Meeting,Proposal,Submission
ATTACH;FMTTYPE=image/jpeg:https://udadisi.com/wp-content/uploads/2026/01/ASA-1.jpg
END:VEVENT
BEGIN:VEVENT
DTSTART;VALUE=DATE:20260315
DTEND;VALUE=DATE:20260316
DTSTAMP:20260423T144015
CREATED:20260119T075929Z
LAST-MODIFIED:20260119T075929Z
UID:14370-1773532800-1773619199@udadisi.com
SUMMARY:CFS: 9th Annual Africa Interdisciplinary Health Conference (AfIHC) 2026
DESCRIPTION:
URL:https://udadisi.com/event/cfs-9th-annual-africa-interdisciplinary-health-conference-afihc-2026/
CATEGORIES:Conference,Proposal,Submission
ATTACH;FMTTYPE=image/jpeg:https://udadisi.com/wp-content/uploads/2026/01/healthcon.jpg
END:VEVENT
BEGIN:VEVENT
DTSTART;VALUE=DATE:20260315
DTEND;VALUE=DATE:20260316
DTSTAMP:20260423T144015
CREATED:20260125T115309Z
LAST-MODIFIED:20260125T120351Z
UID:14454-1773532800-1773619199@udadisi.com
SUMMARY:CFP: Tanzania at a Crossroads: Politics\, Identity\, and Global Futures
DESCRIPTION:
URL:https://udadisi.com/event/cfp-tanzania-at-a-crossroads-politics-identity-and-global-futures/
CATEGORIES:Conference,Proposal,Submission,Webinar
ATTACH;FMTTYPE=image/jpeg:https://udadisi.com/wp-content/uploads/2026/01/tz-2.jpg
END:VEVENT
BEGIN:VEVENT
DTSTART;VALUE=DATE:20260315
DTEND;VALUE=DATE:20260316
DTSTAMP:20260423T144015
CREATED:20260206T152505Z
LAST-MODIFIED:20260206T152505Z
UID:14553-1773532800-1773619199@udadisi.com
SUMMARY:CFP: Mobility Grants for Individual Artists and Culture Professionals
DESCRIPTION:
URL:https://udadisi.com/event/cfp-mobility-grants-for-individual-artists-and-culture-professionals/
CATEGORIES:Grant,Proposal,Submission
ATTACH;FMTTYPE=image/jpeg:https://udadisi.com/wp-content/uploads/2026/02/goethe.jpg
END:VEVENT
BEGIN:VEVENT
DTSTART;VALUE=DATE:20260315
DTEND;VALUE=DATE:20260316
DTSTAMP:20260423T144015
CREATED:20260218T102645Z
LAST-MODIFIED:20260218T102645Z
UID:14595-1773532800-1773619199@udadisi.com
SUMMARY:CFA: CIRAWA Agroecology Conference 2026
DESCRIPTION:
URL:https://udadisi.com/event/cfa-cirawa-agroecology-conference-2026/
CATEGORIES:Conference,Proposal,Submission
ATTACH;FMTTYPE=image/jpeg:https://udadisi.com/wp-content/uploads/2026/02/cirawa.jpg
END:VEVENT
BEGIN:VEVENT
DTSTART;VALUE=DATE:20260315
DTEND;VALUE=DATE:20260316
DTSTAMP:20260423T144015
CREATED:20260304T124936Z
LAST-MODIFIED:20260304T124936Z
UID:14675-1773532800-1773619199@udadisi.com
SUMMARY:CFS: Princeton Africa Summit 2026
DESCRIPTION:
URL:https://udadisi.com/event/cfs-princeton-africa-summit-2026/
CATEGORIES:Conference,Proposal,Submission,Summit
ATTACH;FMTTYPE=image/jpeg:https://udadisi.com/wp-content/uploads/2026/03/PAS2026.jpg
END:VEVENT
BEGIN:VEVENT
DTSTART;VALUE=DATE:20260315
DTEND;VALUE=DATE:20260316
DTSTAMP:20260423T144015
CREATED:20260315T173811Z
LAST-MODIFIED:20260315T174942Z
UID:14786-1773532800-1773619199@udadisi.com
SUMMARY:CFP: Eastern African Literary and Publishing Networks in the 1960s and 1970s
DESCRIPTION:
URL:https://udadisi.com/event/cfp-eastern-african-literary-and-publishing-networks-in-the-1960s-and-1970s/
CATEGORIES:Proposal,Submission
ATTACH;FMTTYPE=image/jpeg:https://udadisi.com/wp-content/uploads/2026/03/EAL.jpg
END:VEVENT
BEGIN:VEVENT
DTSTART;VALUE=DATE:20260328
DTEND;VALUE=DATE:20260329
DTSTAMP:20260423T144015
CREATED:20260217T074759Z
LAST-MODIFIED:20260217T075110Z
UID:14588-1774656000-1774742399@udadisi.com
SUMMARY:CFA: Cancer and Neglected Tropical Diseases Study Titles
DESCRIPTION:
URL:https://udadisi.com/event/cfa-cancer-and-neglected-tropical-diseases-studies/
CATEGORIES:Proposal,Research,Submission
ATTACH;FMTTYPE=image/jpeg:https://udadisi.com/wp-content/uploads/2026/02/NIMR.jpg
END:VEVENT
BEGIN:VEVENT
DTSTART;VALUE=DATE:20260330
DTEND;VALUE=DATE:20260331
DTSTAMP:20260423T144015
CREATED:20251226T053753Z
LAST-MODIFIED:20251226T063346Z
UID:14042-1774828800-1774915199@udadisi.com
SUMMARY:CFA/CFP: The Past\, Present and Future of Development in Africa
DESCRIPTION:
URL:https://udadisi.com/event/call-for-abstracts-and-proposals/
CATEGORIES:Conference,Submission
ATTACH;FMTTYPE=image/jpeg:https://udadisi.com/wp-content/uploads/2025/12/AISA_MMU.jpg
ORGANIZER;CN="Multimedia University of Kenya":MAILTO:info@mmu.ac.ke
END:VEVENT
BEGIN:VEVENT
DTSTART;VALUE=DATE:20260330
DTEND;VALUE=DATE:20260331
DTSTAMP:20260423T144015
CREATED:20260323T041853Z
LAST-MODIFIED:20260323T041853Z
UID:14834-1774828800-1774915199@udadisi.com
SUMMARY:CFP: Eastern African Literary and Publishing Networks in the 1960s and 1970s
DESCRIPTION:
URL:https://udadisi.com/event/cfp-eastern-african-literary-and-publishing-networks-in-the-1960s-and-1970s-2/
CATEGORIES:Proposal,Submission
ATTACH;FMTTYPE=image/jpeg:https://udadisi.com/wp-content/uploads/2026/03/EALPN.jpg
END:VEVENT
BEGIN:VEVENT
DTSTART;VALUE=DATE:20260331
DTEND;VALUE=DATE:20260401
DTSTAMP:20260423T144015
CREATED:20260119T143705Z
LAST-MODIFIED:20260119T150612Z
UID:14377-1774915200-1775001599@udadisi.com
SUMMARY:CFP:19th Annual Meeting of the African Economic History Network (AEHN)
DESCRIPTION:
URL:https://udadisi.com/event/cfp19th-annual-meeting-of-the-african-economic-history-network-aehn/
CATEGORIES:Meeting,Networking,Proposal,Research,Submission
ATTACH;FMTTYPE=image/jpeg:https://udadisi.com/wp-content/uploads/2026/01/19th.jpg
END:VEVENT
BEGIN:VEVENT
DTSTART;VALUE=DATE:20260331
DTEND;VALUE=DATE:20260401
DTSTAMP:20260423T144015
CREATED:20260121T065507Z
LAST-MODIFIED:20260121T065507Z
UID:14384-1774915200-1775001599@udadisi.com
SUMMARY:CFP: Third Sino-African Legal Forum “Governing the Digital Future: State Power\, Data Flows\, and Rights Protection”
DESCRIPTION:
URL:https://udadisi.com/event/cfp-third-sino-african-legal-forum-governing-the-digital-future-state-power-data-flows-and-rights-protection/
CATEGORIES:Conference,Proposal,Submission
ATTACH;FMTTYPE=image/jpeg:https://udadisi.com/wp-content/uploads/2026/01/CHR.jpg
END:VEVENT
BEGIN:VEVENT
DTSTART;VALUE=DATE:20260331
DTEND;VALUE=DATE:20260401
DTSTAMP:20260423T144015
CREATED:20260125T084820Z
LAST-MODIFIED:20260125T084820Z
UID:14428-1774915200-1775001599@udadisi.com
SUMMARY:CFS: Book Manuscripts
DESCRIPTION:
URL:https://udadisi.com/event/cfs-book-manuscripts/
CATEGORIES:Book,Proposal,Submission
ATTACH;FMTTYPE=image/jpeg:https://udadisi.com/wp-content/uploads/2026/01/HSRC.jpg
END:VEVENT
BEGIN:VEVENT
DTSTART;VALUE=DATE:20260331
DTEND;VALUE=DATE:20260401
DTSTAMP:20260423T144015
CREATED:20260211T073659Z
LAST-MODIFIED:20260211T073700Z
UID:14568-1774915200-1775001599@udadisi.com
SUMMARY:CFA: Chizi Wigwe Prize for African Futurism
DESCRIPTION:
URL:https://udadisi.com/event/cfa-chizi-wigwe-prize-for-african-futurism/
CATEGORIES:Application,Grant,Proposal,Submission
ATTACH;FMTTYPE=image/jpeg:https://udadisi.com/wp-content/uploads/2026/02/chizi.jpg
END:VEVENT
END:VCALENDAR