BEGIN:VCALENDAR
VERSION:2.0
PRODID:-//Udadisi - ECPv6.15.13//NONSGML v1.0//EN
CALSCALE:GREGORIAN
METHOD:PUBLISH
X-ORIGINAL-URL:https://udadisi.com
X-WR-CALDESC:Events for Udadisi
REFRESH-INTERVAL;VALUE=DURATION:PT1H
X-Robots-Tag:noindex
X-PUBLISHED-TTL:PT1H
BEGIN:VTIMEZONE
TZID:Africa/Dar_es_Salaam
BEGIN:STANDARD
TZOFFSETFROM:+0300
TZOFFSETTO:+0300
TZNAME:EAT
DTSTART:20250101T000000
END:STANDARD
END:VTIMEZONE
BEGIN:VEVENT
DTSTART;TZID=Africa/Dar_es_Salaam:20260304T123000
DTEND;TZID=Africa/Dar_es_Salaam:20260304T160000
DTSTAMP:20260423T194410
CREATED:20260304T114522Z
LAST-MODIFIED:20260304T114522Z
UID:14662-1772627400-1772640000@udadisi.com
SUMMARY:16th University-Wide Research Dissemination Symposium
DESCRIPTION:
URL:https://udadisi.com/event/16th-university-wide-research-dissemination-symposium/
CATEGORIES:Discussion,Symposium
ATTACH;FMTTYPE=image/jpeg:https://udadisi.com/wp-content/uploads/2026/03/symposium.jpg
END:VEVENT
BEGIN:VEVENT
DTSTART;TZID=Africa/Dar_es_Salaam:20260326T080000
DTEND;TZID=Africa/Dar_es_Salaam:20260327T170000
DTSTAMP:20260423T194410
CREATED:20260324T165543Z
LAST-MODIFIED:20260324T165543Z
UID:14844-1774512000-1774630800@udadisi.com
SUMMARY:INVITATION: International Symposium on African Voices on Conservation in Africa
DESCRIPTION:
URL:https://udadisi.com/event/invitation-international-symposium-on-african-voices-on-conservation-in-africa/
CATEGORIES:Symposium
ATTACH;FMTTYPE=image/jpeg:https://udadisi.com/wp-content/uploads/2026/03/UD.jpg
END:VEVENT
END:VCALENDAR