BEGIN:VCALENDAR
VERSION:2.0
PRODID:-//Udadisi - ECPv6.15.13//NONSGML v1.0//EN
CALSCALE:GREGORIAN
METHOD:PUBLISH
X-ORIGINAL-URL:https://udadisi.com
X-WR-CALDESC:Events for Udadisi
REFRESH-INTERVAL;VALUE=DURATION:PT1H
X-Robots-Tag:noindex
X-PUBLISHED-TTL:PT1H
BEGIN:VTIMEZONE
TZID:Africa/Dar_es_Salaam
BEGIN:STANDARD
TZOFFSETFROM:+0300
TZOFFSETTO:+0300
TZNAME:EAT
DTSTART:20250101T000000
END:STANDARD
END:VTIMEZONE
BEGIN:VEVENT
DTSTART;TZID=Africa/Dar_es_Salaam:20260308T000000
DTEND;TZID=Africa/Dar_es_Salaam:20260309T020000
DTSTAMP:20260424T013651
CREATED:20260306T091811Z
LAST-MODIFIED:20260306T091811Z
UID:14685-1772928000-1773021600@udadisi.com
SUMMARY:RSVP: Book Talk - Women Resist War
DESCRIPTION:
URL:https://udadisi.com/event/rsvp-book-talk-women-resist-war/
CATEGORIES:Book,Discussion,Talk
ATTACH;FMTTYPE=image/jpeg:https://udadisi.com/wp-content/uploads/2026/03/sankofa.jpg
END:VEVENT
BEGIN:VEVENT
DTSTART;TZID=Africa/Dar_es_Salaam:20260312T223000
DTEND;TZID=Africa/Dar_es_Salaam:20260312T235900
DTSTAMP:20260424T013651
CREATED:20260312T124244Z
LAST-MODIFIED:20260312T125310Z
UID:14757-1773354600-1773359940@udadisi.com
SUMMARY:Talk: (Re)Locating Black Entrepreneurs in the Africanized Digital Archives of Global Capitalism
DESCRIPTION:
URL:https://udadisi.com/event/talk-relocating-black-entrepreneurs-in-the-africanized-digital-archives-of-global-capitalism/
CATEGORIES:Talk
ATTACH;FMTTYPE=image/jpeg:https://udadisi.com/wp-content/uploads/2026/03/chambi.jpg
END:VEVENT
END:VCALENDAR