BEGIN:VCALENDAR
VERSION:2.0
PRODID:-//Udadisi - ECPv6.15.13//NONSGML v1.0//EN
CALSCALE:GREGORIAN
METHOD:PUBLISH
X-WR-CALNAME:Udadisi
X-ORIGINAL-URL:https://udadisi.com
X-WR-CALDESC:Events for Udadisi
REFRESH-INTERVAL;VALUE=DURATION:PT1H
X-Robots-Tag:noindex
X-PUBLISHED-TTL:PT1H
BEGIN:VTIMEZONE
TZID:Africa/Dar_es_Salaam
BEGIN:STANDARD
TZOFFSETFROM:+0300
TZOFFSETTO:+0300
TZNAME:EAT
DTSTART:20210101T000000
END:STANDARD
END:VTIMEZONE
BEGIN:VTIMEZONE
TZID:America/New_York
BEGIN:DAYLIGHT
TZOFFSETFROM:-0500
TZOFFSETTO:-0400
TZNAME:EDT
DTSTART:20240310T070000
END:DAYLIGHT
BEGIN:STANDARD
TZOFFSETFROM:-0400
TZOFFSETTO:-0500
TZNAME:EST
DTSTART:20241103T060000
END:STANDARD
BEGIN:DAYLIGHT
TZOFFSETFROM:-0500
TZOFFSETTO:-0400
TZNAME:EDT
DTSTART:20250309T070000
END:DAYLIGHT
BEGIN:STANDARD
TZOFFSETFROM:-0400
TZOFFSETTO:-0500
TZNAME:EST
DTSTART:20251102T060000
END:STANDARD
BEGIN:DAYLIGHT
TZOFFSETFROM:-0500
TZOFFSETTO:-0400
TZNAME:EDT
DTSTART:20260308T070000
END:DAYLIGHT
BEGIN:STANDARD
TZOFFSETFROM:-0400
TZOFFSETTO:-0500
TZNAME:EST
DTSTART:20261101T060000
END:STANDARD
END:VTIMEZONE
BEGIN:VTIMEZONE
TZID:Africa/Nairobi
BEGIN:STANDARD
TZOFFSETFROM:+0300
TZOFFSETTO:+0300
TZNAME:EAT
DTSTART:20210101T000000
END:STANDARD
END:VTIMEZONE
BEGIN:VTIMEZONE
TZID:UTC
BEGIN:STANDARD
TZOFFSETFROM:+0000
TZOFFSETTO:+0000
TZNAME:UTC
DTSTART:20200101T000000
END:STANDARD
END:VTIMEZONE
BEGIN:VEVENT
DTSTART;TZID=Africa/Dar_es_Salaam:20260312T223000
DTEND;TZID=Africa/Dar_es_Salaam:20260312T235900
DTSTAMP:20260423T194932
CREATED:20260312T124244Z
LAST-MODIFIED:20260312T125310Z
UID:14757-1773354600-1773359940@udadisi.com
SUMMARY:Talk: (Re)Locating Black Entrepreneurs in the Africanized Digital Archives of Global Capitalism
DESCRIPTION:
URL:https://udadisi.com/event/talk-relocating-black-entrepreneurs-in-the-africanized-digital-archives-of-global-capitalism/
CATEGORIES:Talk
ATTACH;FMTTYPE=image/jpeg:https://udadisi.com/wp-content/uploads/2026/03/chambi.jpg
END:VEVENT
BEGIN:VEVENT
DTSTART;TZID=Africa/Dar_es_Salaam:20260308T000000
DTEND;TZID=Africa/Dar_es_Salaam:20260309T020000
DTSTAMP:20260423T194932
CREATED:20260306T091811Z
LAST-MODIFIED:20260306T091811Z
UID:14685-1772928000-1773021600@udadisi.com
SUMMARY:RSVP: Book Talk - Women Resist War
DESCRIPTION:
URL:https://udadisi.com/event/rsvp-book-talk-women-resist-war/
CATEGORIES:Book,Discussion,Talk
ATTACH;FMTTYPE=image/jpeg:https://udadisi.com/wp-content/uploads/2026/03/sankofa.jpg
END:VEVENT
BEGIN:VEVENT
DTSTART;TZID=Africa/Dar_es_Salaam:20260226T142000
DTEND;TZID=Africa/Dar_es_Salaam:20260226T145000
DTSTAMP:20260423T194932
CREATED:20260218T103802Z
LAST-MODIFIED:20260218T103802Z
UID:14598-1772115600-1772117400@udadisi.com
SUMMARY:Fireside Chat: From Research to Revenue - A Market Success Story
DESCRIPTION:
URL:https://udadisi.com/event/fireside-chat-from-research-to-revenue-a-market-success-story/
CATEGORIES:Dialogue,Discussion,Forum,Session,Talk
ATTACH;FMTTYPE=image/jpeg:https://udadisi.com/wp-content/uploads/2026/02/innovationWeek.jpg
END:VEVENT
BEGIN:VEVENT
DTSTART;TZID=Africa/Dar_es_Salaam:20250413T160000
DTEND;TZID=Africa/Dar_es_Salaam:20250413T180000
DTSTAMP:20260423T194932
CREATED:20250412T030907Z
LAST-MODIFIED:20250412T031939Z
UID:13623-1744560000-1744567200@udadisi.com
SUMMARY:Mazungumzo na Profesa Ibrahim Noor Shariff
DESCRIPTION:
URL:https://udadisi.com/event/mazungumzo-na-prof-ibrahim-noor-shariff/
CATEGORIES:Discussion,Talk
ATTACH;FMTTYPE=image/jpeg:https://udadisi.com/wp-content/uploads/2025/04/GoQt5LFWkAAAQXm.jpeg
END:VEVENT
BEGIN:VEVENT
DTSTART;TZID=America/New_York:20250228T130000
DTEND;TZID=America/New_York:20250228T143000
DTSTAMP:20260423T194932
CREATED:20250225T022222Z
LAST-MODIFIED:20250225T022222Z
UID:13599-1740747600-1740753000@udadisi.com
SUMMARY:Gods\, Kings\, and Missionaries: Religious Legacies of Ancient African States
DESCRIPTION:
URL:https://udadisi.com/event/gods-kings-and-missionaries-religious-legacies-of-ancient-african-states/
CATEGORIES:Lecture,Talk
ATTACH;FMTTYPE=image/jpeg:https://udadisi.com/wp-content/uploads/2025/02/Howard_CManda_Poster_FINALEST-2.jpg
END:VEVENT
BEGIN:VEVENT
DTSTART;TZID=Africa/Dar_es_Salaam:20240404T190000
DTEND;TZID=Africa/Dar_es_Salaam:20240404T210000
DTSTAMP:20260423T194932
CREATED:20240403T030402Z
LAST-MODIFIED:20240403T030402Z
UID:13319-1712257200-1712264400@udadisi.com
SUMMARY:Kalam Salam: Wasifu
DESCRIPTION:
URL:https://udadisi.com/event/kalam-salam-wasifu/
CATEGORIES:Book,Dialogue,Discussion,Event,Networking,Talk
ATTACH;FMTTYPE=image/jpeg:https://udadisi.com/wp-content/uploads/2024/04/GJrCqedWIAAWAIh.jpeg
END:VEVENT
BEGIN:VEVENT
DTSTART;TZID=Africa/Dar_es_Salaam:20240130T140000
DTEND;TZID=Africa/Dar_es_Salaam:20240130T173000
DTSTAMP:20260423T194932
CREATED:20240119T024515Z
LAST-MODIFIED:20240119T024515Z
UID:13259-1706623200-1706635800@udadisi.com
SUMMARY:Book Presentation on 'Learning Morality\, Inequalities\, and Faith: Christian and Muslim Schools in Tanzania'
DESCRIPTION:
URL:https://udadisi.com/event/book-presentation-on-learning-morality-inequalities-and-faith-christian-and-muslim-schools-in-tanzania/
CATEGORIES:Seminar,Talk
ATTACH;FMTTYPE=image/jpeg:https://udadisi.com/wp-content/uploads/2024/01/3-scaled.jpeg
END:VEVENT
BEGIN:VEVENT
DTSTART;TZID=Africa/Dar_es_Salaam:20231123T150000
DTEND;TZID=Africa/Dar_es_Salaam:20231123T150000
DTSTAMP:20260423T194932
CREATED:20231122T223902Z
LAST-MODIFIED:20231122T223902Z
UID:13074-1700751600-1700751600@udadisi.com
SUMMARY:Nafasi Academy 2023
DESCRIPTION:
URL:https://udadisi.com/event/nafasi-academy-2023/
CATEGORIES:Online,Talk
ATTACH;FMTTYPE=image/jpeg:https://udadisi.com/wp-content/uploads/2023/11/20231123_013713.jpg
END:VEVENT
BEGIN:VEVENT
DTSTART;TZID=Africa/Dar_es_Salaam:20231026T180000
DTEND;TZID=Africa/Dar_es_Salaam:20231026T180000
DTSTAMP:20260423T194932
CREATED:20231023T234420Z
LAST-MODIFIED:20231023T234420Z
UID:12966-1698343200-1698343200@udadisi.com
SUMMARY:The Culture Catch Up: Introducing Mutanu Kyany'a
DESCRIPTION:
URL:https://udadisi.com/event/the-culture-catch-up-introducing-mutanu-kyanya/
CATEGORIES:Online,Talk
ATTACH;FMTTYPE=image/jpeg:https://udadisi.com/wp-content/uploads/2023/10/20231024_023821.jpg
END:VEVENT
BEGIN:VEVENT
DTSTART;TZID=Africa/Dar_es_Salaam:20230923T080000
DTEND;TZID=Africa/Dar_es_Salaam:20230923T160000
DTSTAMP:20260423T194932
CREATED:20230922T215437Z
LAST-MODIFIED:20230922T215437Z
UID:12864-1695456000-1695484800@udadisi.com
SUMMARY:Wolves in Sheep's Clothing
DESCRIPTION:
URL:https://udadisi.com/event/wolves-in-sheeps-clothing/
CATEGORIES:Seminar,Talk
ATTACH;FMTTYPE=image/jpeg:https://udadisi.com/wp-content/uploads/2023/09/20230923_004106.jpg
END:VEVENT
BEGIN:VEVENT
DTSTART;TZID=Africa/Dar_es_Salaam:20230704T080000
DTEND;TZID=Africa/Dar_es_Salaam:20230704T170000
DTSTAMP:20260423T194932
CREATED:20230703T133326Z
LAST-MODIFIED:20230703T133326Z
UID:12654-1688457600-1688490000@udadisi.com
SUMMARY:Maadhimisho ya Siku ya Kiswahili Duniani
DESCRIPTION:
URL:https://udadisi.com/event/maadhimisho-ya-siku-ya-kiswahili-duniani/
CATEGORIES:Dialogue,Discussion,Talk,Workshop
ATTACH;FMTTYPE=image/jpeg:https://udadisi.com/wp-content/uploads/2023/07/20230702_222749.jpg
END:VEVENT
BEGIN:VEVENT
DTSTART;TZID=Africa/Dar_es_Salaam:20230222T140000
DTEND;TZID=Africa/Dar_es_Salaam:20230222T140000
DTSTAMP:20260423T194932
CREATED:20230221T133054Z
LAST-MODIFIED:20230221T133054Z
UID:12392-1677074400-1677074400@udadisi.com
SUMMARY:TANZANIA AND CHINA RELATIONS: CHINA’s DYNAMIC ZERO- COVID POLICY
DESCRIPTION:
URL:https://udadisi.com/event/tanzania-and-china-relations-chinas-dynamic-zero-covid-policy/
CATEGORIES:Dialogue,Online,Talk
ATTACH;FMTTYPE=image/jpeg:https://udadisi.com/wp-content/uploads/2023/02/FpZVGNPXEAEVqrz.jpg
END:VEVENT
BEGIN:VEVENT
DTSTART;TZID=Africa/Dar_es_Salaam:20230127T170000
DTEND;TZID=Africa/Dar_es_Salaam:20230127T170000
DTSTAMP:20260423T194932
CREATED:20230124T152303Z
LAST-MODIFIED:20230124T152303Z
UID:12345-1674838800-1674838800@udadisi.com
SUMMARY:Sahara Ventures Space: Founders Meet Up
DESCRIPTION:
URL:https://udadisi.com/event/sahara-ventures-space-founders-meet-up/
CATEGORIES:Event,Talk
ATTACH;FMTTYPE=image/jpeg:https://udadisi.com/wp-content/uploads/2023/01/FnOYwWtWYAAgl6V.jpg
END:VEVENT
BEGIN:VEVENT
DTSTART;TZID=Africa/Dar_es_Salaam:20221208T150000
DTEND;TZID=Africa/Dar_es_Salaam:20221208T180000
DTSTAMP:20260423T194932
CREATED:20221208T105133Z
LAST-MODIFIED:20221208T105133Z
UID:12230-1670511600-1670522400@udadisi.com
SUMMARY:UJASIRIAMALI TANZANIA: Changamoto\, Mazingira na Fursa
DESCRIPTION:
URL:https://udadisi.com/event/ujasiriamali-tanzania-changamoto-mazingira-na-fursa/
CATEGORIES:Book,Discussion,Talk
ATTACH;FMTTYPE=image/jpeg:https://udadisi.com/wp-content/uploads/2022/12/20221208_133334.jpg
END:VEVENT
BEGIN:VEVENT
DTSTART;TZID=Africa/Dar_es_Salaam:20221026T160000
DTEND;TZID=Africa/Dar_es_Salaam:20221026T160000
DTSTAMP:20260423T194932
CREATED:20221025T082004Z
LAST-MODIFIED:20221025T082004Z
UID:12084-1666800000-1666800000@udadisi.com
SUMMARY:HOW PUBLISHING WORKS: A Candid Overview of How the Publishing Industry Works\, Plus the Trends and Challenges Shaping its Future
DESCRIPTION:
URL:https://udadisi.com/event/how-publishing-works-a-candid-overview-of-how-the-publishing-industry-works-plus-the-trends-and-challenges-shaping-its-future/
CATEGORIES:Online,Talk,Workshop
ATTACH;FMTTYPE=image/jpeg:https://udadisi.com/wp-content/uploads/2022/10/FfwdtuoWYAY6WV5.jpg
END:VEVENT
BEGIN:VEVENT
DTSTART;TZID=Africa/Dar_es_Salaam:20220701T180000
DTEND;TZID=Africa/Dar_es_Salaam:20220701T193000
DTSTAMP:20260423T194932
CREATED:20220630T161434Z
LAST-MODIFIED:20220630T161434Z
UID:10929-1656698400-1656703800@udadisi.com
SUMMARY:SAUTI ZETU SPACES: Tunawezaje Kuongeza Ushiriki wa Wananchi katika Kuchochea Mabadiliko ya Sheria ya Ndoa ya Mwaka 1971?
DESCRIPTION:
URL:https://udadisi.com/event/sauti-zetu-spaces-tunawezaje-kuongeza-ushiriki-wa-wananchi-katika-kuchochea-mabadiliko-ya-sheria-ya-ndoa-ya-mwaka-1971/
CATEGORIES:Discussion,Online,Talk
ATTACH;FMTTYPE=image/jpeg:https://udadisi.com/wp-content/uploads/2022/06/Sauti-Zetu.jpg
END:VEVENT
BEGIN:VEVENT
DTSTART;TZID=Africa/Nairobi:20220622T180000
DTEND;TZID=Africa/Nairobi:20220622T200000
DTSTAMP:20260423T194932
CREATED:20220622T125442Z
LAST-MODIFIED:20220622T125442Z
UID:10879-1655920800-1655928000@udadisi.com
SUMMARY:The Future of Education
DESCRIPTION:
URL:https://udadisi.com/event/the-future-of-education/
CATEGORIES:Networking,Research,Talk
ATTACH;FMTTYPE=image/jpeg:https://udadisi.com/wp-content/uploads/2022/06/Future-of-education.jpg
END:VEVENT
BEGIN:VEVENT
DTSTART;TZID=Africa/Dar_es_Salaam:20220425T170000
DTEND;TZID=Africa/Dar_es_Salaam:20220425T183000
DTSTAMP:20260423T194932
CREATED:20220425T035230Z
LAST-MODIFIED:20220425T035230Z
UID:10779-1650906000-1650911400@udadisi.com
SUMMARY:Neoliberalism\, Militarization and Shifting Geopolitics in Africa
DESCRIPTION:
URL:https://udadisi.com/event/neoliberalism-militarization-and-shifting-geopolitics-in-africa/
CATEGORIES:Online,Talk
ATTACH;FMTTYPE=image/jpeg:https://udadisi.com/wp-content/uploads/2022/04/April-25.jpg
ORGANIZER;CN="Institute of African Studies (IAS) - Carleton University":MAILTO:african_studies@carleton.ca
END:VEVENT
BEGIN:VEVENT
DTSTART;TZID=UTC:20220406T190000
DTEND;TZID=UTC:20220406T190000
DTSTAMP:20260423T194932
CREATED:20220404T143730Z
LAST-MODIFIED:20220404T143730Z
UID:10617-1649271600-1649271600@udadisi.com
SUMMARY:African Women Breaking Barriers
DESCRIPTION:
URL:https://udadisi.com/event/african-women-breaking-barriers/
CATEGORIES:Online,Talk
ATTACH;FMTTYPE=image/jpeg:https://udadisi.com/wp-content/uploads/2022/04/FPTZy2SXoAU-G6W.jpg
END:VEVENT
BEGIN:VEVENT
DTSTART;TZID=UTC:20220323T140000
DTEND;TZID=UTC:20220323T210000
DTSTAMP:20260423T194932
CREATED:20220323T085629Z
LAST-MODIFIED:20220323T085629Z
UID:10540-1648044000-1648069200@udadisi.com
SUMMARY:Discussion On How Africa Should Respond to The Ukraine Crisis
DESCRIPTION:
URL:https://udadisi.com/event/discussion-on-how-africa-should-respond-to-the-ukraine-crisis/
CATEGORIES:Online,Talk
ATTACH;FMTTYPE=image/jpeg:https://udadisi.com/wp-content/uploads/2022/03/g_Kbm17p.jpg
END:VEVENT
BEGIN:VEVENT
DTSTART;TZID=UTC:20220317T170000
DTEND;TZID=UTC:20220317T200000
DTSTAMP:20260423T194932
CREATED:20220317T085555Z
LAST-MODIFIED:20220317T085555Z
UID:10467-1647536400-1647547200@udadisi.com
SUMMARY:African Tea Time is Back This Thursday
DESCRIPTION:
URL:https://udadisi.com/event/african-tea-time-is-back-this-thursday/
CATEGORIES:Online,Talk
ATTACH;FMTTYPE=image/jpeg:https://udadisi.com/wp-content/uploads/2022/03/FN7CUJ6X0AAYyk9.jpg
END:VEVENT
BEGIN:VEVENT
DTSTART;TZID=UTC:20220316T090000
DTEND;TZID=UTC:20220316T230000
DTSTAMP:20260423T194932
CREATED:20220317T084324Z
LAST-MODIFIED:20220317T084324Z
UID:10463-1647421200-1647471600@udadisi.com
SUMMARY:CSW66 Side Event: "Securing Women’s & Girls’ LandRights For a Climate Just & Economically Sustainable Future."
DESCRIPTION:
URL:https://udadisi.com/event/csw66-side-event-securing-womens-girls-landrights-for-a-climate-just-economically-sustainable-future/
CATEGORIES:Forum,Talk,Webinar
ATTACH;FMTTYPE=image/jpeg:https://udadisi.com/wp-content/uploads/2022/03/FN9U5n5WYAISv2A.jpg
END:VEVENT
BEGIN:VEVENT
DTSTART;TZID=UTC:20220312T090000
DTEND;TZID=UTC:20220312T090000
DTSTAMP:20260423T194932
CREATED:20220314T063352Z
LAST-MODIFIED:20220314T063352Z
UID:10350-1647075600-1647075600@udadisi.com
SUMMARY:Mkutano Wa Waziri Na Wadau wa Vitabu (12th March 2022)
DESCRIPTION:
URL:https://udadisi.com/event/mkutano-wa-waziri-na-wadau-wa-vitabu-12th-march-2022/
LOCATION:University of Dodoma\, Dodoma\, Tanzania\, United Republic of
CATEGORIES:Forum,Talk
ATTACH;FMTTYPE=image/jpeg:https://udadisi.com/wp-content/uploads/2022/03/FNZUYURXsAA77O5.jpg
END:VEVENT
BEGIN:VEVENT
DTSTART;TZID=Africa/Dar_es_Salaam:20220308T170000
DTEND;TZID=Africa/Dar_es_Salaam:20220308T213000
DTSTAMP:20260423T194932
CREATED:20220215T101146Z
LAST-MODIFIED:20220215T113508Z
UID:9983-1646758800-1646775000@udadisi.com
SUMMARY:#TheCitizenRisingWoman Celebrating women in leadership March 8th at Serena Hotel. "Equality today for a sustainable tomorrow"
DESCRIPTION:
URL:https://udadisi.com/event/thecitizenrisingwoman-celebrating-women-in-leadership-march-8th-at-serena-hotel-equality-today-for-a-sustainable-tomorrow/
LOCATION:SERENA HOTEL\, Ohio street\, Dar es Salaam\, Tanzania\, United Republic of
CATEGORIES:Symposium,Talk
ATTACH;FMTTYPE=image/jpeg:https://udadisi.com/wp-content/uploads/2022/02/FLkL5kiWQAQ4Auo.jpg
END:VEVENT
BEGIN:VEVENT
DTSTART;TZID=Africa/Dar_es_Salaam:20220308T080000
DTEND;TZID=Africa/Dar_es_Salaam:20220308T110000
DTSTAMP:20260423T194932
CREATED:20220228T133426Z
LAST-MODIFIED:20220228T133426Z
UID:10116-1646726400-1646737200@udadisi.com
SUMMARY:Women in Energy Breakfast
DESCRIPTION:
URL:https://udadisi.com/event/women-in-energy-breakfast/
LOCATION:SERENA HOTEL\, Ohio street\, Dar es Salaam\, Tanzania\, United Republic of
CATEGORIES:Conference,Talk
ATTACH;FMTTYPE=image/jpeg:https://udadisi.com/wp-content/uploads/2022/02/FMhHdO8WQAMGL2X.jpg
END:VEVENT
BEGIN:VEVENT
DTSTART;TZID=Africa/Dar_es_Salaam:20220305T093000
DTEND;TZID=Africa/Dar_es_Salaam:20220305T120000
DTSTAMP:20260423T194932
CREATED:20220228T124452Z
LAST-MODIFIED:20220228T124452Z
UID:10095-1646472600-1646481600@udadisi.com
SUMMARY:Girls In Tech: Panel Discussion
DESCRIPTION:  \n 
URL:https://udadisi.com/event/girls-in-tech-panel-discussion/
LOCATION:Epsilon\, Mkwawa road\, Dar Es Salaam\, Tanzania\, United Republic of
CATEGORIES:Talk
ATTACH;FMTTYPE=image/jpeg:https://udadisi.com/wp-content/uploads/2022/02/FMgbYXyXwAME5ou-_1_.jpg
END:VEVENT
BEGIN:VEVENT
DTSTART;VALUE=DATE:20220303
DTEND;VALUE=DATE:20220304
DTSTAMP:20260423T194932
CREATED:20220304T124103Z
LAST-MODIFIED:20220304T124103Z
UID:10175-1646265600-1646351999@udadisi.com
SUMMARY:African Studies Speaker Series event
DESCRIPTION:
URL:https://udadisi.com/event/african-studies-speaker-series-event/
CATEGORIES:Application,Talk
ATTACH;FMTTYPE=image/jpeg:https://udadisi.com/wp-content/uploads/2022/03/FMyu5iyWYAgxtWS.jpg
END:VEVENT
BEGIN:VEVENT
DTSTART;TZID=Africa/Dar_es_Salaam:20220228T080000
DTEND;TZID=Africa/Dar_es_Salaam:20220228T170000
DTSTAMP:20260423T194932
CREATED:20220228T132740Z
LAST-MODIFIED:20220228T132740Z
UID:10112-1646035200-1646067600@udadisi.com
SUMMARY:Conversation with Nanjala Nyabola about how tech transforms the public sphere.
DESCRIPTION:
URL:https://udadisi.com/event/conversation-with-nanjala-nyabola-about-how-tech-transforms-the-public-sphere/
CATEGORIES:Application,Online,Talk
ATTACH;FMTTYPE=image/jpeg:https://udadisi.com/wp-content/uploads/2022/02/FMogwwTXoAgGfe8.jpg
END:VEVENT
BEGIN:VEVENT
DTSTART;VALUE=DATE:20210922
DTEND;VALUE=DATE:20210923
DTSTAMP:20260423T194932
CREATED:20210907T081552Z
LAST-MODIFIED:20210907T081552Z
UID:9009-1632268800-1632355199@udadisi.com
SUMMARY:Call for Speakers: TEDx Majengo Event
DESCRIPTION:
URL:https://udadisi.com/event/call-for-speakers-tedx-majengo-event/
CATEGORIES:Talk
ATTACH;FMTTYPE=image/jpeg:https://udadisi.com/wp-content/uploads/2021/09/238856952_907701423163854_5321069498349840746_n.jpg
END:VEVENT
END:VCALENDAR