BEGIN:VCALENDAR
VERSION:2.0
PRODID:-//Udadisi - ECPv6.15.13//NONSGML v1.0//EN
CALSCALE:GREGORIAN
METHOD:PUBLISH
X-WR-CALNAME:Udadisi
X-ORIGINAL-URL:https://udadisi.com
X-WR-CALDESC:Events for Udadisi
REFRESH-INTERVAL;VALUE=DURATION:PT1H
X-Robots-Tag:noindex
X-PUBLISHED-TTL:PT1H
BEGIN:VTIMEZONE
TZID:Africa/Dar_es_Salaam
BEGIN:STANDARD
TZOFFSETFROM:+0300
TZOFFSETTO:+0300
TZNAME:EAT
DTSTART:20250101T000000
END:STANDARD
END:VTIMEZONE
BEGIN:VEVENT
DTSTART;VALUE=DATE:20260422
DTEND;VALUE=DATE:20260427
DTSTAMP:20260423T083739
CREATED:20251230T170415Z
LAST-MODIFIED:20260105T183518Z
UID:14166-1776816000-1777247999@udadisi.com
SUMMARY:CFA: Writing Workshop 2026 “Peace\, Democracy and Green Energy”
DESCRIPTION:
URL:https://udadisi.com/event/cfa-writing-workshop-2026-peace-democracy-and-green-energy/
CATEGORIES:Application,Workshop
ATTACH;FMTTYPE=image/jpeg:https://udadisi.com/wp-content/uploads/2025/12/miasa2-1.jpg
END:VEVENT
BEGIN:VEVENT
DTSTART;TZID=Africa/Dar_es_Salaam:20260423T100000
DTEND;TZID=Africa/Dar_es_Salaam:20260423T122000
DTSTAMP:20260423T083739
CREATED:20260420T075438Z
LAST-MODIFIED:20260420T075438Z
UID:15112-1776938400-1776946800@udadisi.com
SUMMARY:INVITATION: Artificial Intelligence (AI) Workshop
DESCRIPTION:
URL:https://udadisi.com/event/invitation-artificial-intelligence-ai-workshop/
CATEGORIES:Seminar,Webinar,Workshop
ATTACH;FMTTYPE=image/jpeg:https://udadisi.com/wp-content/uploads/2026/04/AIWorkshop.jpg
END:VEVENT
BEGIN:VEVENT
DTSTART;VALUE=DATE:20260424
DTEND;VALUE=DATE:20260425
DTSTAMP:20260423T083739
CREATED:20260323T042849Z
LAST-MODIFIED:20260323T042849Z
UID:14837-1776988800-1777075199@udadisi.com
SUMMARY:CFS: The Weavers Forum – Call for Papers\, Creative Works & Movement Sessions
DESCRIPTION:
URL:https://udadisi.com/event/cfs-the-weavers-forum-call-for-papers-creative-works-movement-sessions/
CATEGORIES:Proposal,Submission
ATTACH;FMTTYPE=image/jpeg:https://udadisi.com/wp-content/uploads/2026/03/The-Weavers-Forum.jpg
END:VEVENT
BEGIN:VEVENT
DTSTART;VALUE=DATE:20260424
DTEND;VALUE=DATE:20260425
DTSTAMP:20260423T083739
CREATED:20260420T063927Z
LAST-MODIFIED:20260420T063927Z
UID:15098-1776988800-1777075199@udadisi.com
SUMMARY:CFA: Consultancy Opportunities at CIVICUS
DESCRIPTION:
URL:https://udadisi.com/event/cfa-consultancy-opportunities-at-civicus/
CATEGORIES:Application,Consultancy
ATTACH;FMTTYPE=image/jpeg:https://udadisi.com/wp-content/uploads/2026/04/CIVICUS.jpg
END:VEVENT
BEGIN:VEVENT
DTSTART;VALUE=DATE:20260426
DTEND;VALUE=DATE:20260427
DTSTAMP:20260423T083739
CREATED:20260404T114248Z
LAST-MODIFIED:20260404T114248Z
UID:14986-1777161600-1777247999@udadisi.com
SUMMARY:CFA: The East African Community Regional Education Conference 2026
DESCRIPTION:
URL:https://udadisi.com/event/cfa-the-east-african-community-regional-education-conference-2026/
CATEGORIES:Application,Conference
ATTACH;FMTTYPE=image/jpeg:https://udadisi.com/wp-content/uploads/2026/04/EAREC2026.jpg
END:VEVENT
BEGIN:VEVENT
DTSTART;TZID=Africa/Dar_es_Salaam:20260426T133000
DTEND;TZID=Africa/Dar_es_Salaam:20260426T173000
DTSTAMP:20260423T083739
CREATED:20260420T072500Z
LAST-MODIFIED:20260420T072500Z
UID:15105-1777210200-1777224600@udadisi.com
SUMMARY:INVITATION: Together in Christ Sports Bonanza
DESCRIPTION:
URL:https://udadisi.com/event/invitation-together-in-christ-sports-bonanza/
CATEGORIES:Event,Networking,Sports
ATTACH;FMTTYPE=image/jpeg:https://udadisi.com/wp-content/uploads/2026/04/ChristBonanza.jpg
END:VEVENT
BEGIN:VEVENT
DTSTART;VALUE=DATE:20260430
DTEND;VALUE=DATE:20260501
DTSTAMP:20260423T083739
CREATED:20260129T114238Z
LAST-MODIFIED:20260129T114238Z
UID:14499-1777507200-1777593599@udadisi.com
SUMMARY:CFA: Australia Awards Scholarships in Africa
DESCRIPTION:
URL:https://udadisi.com/event/cfa-australia-awards-scholarships-in-africa/
CATEGORIES:Application,Funding,Scholarship
ATTACH;FMTTYPE=image/jpeg:https://udadisi.com/wp-content/uploads/2026/01/Australia.jpg
END:VEVENT
BEGIN:VEVENT
DTSTART;VALUE=DATE:20260430
DTEND;VALUE=DATE:20260501
DTSTAMP:20260423T083739
CREATED:20260308T122449Z
LAST-MODIFIED:20260308T122449Z
UID:14709-1777507200-1777593599@udadisi.com
SUMMARY:CFA: 3rd Biennial "Africa in the Global Economy" Conference
DESCRIPTION:
URL:https://udadisi.com/event/cfa-3rd-biennial-africa-in-the-global-economy-conference/
CATEGORIES:Conference,Proposal,Submission
ATTACH;FMTTYPE=image/jpeg:https://udadisi.com/wp-content/uploads/2026/03/IDOS.jpg
END:VEVENT
BEGIN:VEVENT
DTSTART;VALUE=DATE:20260430
DTEND;VALUE=DATE:20260501
DTSTAMP:20260423T083739
CREATED:20260315T171019Z
LAST-MODIFIED:20260315T171213Z
UID:14777-1777507200-1777593599@udadisi.com
SUMMARY:CFA: STIAS Fellowships for Second Semester Cohort 2027
DESCRIPTION:
URL:https://udadisi.com/event/cfa-stias-fellowships-for-second-semester-2027/
CATEGORIES:Application,Fellowship
ATTACH;FMTTYPE=image/jpeg:https://udadisi.com/wp-content/uploads/2026/03/stias.jpg
END:VEVENT
BEGIN:VEVENT
DTSTART;VALUE=DATE:20260430
DTEND;VALUE=DATE:20260501
DTSTAMP:20260423T083739
CREATED:20260404T053520Z
LAST-MODIFIED:20260404T053520Z
UID:14919-1777507200-1777593599@udadisi.com
SUMMARY:CFS: Innovating Education in Africa 2026
DESCRIPTION:
URL:https://udadisi.com/event/cfs-innovating-education-in-africa-2026/
CATEGORIES:Proposal,Submission
ATTACH;FMTTYPE=image/jpeg:https://udadisi.com/wp-content/uploads/2026/04/AU_Education.jpg
END:VEVENT
BEGIN:VEVENT
DTSTART;VALUE=DATE:20260430
DTEND;VALUE=DATE:20260501
DTSTAMP:20260423T083739
CREATED:20260404T055136Z
LAST-MODIFIED:20260404T055136Z
UID:14926-1777507200-1777593599@udadisi.com
SUMMARY:CFP: African Women in Media 10th Annual Conference and Global Forum 2026
DESCRIPTION:
URL:https://udadisi.com/event/cfp-african-women-in-media-10th-annual-conference-and-global-forum-2026/
CATEGORIES:Conference,Forum,Proposal,Submission
ATTACH;FMTTYPE=image/png:https://udadisi.com/wp-content/uploads/2026/04/AWM.png
END:VEVENT
BEGIN:VEVENT
DTSTART;VALUE=DATE:20260430
DTEND;VALUE=DATE:20260501
DTSTAMP:20260423T083739
CREATED:20260404T062200Z
LAST-MODIFIED:20260404T062200Z
UID:14932-1777507200-1777593599@udadisi.com
SUMMARY:CFA: Life of Pachamama COP31 Fellowship Program
DESCRIPTION:
URL:https://udadisi.com/event/cfa-life-of-pachamama-cop31-fellowship-program/
CATEGORIES:Application,Fellowship,Funding,Networking
ATTACH;FMTTYPE=image/jpeg:https://udadisi.com/wp-content/uploads/2026/04/pachamama.jpg
END:VEVENT
BEGIN:VEVENT
DTSTART;VALUE=DATE:20260430
DTEND;VALUE=DATE:20260501
DTSTAMP:20260423T083739
CREATED:20260404T064152Z
LAST-MODIFIED:20260404T093706Z
UID:14935-1777507200-1777593599@udadisi.com
SUMMARY:CFA: Energy Efficiency Hackathon 2026
DESCRIPTION:
URL:https://udadisi.com/event/cfa-energy-efficiency-hackathon-2026/
CATEGORIES:Application,Competition,Funding
ATTACH;FMTTYPE=image/jpeg:https://udadisi.com/wp-content/uploads/2026/04/HTW-scaled.jpg
END:VEVENT
BEGIN:VEVENT
DTSTART;VALUE=DATE:20260430
DTEND;VALUE=DATE:20260501
DTSTAMP:20260423T083739
CREATED:20260404T085030Z
LAST-MODIFIED:20260404T085030Z
UID:14943-1777507200-1777593599@udadisi.com
SUMMARY:CFA: National Medical Congress 2026
DESCRIPTION:
URL:https://udadisi.com/event/cfa-national-medical-congress-2026/
CATEGORIES:Conference,Proposal,Submission
ATTACH;FMTTYPE=image/jpeg:https://udadisi.com/wp-content/uploads/2026/04/NMC.jpg
END:VEVENT
BEGIN:VEVENT
DTSTART;VALUE=DATE:20260430
DTEND;VALUE=DATE:20260501
DTSTAMP:20260423T083739
CREATED:20260408T104856Z
LAST-MODIFIED:20260408T105217Z
UID:15052-1777507200-1777593599@udadisi.com
SUMMARY:CFA: Post-Graduate Admissions 2026/2027 - Makerere University
DESCRIPTION:
URL:https://udadisi.com/event/cfa-post-graduate-admissions-makerere-university/
CATEGORIES:Application,Course
ATTACH;FMTTYPE=image/jpeg:https://udadisi.com/wp-content/uploads/2026/04/makerere-2.jpg
END:VEVENT
BEGIN:VEVENT
DTSTART;VALUE=DATE:20260501
DTEND;VALUE=DATE:20260502
DTSTAMP:20260423T083739
CREATED:20260315T161204Z
LAST-MODIFIED:20260315T161204Z
UID:14763-1777593600-1777679999@udadisi.com
SUMMARY:CFA: East African Research and Training with the Transient Array Radio Telescope (TART)
DESCRIPTION:
URL:https://udadisi.com/event/cfa-east-african-research-and-training-with-the-transient-array-radio-telescope-tart/
CATEGORIES:Application,Research,Training,Workshop
ATTACH;FMTTYPE=image/jpeg:https://udadisi.com/wp-content/uploads/2026/03/kenyaspace-scaled.jpg
END:VEVENT
BEGIN:VEVENT
DTSTART;VALUE=DATE:20260501
DTEND;VALUE=DATE:20260502
DTSTAMP:20260423T083739
CREATED:20260324T170458Z
LAST-MODIFIED:20260324T170458Z
UID:14847-1777593600-1777679999@udadisi.com
SUMMARY:CFA: 4th COMESA-IRSK Annual Conference
DESCRIPTION:
URL:https://udadisi.com/event/cfa-4th-comesa-irsk-annual-conference/
CATEGORIES:Conference,Proposal,Submission
ATTACH;FMTTYPE=image/jpeg:https://udadisi.com/wp-content/uploads/2026/03/IRSK.jpg
END:VEVENT
BEGIN:VEVENT
DTSTART;VALUE=DATE:20260501
DTEND;VALUE=DATE:20260502
DTSTAMP:20260423T083739
CREATED:20260326T113548Z
LAST-MODIFIED:20260326T113548Z
UID:14880-1777593600-1777679999@udadisi.com
SUMMARY:CFA: 7th CODESRIA/ZASB Summer School in African Studies and Area Studies in Africa
DESCRIPTION:
URL:https://udadisi.com/event/cfa-7th-codesria-zasb-summer-school-in-african-studies-and-area-studies-in-africa/
CATEGORIES:Application,Funding,Summer School
ATTACH;FMTTYPE=image/png:https://udadisi.com/wp-content/uploads/2026/03/Summer-School-2026.png
END:VEVENT
BEGIN:VEVENT
DTSTART;VALUE=DATE:20260504
DTEND;VALUE=DATE:20260505
DTSTAMP:20260423T083739
CREATED:20260420T062931Z
LAST-MODIFIED:20260420T062931Z
UID:15094-1777852800-1777939199@udadisi.com
SUMMARY:CFA: DAAD PhD Proposal Writing Workshop
DESCRIPTION:
URL:https://udadisi.com/event/cfa-daad-phd-proposal-writing-workshop/
CATEGORIES:Application,Proposal,Workshop
ATTACH;FMTTYPE=image/jpeg:https://udadisi.com/wp-content/uploads/2026/04/DaadKenya.jpg
END:VEVENT
BEGIN:VEVENT
DTSTART;TZID=Africa/Dar_es_Salaam:20260504T110000
DTEND;TZID=Africa/Dar_es_Salaam:20260508T190000
DTSTAMP:20260423T083739
CREATED:20260315T165209Z
LAST-MODIFIED:20260315T170109Z
UID:14769-1777892400-1778266800@udadisi.com
SUMMARY:CFR: African BioGenome Project (AfricaBP) Open Institute for Genomics and Bioinformatics West Africa Regional Workshop 2026
DESCRIPTION:
URL:https://udadisi.com/event/cfr-african-biogenome-project-africabp-open-institute-west-africa-regional-workshop-2026/
CATEGORIES:Registration,Workshop
ATTACH;FMTTYPE=image/jpeg:https://udadisi.com/wp-content/uploads/2026/03/AfricaBP-2-scaled.jpg
END:VEVENT
BEGIN:VEVENT
DTSTART;VALUE=DATE:20260505
DTEND;VALUE=DATE:20260506
DTSTAMP:20260423T083739
CREATED:20260406T123817Z
LAST-MODIFIED:20260406T123817Z
UID:15038-1777939200-1778025599@udadisi.com
SUMMARY:VACANCY: Board Members - ProjeKt Inspire
DESCRIPTION:
URL:https://udadisi.com/event/vacancy-board-members-projekt-inspire/
CATEGORIES:Application,Job
ATTACH;FMTTYPE=image/jpeg:https://udadisi.com/wp-content/uploads/2026/04/inspire.jpg
END:VEVENT
BEGIN:VEVENT
DTSTART;VALUE=DATE:20260507
DTEND;VALUE=DATE:20260508
DTSTAMP:20260423T083739
CREATED:20260326T111349Z
LAST-MODIFIED:20260326T111349Z
UID:14871-1778112000-1778198399@udadisi.com
SUMMARY:CFP: Africa and Latin America - Shared Heritages\, Solidarities (and) Entangled Futures
DESCRIPTION:
URL:https://udadisi.com/event/cfp-africa-and-latin-america-shared-heritages-solidarities-and-entangled-futures/
CATEGORIES:Proposal,Submission
ATTACH;FMTTYPE=image/jpeg:https://udadisi.com/wp-content/uploads/2026/03/LASA.jpg
END:VEVENT
BEGIN:VEVENT
DTSTART;VALUE=DATE:20260508
DTEND;VALUE=DATE:20260509
DTSTAMP:20260423T083739
CREATED:20260406T105559Z
LAST-MODIFIED:20260406T110913Z
UID:15011-1778198400-1778284799@udadisi.com
SUMMARY:CFA: Scientific Conference 2026 - Leveraging Quality Health Care in Tanzania
DESCRIPTION:
URL:https://udadisi.com/event/cfa-scientific-conference-2026-leveraging-quality-health-care-in-tanzania/
CATEGORIES:Conference,Proposal,Submission
ATTACH;FMTTYPE=image/jpeg:https://udadisi.com/wp-content/uploads/2026/04/sc2026-1.jpg
END:VEVENT
BEGIN:VEVENT
DTSTART;VALUE=DATE:20260510
DTEND;VALUE=DATE:20260511
DTSTAMP:20260423T083739
CREATED:20260315T195208Z
LAST-MODIFIED:20260315T195208Z
UID:14796-1778371200-1778457599@udadisi.com
SUMMARY:CFP: Re-imagining Today and Tomorrow - Gen Z and Popular Struggles in Africa
DESCRIPTION:
URL:https://udadisi.com/event/cfp-re-imagining-today-and-tomorrow-gen-z-and-popular-struggles-in-africa/
CATEGORIES:Conference,Proposal,Submission
ATTACH;FMTTYPE=image/jpeg:https://udadisi.com/wp-content/uploads/2026/03/CoSS.jpg
END:VEVENT
BEGIN:VEVENT
DTSTART;VALUE=DATE:20260515
DTEND;VALUE=DATE:20260516
DTSTAMP:20260423T083739
CREATED:20260219T070247Z
LAST-MODIFIED:20260219T070247Z
UID:14607-1778803200-1778889599@udadisi.com
SUMMARY:CFA: African Youth Research Challenge
DESCRIPTION:
URL:https://udadisi.com/event/cfa-african-youth-research-challenge/
CATEGORIES:Application,Competition,Research
ATTACH;FMTTYPE=image/jpeg:https://udadisi.com/wp-content/uploads/2026/02/youthChallenge-2-scaled.jpg
END:VEVENT
BEGIN:VEVENT
DTSTART;VALUE=DATE:20260515
DTEND;VALUE=DATE:20260516
DTSTAMP:20260423T083739
CREATED:20260326T105826Z
LAST-MODIFIED:20260326T105826Z
UID:14867-1778803200-1778889599@udadisi.com
SUMMARY:CFA: Fully Funded MPhil/PhD Studentship
DESCRIPTION:
URL:https://udadisi.com/event/cfa-fully-funded-mphil-phd-studentship/
CATEGORIES:Application,Funding,Scholarship
ATTACH;FMTTYPE=image/jpeg:https://udadisi.com/wp-content/uploads/2026/03/SOAS.jpg
END:VEVENT
BEGIN:VEVENT
DTSTART;VALUE=DATE:20260515
DTEND;VALUE=DATE:20260516
DTSTAMP:20260423T083739
CREATED:20260404T102305Z
LAST-MODIFIED:20260404T102305Z
UID:14957-1778803200-1778889599@udadisi.com
SUMMARY:CFA: International Parliamentary Scholarship Africa 2027
DESCRIPTION:
URL:https://udadisi.com/event/cfa-international-parliamentary-scholarship-africa-2027/
CATEGORIES:Application,Funding,Scholarship
ATTACH;FMTTYPE=image/jpeg:https://udadisi.com/wp-content/uploads/2026/04/ips.jpg
END:VEVENT
BEGIN:VEVENT
DTSTART;VALUE=DATE:20260515
DTEND;VALUE=DATE:20260516
DTSTAMP:20260423T083739
CREATED:20260404T103319Z
LAST-MODIFIED:20260404T103319Z
UID:14960-1778803200-1778889599@udadisi.com
SUMMARY:CFA: 4th Fisheries and Aquaculture Research for a Vibrant Blue Economy Conference
DESCRIPTION:
URL:https://udadisi.com/event/cfa-4th-fisheries-and-aquaculture-research-for-a-vibrant-blue-economy-conference/
CATEGORIES:Conference,Proposal,Registration,Submission
ATTACH;FMTTYPE=image/jpeg:https://udadisi.com/wp-content/uploads/2026/04/far4vibe.jpg
END:VEVENT
BEGIN:VEVENT
DTSTART;VALUE=DATE:20260515
DTEND;VALUE=DATE:20260516
DTSTAMP:20260423T083739
CREATED:20260420T070958Z
LAST-MODIFIED:20260420T070958Z
UID:15101-1778803200-1778889599@udadisi.com
SUMMARY:CFP: Tanzania at a Crossroads - Politics\, Identity\, and Global Futures Virtual Interdisciplinary Conference
DESCRIPTION:
URL:https://udadisi.com/event/cfp-tanzania-at-a-crossroads-politics-identity-and-global-futures-virtual-interdisciplinary-conference/
CATEGORIES:Conference,Online,Proposal,Submission
ATTACH;FMTTYPE=image/jpeg:https://udadisi.com/wp-content/uploads/2026/04/TaC2.jpg
END:VEVENT
BEGIN:VEVENT
DTSTART;TZID=Africa/Dar_es_Salaam:20260517T150000
DTEND;TZID=Africa/Dar_es_Salaam:20260517T150000
DTSTAMP:20260423T083739
CREATED:20260420T062057Z
LAST-MODIFIED:20260420T062057Z
UID:15091-1779030000-1779030000@udadisi.com
SUMMARY:SAVE THE DATE: Creation Africa Festival
DESCRIPTION:
URL:https://udadisi.com/event/save-the-date-creation-africa-festival/
CATEGORIES:Event,Festival,Networking
ATTACH;FMTTYPE=image/jpeg:https://udadisi.com/wp-content/uploads/2026/04/CAF.jpg
END:VEVENT
END:VCALENDAR