BEGIN:VCALENDAR
VERSION:2.0
PRODID:-//Udadisi - ECPv6.15.13//NONSGML v1.0//EN
CALSCALE:GREGORIAN
METHOD:PUBLISH
X-WR-CALNAME:Udadisi
X-ORIGINAL-URL:https://udadisi.com
X-WR-CALDESC:Events for Udadisi
REFRESH-INTERVAL;VALUE=DURATION:PT1H
X-Robots-Tag:noindex
X-PUBLISHED-TTL:PT1H
BEGIN:VTIMEZONE
TZID:Africa/Dar_es_Salaam
BEGIN:STANDARD
TZOFFSETFROM:+0300
TZOFFSETTO:+0300
TZNAME:EAT
DTSTART:20230101T000000
END:STANDARD
END:VTIMEZONE
BEGIN:VTIMEZONE
TZID:Africa/Lagos
BEGIN:STANDARD
TZOFFSETFROM:+0100
TZOFFSETTO:+0100
TZNAME:WAT
DTSTART:20240101T000000
END:STANDARD
END:VTIMEZONE
BEGIN:VTIMEZONE
TZID:America/New_York
BEGIN:DAYLIGHT
TZOFFSETFROM:-0500
TZOFFSETTO:-0400
TZNAME:EDT
DTSTART:20240310T070000
END:DAYLIGHT
BEGIN:STANDARD
TZOFFSETFROM:-0400
TZOFFSETTO:-0500
TZNAME:EST
DTSTART:20241103T060000
END:STANDARD
BEGIN:DAYLIGHT
TZOFFSETFROM:-0500
TZOFFSETTO:-0400
TZNAME:EDT
DTSTART:20250309T070000
END:DAYLIGHT
BEGIN:STANDARD
TZOFFSETFROM:-0400
TZOFFSETTO:-0500
TZNAME:EST
DTSTART:20251102T060000
END:STANDARD
BEGIN:DAYLIGHT
TZOFFSETFROM:-0500
TZOFFSETTO:-0400
TZNAME:EDT
DTSTART:20260308T070000
END:DAYLIGHT
BEGIN:STANDARD
TZOFFSETFROM:-0400
TZOFFSETTO:-0500
TZNAME:EST
DTSTART:20261101T060000
END:STANDARD
END:VTIMEZONE
BEGIN:VTIMEZONE
TZID:Africa/Johannesburg
BEGIN:STANDARD
TZOFFSETFROM:+0200
TZOFFSETTO:+0200
TZNAME:SAST
DTSTART:20240101T000000
END:STANDARD
END:VTIMEZONE
BEGIN:VEVENT
DTSTART;VALUE=DATE:20250901
DTEND;VALUE=DATE:20250902
DTSTAMP:20260425T234820
CREATED:20250802T125124Z
LAST-MODIFIED:20250802T125124Z
UID:13739-1756684800-1756771199@udadisi.com
SUMMARY:Call for Papers – SMAIAS-ASN Summer School 2026
DESCRIPTION:
URL:https://udadisi.com/event/call-for-papers-smaias-asn-summer-school-2026/
CATEGORIES:Application,Summer School
ATTACH;FMTTYPE=image/jpeg:https://udadisi.com/wp-content/uploads/2025/08/GxWAt_nWIAEKYRF.jpeg
END:VEVENT
BEGIN:VEVENT
DTSTART;TZID=Africa/Lagos:20250823T170000
DTEND;TZID=Africa/Lagos:20250823T170000
DTSTAMP:20260425T234820
CREATED:20250621T101825Z
LAST-MODIFIED:20250621T101825Z
UID:13701-1755968400-1755968400@udadisi.com
SUMMARY:The Black Atlantic Editorial Fellowship
DESCRIPTION:
URL:https://udadisi.com/event/the-black-atlantic-editorial-fellowship/
CATEGORIES:Application,Fellowship
ATTACH;FMTTYPE=image/jpeg:https://udadisi.com/wp-content/uploads/2025/06/Black_Atlantic_Editorial_Fellowship_1750410022_Page_1.jpg
END:VEVENT
BEGIN:VEVENT
DTSTART;TZID=America/New_York:20250817T120000
DTEND;TZID=America/New_York:20250817T150000
DTSTAMP:20260425T234820
CREATED:20250817T081107Z
LAST-MODIFIED:20250817T081107Z
UID:13744-1755432000-1755442800@udadisi.com
SUMMARY:Popsicle Festival
DESCRIPTION:
URL:https://udadisi.com/event/popsicle-festival/
CATEGORIES:Festival
ATTACH;FMTTYPE=image/jpeg:https://udadisi.com/wp-content/uploads/2025/08/GyhU_IyWcAAXtdL.jpg
END:VEVENT
BEGIN:VEVENT
DTSTART;VALUE=DATE:20250729
DTEND;VALUE=DATE:20250730
DTSTAMP:20260425T234820
CREATED:20250723T074007Z
LAST-MODIFIED:20250723T074007Z
UID:13718-1753747200-1753833599@udadisi.com
SUMMARY:Book Launch: 'Living with Cancer' - Prof. Mark Mwandosya
DESCRIPTION:
URL:https://udadisi.com/event/book-launch-living-with-cancer-prof-mark-mwandosya/
CATEGORIES:Book
ATTACH;FMTTYPE=image/jpeg:https://udadisi.com/wp-content/uploads/2025/07/1-1.jpeg
END:VEVENT
BEGIN:VEVENT
DTSTART;VALUE=DATE:20250725
DTEND;VALUE=DATE:20250726
DTSTAMP:20260425T234820
CREATED:20250621T095835Z
LAST-MODIFIED:20250621T095835Z
UID:13692-1753401600-1753487999@udadisi.com
SUMMARY:Women in Innovation & Technology Forum 2025
DESCRIPTION:
URL:https://udadisi.com/event/women-in-innovation-technology-forum-2025/
CATEGORIES:Ceremony
ATTACH;FMTTYPE=image/jpeg:https://udadisi.com/wp-content/uploads/2025/06/1-2.jpeg
END:VEVENT
BEGIN:VEVENT
DTSTART;VALUE=DATE:20250719
DTEND;VALUE=DATE:20250720
DTSTAMP:20260425T234820
CREATED:20250707T145057Z
LAST-MODIFIED:20250707T145057Z
UID:13707-1752883200-1752969599@udadisi.com
SUMMARY:Africa Rising Symposium
DESCRIPTION:
URL:https://udadisi.com/event/africa-rising-symposium/
CATEGORIES:Symposium
ATTACH;FMTTYPE=image/png:https://udadisi.com/wp-content/uploads/2025/07/1.png
END:VEVENT
BEGIN:VEVENT
DTSTART;VALUE=DATE:20250625
DTEND;VALUE=DATE:20250629
DTSTAMP:20260425T234820
CREATED:20240628T234034Z
LAST-MODIFIED:20240628T234034Z
UID:13469-1750809600-1751155199@udadisi.com
SUMMARY:The 10th European Conference of African Studies
DESCRIPTION:
URL:https://udadisi.com/event/the-10th-european-conference-of-african-studies/
CATEGORIES:Conference
ATTACH;FMTTYPE=image/jpeg:https://udadisi.com/wp-content/uploads/2024/06/1-4.jpeg
END:VEVENT
BEGIN:VEVENT
DTSTART;VALUE=DATE:20250623
DTEND;VALUE=DATE:20250624
DTSTAMP:20260425T234820
CREATED:20250621T100339Z
LAST-MODIFIED:20250621T100339Z
UID:13695-1750636800-1750723199@udadisi.com
SUMMARY:CFA: Voices from the South: Storytelling For Impact
DESCRIPTION:
URL:https://udadisi.com/event/cfa-voices-from-the-south-storytelling-for-impact/
CATEGORIES:Application,Training
ATTACH;FMTTYPE=image/jpeg:https://udadisi.com/wp-content/uploads/2025/06/2.jpeg
END:VEVENT
BEGIN:VEVENT
DTSTART;TZID=Africa/Dar_es_Salaam:20250618T080000
DTEND;TZID=Africa/Dar_es_Salaam:20250618T170000
DTSTAMP:20260425T234820
CREATED:20250612T080944Z
LAST-MODIFIED:20250612T080944Z
UID:13684-1750233600-1750266000@udadisi.com
SUMMARY:CHIA Innovation Awards 2025
DESCRIPTION:
URL:https://udadisi.com/event/chia-innovation-awards-2025/
CATEGORIES:Application,Award
ATTACH;FMTTYPE=image/jpeg:https://udadisi.com/wp-content/uploads/2025/06/1.jpeg
END:VEVENT
BEGIN:VEVENT
DTSTART;VALUE=DATE:20250618
DTEND;VALUE=DATE:20250619
DTSTAMP:20260425T234820
CREATED:20250612T081646Z
LAST-MODIFIED:20250612T081646Z
UID:13687-1750204800-1750291199@udadisi.com
SUMMARY:Tanzania Health Summit 2025
DESCRIPTION:
URL:https://udadisi.com/event/tanzania-health-summit-2025/
CATEGORIES:Application,Summit
ATTACH;FMTTYPE=image/jpeg:https://udadisi.com/wp-content/uploads/2025/06/1-1.jpeg
END:VEVENT
BEGIN:VEVENT
DTSTART;TZID=Africa/Dar_es_Salaam:20250531T110000
DTEND;TZID=Africa/Dar_es_Salaam:20250531T160000
DTSTAMP:20260425T234820
CREATED:20250503T131429Z
LAST-MODIFIED:20250503T131429Z
UID:13656-1748689200-1748707200@udadisi.com
SUMMARY:Feminist Markets at Soma Book Cafe
DESCRIPTION:
URL:https://udadisi.com/event/feminist-markets-at-soma-book-cafe/
ATTACH;FMTTYPE=image/jpeg:https://udadisi.com/wp-content/uploads/2025/05/1.jpeg
END:VEVENT
BEGIN:VEVENT
DTSTART;VALUE=DATE:20250531
DTEND;VALUE=DATE:20250601
DTSTAMP:20260425T234820
CREATED:20250516T112535Z
LAST-MODIFIED:20250516T112535Z
UID:13676-1748649600-1748735999@udadisi.com
SUMMARY:Proposal to Host an IUIS In-person Immunology Course in 2026
DESCRIPTION:
URL:https://udadisi.com/event/proposal-to-host-an-iuis-in-person-immunology-course-in-2026/
ATTACH;FMTTYPE=image/jpeg:https://udadisi.com/wp-content/uploads/2025/05/1-1.jpeg
END:VEVENT
BEGIN:VEVENT
DTSTART;VALUE=DATE:20250521
DTEND;VALUE=DATE:20250523
DTSTAMP:20260425T234820
CREATED:20250414T052642Z
LAST-MODIFIED:20250414T052642Z
UID:13639-1747785600-1747958399@udadisi.com
SUMMARY:International Conference in Celebration of Professor Paul Tiyambe Zeleza’s 70th Birthday
DESCRIPTION:
URL:https://udadisi.com/event/international-conference-in-celebration-of-professor-paul-tiyambe-zelezas-70th-birthday/
CATEGORIES:Conference
ATTACH;FMTTYPE=image/png:https://udadisi.com/wp-content/uploads/2025/04/Screenshot-2025-04-14-at-1.22.57 AM.png
END:VEVENT
BEGIN:VEVENT
DTSTART;VALUE=DATE:20250507
DTEND;VALUE=DATE:20250510
DTSTAMP:20260425T234820
CREATED:20250213T094335Z
LAST-MODIFIED:20250225T022648Z
UID:13592-1746576000-1746835199@udadisi.com
SUMMARY:Conference & Exhibition on Digital Education\, Training & Skills Development
DESCRIPTION:
URL:https://udadisi.com/event/conference-exhibition-on-digital-education-training-skills-development/
CATEGORIES:Conference,Exhibition
ATTACH;FMTTYPE=image/jpeg:https://udadisi.com/wp-content/uploads/2025/02/GjgWTeJXoAAKR8G.jpeg
END:VEVENT
BEGIN:VEVENT
DTSTART;VALUE=DATE:20250429
DTEND;VALUE=DATE:20250503
DTSTAMP:20260425T234820
CREATED:20250414T052114Z
LAST-MODIFIED:20250414T052114Z
UID:13636-1745884800-1746230399@udadisi.com
SUMMARY:Academic Freedom in Africa
DESCRIPTION:
URL:https://udadisi.com/event/academic-freedom-in-africa/
CATEGORIES:Conference
ATTACH;FMTTYPE=image/png:https://udadisi.com/wp-content/uploads/2025/04/Academic-Freedom-Call-1.png
END:VEVENT
BEGIN:VEVENT
DTSTART;TZID=Africa/Dar_es_Salaam:20250413T160000
DTEND;TZID=Africa/Dar_es_Salaam:20250413T180000
DTSTAMP:20260425T234820
CREATED:20250412T030907Z
LAST-MODIFIED:20250412T031939Z
UID:13623-1744560000-1744567200@udadisi.com
SUMMARY:Mazungumzo na Profesa Ibrahim Noor Shariff
DESCRIPTION:
URL:https://udadisi.com/event/mazungumzo-na-prof-ibrahim-noor-shariff/
CATEGORIES:Discussion,Talk
ATTACH;FMTTYPE=image/jpeg:https://udadisi.com/wp-content/uploads/2025/04/GoQt5LFWkAAAQXm.jpeg
END:VEVENT
BEGIN:VEVENT
DTSTART;VALUE=DATE:20250413
DTEND;VALUE=DATE:20250414
DTSTAMP:20260425T234820
CREATED:20250412T041402Z
LAST-MODIFIED:20250412T041402Z
UID:13634-1744502400-1744588799@udadisi.com
SUMMARY:Tuzo ya Taifa ya Mwalimu Nyerere ya Uandishi Bunifu
DESCRIPTION:
URL:https://udadisi.com/event/tuzo-ya-taifa-ya-mwalimu-nyerere-ya-uandishi-bunifu-3/
CATEGORIES:Award,Book,Ceremony
ATTACH;FMTTYPE=image/jpeg:https://udadisi.com/wp-content/uploads/2025/04/GoTmIrLXsAE3CDi.jpeg
END:VEVENT
BEGIN:VEVENT
DTSTART;VALUE=DATE:20250410
DTEND;VALUE=DATE:20250411
DTSTAMP:20260425T234820
CREATED:20250314T082236Z
LAST-MODIFIED:20250314T082236Z
UID:13610-1744243200-1744329599@udadisi.com
SUMMARY:Call for Application: Research Support for PhD and MA Students
DESCRIPTION:
URL:https://udadisi.com/event/call-for-application-research-support-for-phd-and-ma-students/
CATEGORIES:Application,Grant,Scholarship
ATTACH;FMTTYPE=image/jpeg:https://udadisi.com/wp-content/uploads/2025/03/GlYWfxxWoAAQ1es.jpeg
END:VEVENT
BEGIN:VEVENT
DTSTART;VALUE=DATE:20250331
DTEND;VALUE=DATE:20250401
DTSTAMP:20260425T234820
CREATED:20250314T090425Z
LAST-MODIFIED:20250314T090425Z
UID:13619-1743379200-1743465599@udadisi.com
SUMMARY:CFA: MSc Pediatric Hematology and Oncology Fellowship Program
DESCRIPTION:
URL:https://udadisi.com/event/cfa-msc-pediatric-hematology-and-oncology-fellowship-program/
CATEGORIES:Application,Fellowship
ATTACH;FMTTYPE=image/jpeg:https://udadisi.com/wp-content/uploads/2025/03/Gh5jmq3XIAAIvSB.jpeg
END:VEVENT
BEGIN:VEVENT
DTSTART;VALUE=DATE:20250328
DTEND;VALUE=DATE:20250329
DTSTAMP:20260425T234820
CREATED:20250314T081151Z
LAST-MODIFIED:20250314T081151Z
UID:13607-1743120000-1743206399@udadisi.com
SUMMARY:Call for Application: Teaching Assistant for Swahili
DESCRIPTION:
URL:https://udadisi.com/event/call-for-application-teaching-assistant-for-swahili/
CATEGORIES:Application
ATTACH;FMTTYPE=image/jpeg:https://udadisi.com/wp-content/uploads/2025/03/Gl7WANVXkAAwJct.jpeg
END:VEVENT
BEGIN:VEVENT
DTSTART;TZID=Africa/Johannesburg:20250319T183000
DTEND;TZID=Africa/Johannesburg:20250319T203000
DTSTAMP:20260425T234820
CREATED:20250314T083723Z
LAST-MODIFIED:20250314T084527Z
UID:13613-1742409000-1742416200@udadisi.com
SUMMARY:Professor Shose Kessi Inaugural Lecture
DESCRIPTION:
URL:https://udadisi.com/event/professor-shose-kessi-inaugural-lecture/
CATEGORIES:Lecture
ATTACH;FMTTYPE=image/jpeg:https://udadisi.com/wp-content/uploads/2025/03/GkpJ8LwXUAA0mLu.jpeg
END:VEVENT
BEGIN:VEVENT
DTSTART;VALUE=DATE:20250315
DTEND;VALUE=DATE:20250316
DTSTAMP:20260425T234820
CREATED:20250314T084915Z
LAST-MODIFIED:20250314T084915Z
UID:13616-1741996800-1742083199@udadisi.com
SUMMARY:CFP: Towards a Global South School of Thought on Displacement
DESCRIPTION:
URL:https://udadisi.com/event/cfp-towards-a-global-south-school-of-thought-on-displacement/
CATEGORIES:Application,Webinar
ATTACH;FMTTYPE=image/jpeg:https://udadisi.com/wp-content/uploads/2025/03/GlYWfxxWoAAQ1es-1.jpeg
END:VEVENT
BEGIN:VEVENT
DTSTART;VALUE=DATE:20250315
DTEND;VALUE=DATE:20250316
DTSTAMP:20260425T234820
CREATED:20241217T114507Z
LAST-MODIFIED:20241217T114507Z
UID:13561-1741996800-1742083199@udadisi.com
SUMMARY:CFS: 6th Biennial Conference of the African Studies Association of Africa
DESCRIPTION:
URL:https://udadisi.com/event/cfs-6th-biennial-conference-of-the-african-studies-association-of-africa/
CATEGORIES:Application,Conference,Event,Submission
ATTACH;FMTTYPE=image/png:https://udadisi.com/wp-content/uploads/2024/12/Screenshot-2024-12-17-at-12.32.16 AM.png
END:VEVENT
BEGIN:VEVENT
DTSTART;TZID=America/New_York:20250228T130000
DTEND;TZID=America/New_York:20250228T143000
DTSTAMP:20260425T234820
CREATED:20250225T022222Z
LAST-MODIFIED:20250225T022222Z
UID:13599-1740747600-1740753000@udadisi.com
SUMMARY:Gods\, Kings\, and Missionaries: Religious Legacies of Ancient African States
DESCRIPTION:
URL:https://udadisi.com/event/gods-kings-and-missionaries-religious-legacies-of-ancient-african-states/
CATEGORIES:Lecture,Talk
ATTACH;FMTTYPE=image/jpeg:https://udadisi.com/wp-content/uploads/2025/02/Howard_CManda_Poster_FINALEST-2.jpg
END:VEVENT
BEGIN:VEVENT
DTSTART;VALUE=DATE:20250226
DTEND;VALUE=DATE:20250227
DTSTAMP:20260425T234820
CREATED:20250213T091936Z
LAST-MODIFIED:20250213T091936Z
UID:13589-1740528000-1740614399@udadisi.com
SUMMARY:CFP: The uses and abuses of political ideas in Africa
DESCRIPTION:
URL:https://udadisi.com/event/cfp-the-uses-and-abuses-of-political-ideas-in-africa/
CATEGORIES:Application,Conference
ATTACH;FMTTYPE=image/jpeg:https://udadisi.com/wp-content/uploads/2025/02/1.jpeg
END:VEVENT
BEGIN:VEVENT
DTSTART;VALUE=DATE:20250220
DTEND;VALUE=DATE:20250221
DTSTAMP:20260425T234820
CREATED:20250131T031038Z
LAST-MODIFIED:20250131T031038Z
UID:13586-1740009600-1740095999@udadisi.com
SUMMARY:Call for Applications: Meaning-Making Research Initiative
DESCRIPTION:
URL:https://udadisi.com/event/call-for-applications-meaning-making-research-initiative/
CATEGORIES:Application,Research
ATTACH;FMTTYPE=image/png:https://udadisi.com/wp-content/uploads/2025/01/Poster-MRI-2.png
END:VEVENT
BEGIN:VEVENT
DTSTART;VALUE=DATE:20250201
DTEND;VALUE=DATE:20250202
DTSTAMP:20260425T234820
CREATED:20241112T004712Z
LAST-MODIFIED:20241112T004712Z
UID:13550-1738368000-1738454399@udadisi.com
SUMMARY:Call for Papers: International Conference in Celebration of Professor Paul Tiyambe Zeleza’s 70th Birthday
DESCRIPTION:
URL:https://udadisi.com/event/call-for-papers-international-conference-in-celebration-of-professor-paul-tiyambe-zelezas-70th-birthday/
ATTACH;FMTTYPE=image/jpeg:https://udadisi.com/wp-content/uploads/2024/11/PTZ-Birthday-Celebration-Flyer.jpg
END:VEVENT
BEGIN:VEVENT
DTSTART;VALUE=DATE:20250125
DTEND;VALUE=DATE:20250126
DTSTAMP:20260425T234820
CREATED:20250114T084356Z
LAST-MODIFIED:20250114T084356Z
UID:13564-1737763200-1737849599@udadisi.com
SUMMARY:Essay Writing Competition
DESCRIPTION:
URL:https://udadisi.com/event/essay-writing-competition/
CATEGORIES:Competition
ATTACH;FMTTYPE=image/jpeg:https://udadisi.com/wp-content/uploads/2025/01/1.jpeg
END:VEVENT
BEGIN:VEVENT
DTSTART;VALUE=DATE:20241231
DTEND;VALUE=DATE:20250101
DTSTAMP:20260425T234820
CREATED:20241121T073045Z
LAST-MODIFIED:20241121T073045Z
UID:13554-1735603200-1735689599@udadisi.com
SUMMARY:Wito wa Kuwasilisha Miswada: Tuzo ya Taifa ya Mwalimu Nyerere ya Uandishi Bunifu
DESCRIPTION:
URL:https://udadisi.com/event/wito-wa-kuwasilisha-miswada-tuzo-ya-taifa-ya-mwalimu-nyerere-ya-uandishi-bunifu/
CATEGORIES:Book,Competition
ATTACH;FMTTYPE=image/jpeg:https://udadisi.com/wp-content/uploads/2024/11/GcVNDyBWoAAIDtb.jpeg
END:VEVENT
BEGIN:VEVENT
DTSTART;VALUE=DATE:20241211
DTEND;VALUE=DATE:20241214
DTSTAMP:20260425T234820
CREATED:20240823T020542Z
LAST-MODIFIED:20240823T020542Z
UID:13493-1733875200-1734134399@udadisi.com
SUMMARY:3RD International TAFORI Scientific Conference 2024
DESCRIPTION:
URL:https://udadisi.com/event/3rd-international-tafori-scientific-conference-2024/
CATEGORIES:Conference
ATTACH;FMTTYPE=image/jpeg:https://udadisi.com/wp-content/uploads/2024/08/4.jpeg
END:VEVENT
END:VCALENDAR