BEGIN:VCALENDAR
VERSION:2.0
PRODID:-//Udadisi - ECPv6.15.13//NONSGML v1.0//EN
CALSCALE:GREGORIAN
METHOD:PUBLISH
X-WR-CALNAME:Udadisi
X-ORIGINAL-URL:https://udadisi.com
X-WR-CALDESC:Events for Udadisi
REFRESH-INTERVAL;VALUE=DURATION:PT1H
X-Robots-Tag:noindex
X-PUBLISHED-TTL:PT1H
BEGIN:VTIMEZONE
TZID:Africa/Dar_es_Salaam
BEGIN:STANDARD
TZOFFSETFROM:+0300
TZOFFSETTO:+0300
TZNAME:EAT
DTSTART:20230101T000000
END:STANDARD
END:VTIMEZONE
BEGIN:VTIMEZONE
TZID:UTC
BEGIN:STANDARD
TZOFFSETFROM:+0000
TZOFFSETTO:+0000
TZNAME:UTC
DTSTART:20230101T000000
END:STANDARD
END:VTIMEZONE
BEGIN:VEVENT
DTSTART;VALUE=DATE:20241001
DTEND;VALUE=DATE:20241002
DTSTAMP:20260426T044523
CREATED:20240823T020243Z
LAST-MODIFIED:20240823T020243Z
UID:13490-1727740800-1727827199@udadisi.com
SUMMARY:Senior and Postdoctoral Fellowships at the Africa Institute
DESCRIPTION:
URL:https://udadisi.com/event/senior-and-postdoctoral-fellowships-at-the-africa-institute/
CATEGORIES:Application,Fellowship
ATTACH;FMTTYPE=image/jpeg:https://udadisi.com/wp-content/uploads/2024/08/3.jpeg
END:VEVENT
BEGIN:VEVENT
DTSTART;VALUE=DATE:20240913
DTEND;VALUE=DATE:20240914
DTSTAMP:20260426T044523
CREATED:20240823T024348Z
LAST-MODIFIED:20240823T024348Z
UID:13504-1726185600-1726271999@udadisi.com
SUMMARY:CAS Conference at the University of Edinburgh: Climate Dynamics and the Politics of a Post-Carbon Africa
DESCRIPTION:
URL:https://udadisi.com/event/cas-conference-at-the-university-of-edinburgh-climate-dynamics-and-the-politics-of-a-post-carbon-africa/
CATEGORIES:Application,Conference
ATTACH;FMTTYPE=image/png:https://udadisi.com/wp-content/uploads/2024/08/Screenshot-2024-08-22-at-10.42.56 PM.png
END:VEVENT
BEGIN:VEVENT
DTSTART;VALUE=DATE:20240909
DTEND;VALUE=DATE:20240910
DTSTAMP:20260426T044523
CREATED:20240823T020922Z
LAST-MODIFIED:20240823T020922Z
UID:13496-1725840000-1725926399@udadisi.com
SUMMARY:Vacancy: Policy researcher - Digital health innovation and governance
DESCRIPTION:
URL:https://udadisi.com/event/vacancy-policy-researcher-digital-health-innovation-and-governance/
CATEGORIES:Application,Consultancy
ATTACH;FMTTYPE=image/jpeg:https://udadisi.com/wp-content/uploads/2024/08/5.jpeg
END:VEVENT
BEGIN:VEVENT
DTSTART;TZID=Africa/Dar_es_Salaam:20240902T160000
DTEND;TZID=Africa/Dar_es_Salaam:20240902T180000
DTSTAMP:20260426T044523
CREATED:20240823T015442Z
LAST-MODIFIED:20240823T015442Z
UID:13483-1725292800-1725300000@udadisi.com
SUMMARY:Genetic Counseling in Africa and Europe Webinar:  Challenges\, Innovations\, and Future Directions
DESCRIPTION:
URL:https://udadisi.com/event/genetic-counseling-in-africa-and-europe-webinar-challenges-innovations-and-future-directions/
CATEGORIES:Webinar
ATTACH;FMTTYPE=image/jpeg:https://udadisi.com/wp-content/uploads/2024/08/1.jpeg
END:VEVENT
BEGIN:VEVENT
DTSTART;VALUE=DATE:20240818
DTEND;VALUE=DATE:20240819
DTSTAMP:20260426T044523
CREATED:20240729T022355Z
LAST-MODIFIED:20240729T022355Z
UID:13480-1723939200-1724025599@udadisi.com
SUMMARY:SMAIAS-ASN SUMMER SCHOOL 2025
DESCRIPTION:
URL:https://udadisi.com/event/smaias-asn-summer-school-2025/
CATEGORIES:Application,Summer School
ATTACH;FMTTYPE=image/jpeg:https://udadisi.com/wp-content/uploads/2024/07/2.jpeg
END:VEVENT
BEGIN:VEVENT
DTSTART;TZID=Africa/Dar_es_Salaam:20240727T090000
DTEND;TZID=Africa/Dar_es_Salaam:20240727T120000
DTSTAMP:20260426T044523
CREATED:20240724T205443Z
LAST-MODIFIED:20240724T205443Z
UID:13477-1722070800-1722081600@udadisi.com
SUMMARY:Uzinduzi wa Hidaya ya Penina Muhando
DESCRIPTION:
URL:https://udadisi.com/event/uzinduzi-wa-hidaya-ya-penina-muhando/
CATEGORIES:Book,Launch
ATTACH;FMTTYPE=image/jpeg:https://udadisi.com/wp-content/uploads/2024/07/Unknown.jpeg
END:VEVENT
BEGIN:VEVENT
DTSTART;VALUE=DATE:20240715
DTEND;VALUE=DATE:20240717
DTSTAMP:20260426T044523
CREATED:20240628T235103Z
LAST-MODIFIED:20240628T235103Z
UID:13472-1721001600-1721174399@udadisi.com
SUMMARY:The 2024 Healthcare Excellence Symposium
DESCRIPTION:
URL:https://udadisi.com/event/the-2024-healthcare-excellence-symposium/
CATEGORIES:Symposium
ATTACH;FMTTYPE=image/jpeg:https://udadisi.com/wp-content/uploads/2024/06/1-5.jpeg
END:VEVENT
BEGIN:VEVENT
DTSTART;VALUE=DATE:20240714
DTEND;VALUE=DATE:20240715
DTSTAMP:20260426T044523
CREATED:20240628T232546Z
LAST-MODIFIED:20240628T232546Z
UID:13460-1720915200-1721001599@udadisi.com
SUMMARY:Certificate in Leadership at Uongozi Institute
DESCRIPTION:
URL:https://udadisi.com/event/certificate-in-leadership-at-uongozi-institute/
CATEGORIES:Course
ATTACH;FMTTYPE=image/jpeg:https://udadisi.com/wp-content/uploads/2024/06/1-1.jpeg
END:VEVENT
BEGIN:VEVENT
DTSTART;VALUE=DATE:20240630
DTEND;VALUE=DATE:20240701
DTSTAMP:20260426T044523
CREATED:20240628T233203Z
LAST-MODIFIED:20240628T233203Z
UID:13463-1719705600-1719791999@udadisi.com
SUMMARY:AYuTe Africa Challenge Tanzania 2024
DESCRIPTION:
URL:https://udadisi.com/event/ayute-africa-challenge-tanzania-2024/
CATEGORIES:Application
ATTACH;FMTTYPE=image/jpeg:https://udadisi.com/wp-content/uploads/2024/06/1-2.jpeg
END:VEVENT
BEGIN:VEVENT
DTSTART;VALUE=DATE:20240630
DTEND;VALUE=DATE:20240701
DTSTAMP:20260426T044523
CREATED:20240503T101900Z
LAST-MODIFIED:20240503T101900Z
UID:13427-1719705600-1719791999@udadisi.com
SUMMARY:Call for Papers: Reclaiming Women’s Play: Gender\, Wellbeing and the Changing African Play Cultures
DESCRIPTION:
URL:https://udadisi.com/event/call-for-papers-reclaiming-womens-play-gender-wellbeing-and-the-changing-african-play-cultures/
CATEGORIES:Submission
ATTACH;FMTTYPE=image/png:https://udadisi.com/wp-content/uploads/2024/05/call-for-papers.png
END:VEVENT
BEGIN:VEVENT
DTSTART;VALUE=DATE:20240627
DTEND;VALUE=DATE:20240629
DTSTAMP:20260426T044523
CREATED:20240430T152754Z
LAST-MODIFIED:20240430T152754Z
UID:13410-1719446400-1719619199@udadisi.com
SUMMARY:TAPA Scientific Conference and 8th Annual General Meeting
DESCRIPTION:
URL:https://udadisi.com/event/tapa-scientific-conference-and-8th-annual-general-meeting/
CATEGORIES:Conference
ATTACH;FMTTYPE=image/jpeg:https://udadisi.com/wp-content/uploads/2024/04/20240430_175536.jpg
END:VEVENT
BEGIN:VEVENT
DTSTART;VALUE=DATE:20240626
DTEND;VALUE=DATE:20240629
DTSTAMP:20260426T044523
CREATED:20240502T155733Z
LAST-MODIFIED:20240502T155733Z
UID:13413-1719360000-1719619199@udadisi.com
SUMMARY:12th Muhas Scientific Conference
DESCRIPTION:
URL:https://udadisi.com/event/12th-muhas-scientific-conference/
CATEGORIES:Conference
ATTACH;FMTTYPE=image/jpeg:https://udadisi.com/wp-content/uploads/2024/04/20240430_175341.jpg
END:VEVENT
BEGIN:VEVENT
DTSTART;VALUE=DATE:20240624
DTEND;VALUE=DATE:20240629
DTSTAMP:20260426T044523
CREATED:20240615T012541Z
LAST-MODIFIED:20240615T012541Z
UID:13453-1719187200-1719619199@udadisi.com
SUMMARY:2024 ISACA Annual Conference: Building Digital Trust: Securing Data and Navigating Risk for Sustainable Innovation
DESCRIPTION:
URL:https://udadisi.com/event/2024-isaca-annual-conference-building-digital-trust-securing-data-and-navigating-risk-for-sustainable-innovation/
LOCATION:Grand Melia\, Arusha\, Tanzania\, United Republic of
CATEGORIES:Conference
ATTACH;FMTTYPE=image/jpeg:https://udadisi.com/wp-content/uploads/2024/06/2.jpeg
END:VEVENT
BEGIN:VEVENT
DTSTART;VALUE=DATE:20240620
DTEND;VALUE=DATE:20240621
DTSTAMP:20260426T044523
CREATED:20240615T011357Z
LAST-MODIFIED:20240615T011357Z
UID:13450-1718841600-1718927999@udadisi.com
SUMMARY:CFP: Creativity\, Innovation and Investment for Economic Sustainability
DESCRIPTION:
URL:https://udadisi.com/event/cfp-creativity-innovation-and-investment-for-economic-sustainability/
CATEGORIES:Conference
ATTACH;FMTTYPE=image/jpeg:https://udadisi.com/wp-content/uploads/2024/06/1.jpeg
END:VEVENT
BEGIN:VEVENT
DTSTART;VALUE=DATE:20240615
DTEND;VALUE=DATE:20240616
DTSTAMP:20260426T044523
CREATED:20240615T010826Z
LAST-MODIFIED:20240615T010826Z
UID:13447-1718409600-1718495999@udadisi.com
SUMMARY:CFP: Building brighter futures: Evidence for children
DESCRIPTION:
URL:https://udadisi.com/event/cfp-building-brighter-futures-evidence-for-children/
CATEGORIES:Conference
ATTACH;FMTTYPE=image/jpeg:https://udadisi.com/wp-content/uploads/2024/06/1.jpg
END:VEVENT
BEGIN:VEVENT
DTSTART;VALUE=DATE:20240610
DTEND;VALUE=DATE:20240613
DTSTAMP:20260426T044523
CREATED:20231228T145906Z
LAST-MODIFIED:20231228T145906Z
UID:13210-1717977600-1718236799@udadisi.com
SUMMARY:Political Ecology Network Conference
DESCRIPTION:
URL:https://udadisi.com/event/political-ecology-network-conference/
CATEGORIES:Conference
ATTACH;FMTTYPE=image/jpeg:https://udadisi.com/wp-content/uploads/2023/12/20231228_175712.jpg
END:VEVENT
BEGIN:VEVENT
DTSTART;TZID=Africa/Dar_es_Salaam:20240604T080000
DTEND;TZID=Africa/Dar_es_Salaam:20240604T120000
DTSTAMP:20260426T044523
CREATED:20240503T090150Z
LAST-MODIFIED:20240503T090150Z
UID:13420-1717488000-1717502400@udadisi.com
SUMMARY:Mwananchi Thought Leadership Forum: Climate Change
DESCRIPTION:
URL:https://udadisi.com/event/mwananchi-thought-leadership-forum-climate-change/
CATEGORIES:Forum
ATTACH;FMTTYPE=image/jpeg:https://udadisi.com/wp-content/uploads/2024/04/20240430_175312.jpg
END:VEVENT
BEGIN:VEVENT
DTSTART;VALUE=DATE:20240601
DTEND;VALUE=DATE:20240602
DTSTAMP:20260426T044523
CREATED:20240404T153048Z
LAST-MODIFIED:20240404T153048Z
UID:13342-1717200000-1717286399@udadisi.com
SUMMARY:Call for applications for the Third Cohort of the Tejumola Olaniyan Creative Writers-in-Residence Fellowship
DESCRIPTION:
URL:https://udadisi.com/event/call-for-applications-for-the-third-cohort-of-the-tejumola-olaniyan-creative-writers-in-residence-fellowship/
CATEGORIES:Application
ATTACH;FMTTYPE=image/jpeg:https://udadisi.com/wp-content/uploads/2024/04/20240404_180834.jpg
END:VEVENT
BEGIN:VEVENT
DTSTART;VALUE=DATE:20240531
DTEND;VALUE=DATE:20240601
DTSTAMP:20260426T044524
CREATED:20240502T160848Z
LAST-MODIFIED:20240511T234950Z
UID:13417-1717113600-1717199999@udadisi.com
SUMMARY:Call for Applications: 6th CODESRIA/CASB Summer School in African Studies and Area Studies in Africa
DESCRIPTION:
URL:https://udadisi.com/event/call-foe-applications-6th-codesria-casb-summer-school-in-african-studies-and-area-studies-in-africa/
CATEGORIES:Application
ATTACH;FMTTYPE=image/png:https://udadisi.com/wp-content/uploads/2024/04/20240430_175454.png
END:VEVENT
BEGIN:VEVENT
DTSTART;TZID=Africa/Dar_es_Salaam:20240523T180000
DTEND;TZID=Africa/Dar_es_Salaam:20240523T193000
DTSTAMP:20260426T044524
CREATED:20240502T160148Z
LAST-MODIFIED:20240502T160148Z
UID:13415-1716487200-1716492600@udadisi.com
SUMMARY:Digital Health and Innovation Webinar Series
DESCRIPTION:
URL:https://udadisi.com/event/digital-health-and-innovation-webinar-series/
CATEGORIES:Online,Webinar
ATTACH;FMTTYPE=image/jpeg:https://udadisi.com/wp-content/uploads/2024/04/20240430_175218.jpg
END:VEVENT
BEGIN:VEVENT
DTSTART;VALUE=DATE:20240512
DTEND;VALUE=DATE:20240513
DTSTAMP:20260426T044524
CREATED:20240430T145923Z
LAST-MODIFIED:20240430T145923Z
UID:13391-1715472000-1715558399@udadisi.com
SUMMARY:Call for Applications: The Mastercard Foundation Edtech Fellowship
DESCRIPTION:
URL:https://udadisi.com/event/call-for-applications-the-mastercard-foundation-edtech-fellowship/
CATEGORIES:Application,Fellowship
ATTACH;FMTTYPE=image/jpeg:https://udadisi.com/wp-content/uploads/2024/04/IMG-20240420-WA0013.jpg
END:VEVENT
BEGIN:VEVENT
DTSTART;VALUE=DATE:20240510
DTEND;VALUE=DATE:20240511
DTSTAMP:20260426T044524
CREATED:20240503T095732Z
LAST-MODIFIED:20240503T095732Z
UID:13422-1715299200-1715385599@udadisi.com
SUMMARY:Call for Applications: Genomics and Bioinformatics
DESCRIPTION:
URL:https://udadisi.com/event/call-for-applications-genomics-and-bioinformatics/
CATEGORIES:Application,Training
ATTACH;FMTTYPE=image/jpeg:https://udadisi.com/wp-content/uploads/2024/04/20240430_175208.jpg
END:VEVENT
BEGIN:VEVENT
DTSTART;VALUE=DATE:20240503
DTEND;VALUE=DATE:20240504
DTSTAMP:20260426T044524
CREATED:20240415T212029Z
LAST-MODIFIED:20240415T212029Z
UID:13380-1714694400-1714780799@udadisi.com
SUMMARY:Call for Applications: Postdoctoral Research Fellow
DESCRIPTION:
URL:https://udadisi.com/event/call-for-applications-postdoctoral-research-fellow/
CATEGORIES:Application,Job
ATTACH;FMTTYPE=image/jpeg:https://udadisi.com/wp-content/uploads/2024/04/Screenshot_20240416_001647_Chrome.jpg
END:VEVENT
BEGIN:VEVENT
DTSTART;VALUE=DATE:20240502
DTEND;VALUE=DATE:20240503
DTSTAMP:20260426T044524
CREATED:20240430T152053Z
LAST-MODIFIED:20240430T152053Z
UID:13401-1714608000-1714694399@udadisi.com
SUMMARY:Usiku wa Shabani Robert
DESCRIPTION:
URL:https://udadisi.com/event/usiku-wa-shabani-robert/
CATEGORIES:Event
ATTACH;FMTTYPE=image/jpeg:https://udadisi.com/wp-content/uploads/2024/04/20240430_175224.jpg
END:VEVENT
BEGIN:VEVENT
DTSTART;VALUE=DATE:20240430
DTEND;VALUE=DATE:20240501
DTSTAMP:20260426T044524
CREATED:20240413T225628Z
LAST-MODIFIED:20240413T225628Z
UID:13368-1714435200-1714521599@udadisi.com
SUMMARY:7 CCNY VISITING RESEARCH FELLOWSHIP
DESCRIPTION:
URL:https://udadisi.com/event/7-ccny-visiting-research-fellowship/
CATEGORIES:Application,Fellowship
ATTACH;FMTTYPE=image/jpeg:https://udadisi.com/wp-content/uploads/2024/04/20240414_015300.jpg
END:VEVENT
BEGIN:VEVENT
DTSTART;VALUE=DATE:20240430
DTEND;VALUE=DATE:20240501
DTSTAMP:20260426T044524
CREATED:20240409T161355Z
LAST-MODIFIED:20240409T161355Z
UID:13359-1714435200-1714521599@udadisi.com
SUMMARY:Call for Applications: Lecturer in African Studies and International Development
DESCRIPTION:
URL:https://udadisi.com/event/call-for-applications-lecturer-in-african-studies-and-international-development/
CATEGORIES:Application,Job
ATTACH;FMTTYPE=image/jpeg:https://udadisi.com/wp-content/uploads/2024/04/Screenshot_20240407_000634_Chrome.jpg
END:VEVENT
BEGIN:VEVENT
DTSTART;TZID=UTC:20240429T090000
DTEND;TZID=UTC:20240429T120000
DTSTAMP:20260426T044524
CREATED:20240427T020913Z
LAST-MODIFIED:20240427T020913Z
UID:13389-1714381200-1714392000@udadisi.com
SUMMARY:Tanzania Immunology Society
DESCRIPTION:
URL:https://udadisi.com/event/tanzania-immunology-society/
CATEGORIES:Webinar
ATTACH;FMTTYPE=image/jpeg:https://udadisi.com/wp-content/uploads/2024/04/IMG-20240425-WA0002.jpg
END:VEVENT
BEGIN:VEVENT
DTSTART;VALUE=DATE:20240427
DTEND;VALUE=DATE:20240428
DTSTAMP:20260426T044524
CREATED:20240404T150104Z
LAST-MODIFIED:20240404T150104Z
UID:13334-1714176000-1714262399@udadisi.com
SUMMARY:Call for Applications:1 PhD and 2 MSc Scholarships under the BASIN Project for the 2024/2025 Academic Year
DESCRIPTION:
URL:https://udadisi.com/event/call-for-applications1-phd-and-2-msc-scholarships-under-the-basin-project-for-the-2024-2025-academic-year/
CATEGORIES:Application,Scholarship
ATTACH;FMTTYPE=image/jpeg:https://udadisi.com/wp-content/uploads/2024/04/20240403_192451.jpg
END:VEVENT
BEGIN:VEVENT
DTSTART;VALUE=DATE:20240420
DTEND;VALUE=DATE:20240421
DTSTAMP:20260426T044524
CREATED:20231130T125527Z
LAST-MODIFIED:20231130T125527Z
UID:13147-1713571200-1713657599@udadisi.com
SUMMARY:Call for Abstracts : ASAUK Conference 2024 "Generation and Regeneration"
DESCRIPTION:
URL:https://udadisi.com/event/call-for-abstracts-asauk-conference-2024-generation-and-regeneration/
CATEGORIES:Conference,Submission
ATTACH;FMTTYPE=image/jpeg:https://udadisi.com/wp-content/uploads/2023/11/20231130_154804.jpg
END:VEVENT
BEGIN:VEVENT
DTSTART;VALUE=DATE:20240419
DTEND;VALUE=DATE:20240420
DTSTAMP:20260426T044524
CREATED:20231130T130210Z
LAST-MODIFIED:20231130T130210Z
UID:13152-1713484800-1713571199@udadisi.com
SUMMARY:Call for Abstract Submission and Registration: Virology Africa 2024
DESCRIPTION:
URL:https://udadisi.com/event/call-for-abstract-submission-and-registration-virology-africa-2024/
CATEGORIES:Submission
ATTACH;FMTTYPE=image/jpeg:https://udadisi.com/wp-content/uploads/2023/11/20231130_155725.jpg
END:VEVENT
END:VCALENDAR